| Back to Multiple platform build/check report for BioC 3.13 |
|
This page was generated on 2021-10-15 15:06:44 -0400 (Fri, 15 Oct 2021).
|
To the developers/maintainers of the ndexr package: - Please allow up to 24 hours (and sometimes 48 hours) for your latest push to git@git.bioconductor.org:packages/ndexr.git to reflect on this report. See How and When does the builder pull? When will my changes propagate? here for more information. - Make sure to use the following settings in order to reproduce any error or warning you see on this page. |
| Package 1255/2041 | Hostname | OS / Arch | INSTALL | BUILD | CHECK | BUILD BIN | ||||||||
| ndexr 1.14.1 (landing page) Florian Auer
| nebbiolo1 | Linux (Ubuntu 20.04.2 LTS) / x86_64 | OK | OK | OK | |||||||||
| tokay2 | Windows Server 2012 R2 Standard / x64 | OK | OK | OK | OK | |||||||||
| machv2 | macOS 10.14.6 Mojave / x86_64 | OK | OK | OK | OK | |||||||||
| Package: ndexr |
| Version: 1.14.1 |
| Command: /Library/Frameworks/R.framework/Versions/Current/Resources/bin/R CMD build --keep-empty-dirs --no-resave-data ndexr |
| StartedAt: 2021-10-14 13:31:07 -0400 (Thu, 14 Oct 2021) |
| EndedAt: 2021-10-14 13:31:22 -0400 (Thu, 14 Oct 2021) |
| EllapsedTime: 15.2 seconds |
| RetCode: 0 |
| Status: OK |
| PackageFile: ndexr_1.14.1.tar.gz |
| PackageFileSize: 365.5 KiB |
##############################################################################
##############################################################################
###
### Running command:
###
### /Library/Frameworks/R.framework/Versions/Current/Resources/bin/R CMD build --keep-empty-dirs --no-resave-data ndexr
###
##############################################################################
##############################################################################
* checking for file ‘ndexr/DESCRIPTION’ ... OK
* preparing ‘ndexr’:
* checking DESCRIPTION meta-information ... OK
* installing the package to build vignettes
* creating vignettes ... OK
Warning: ‘inst/doc’ files
‘ndexr-vignette.Rmd’, ‘ndexr-vignette.html’, ‘ndexr-vignette.R’
ignored as vignettes have been rebuilt.
Run R CMD build with --no-build-vignettes to prevent rebuilding.
* excluding invalid files
Subdirectory 'R' contains invalid file names:
‘ndex_api_config.yml’
* checking for LF line-endings in source and make files and shell scripts
* checking for empty or unneeded directories
WARNING: Removing directory ‘ndexr/Meta’ which should only occur in an
installed package
* building ‘ndexr_1.14.1.tar.gz’