| Back to Multiple platform build/check report for BioC 3.13 |
|
This page was generated on 2021-10-15 15:06:10 -0400 (Fri, 15 Oct 2021).
|
To the developers/maintainers of the maanova package: - Please allow up to 24 hours (and sometimes 48 hours) for your latest push to git@git.bioconductor.org:packages/maanova.git to reflect on this report. See How and When does the builder pull? When will my changes propagate? here for more information. - Make sure to use the following settings in order to reproduce any error or warning you see on this page. |
| Package 1012/2041 | Hostname | OS / Arch | INSTALL | BUILD | CHECK | BUILD BIN | ||||||||
| maanova 1.62.0 (landing page) Keith Sheppard
| nebbiolo1 | Linux (Ubuntu 20.04.2 LTS) / x86_64 | OK | OK | OK | |||||||||
| tokay2 | Windows Server 2012 R2 Standard / x64 | OK | OK | OK | OK | |||||||||
| machv2 | macOS 10.14.6 Mojave / x86_64 | OK | OK | WARNINGS | OK | |||||||||
| Package: maanova |
| Version: 1.62.0 |
| Command: rm -rf maanova.buildbin-libdir && mkdir maanova.buildbin-libdir && C:\Users\biocbuild\bbs-3.13-bioc\R\bin\R.exe CMD INSTALL --merge-multiarch --build --library=maanova.buildbin-libdir maanova_1.62.0.tar.gz |
| StartedAt: 2021-10-15 10:08:19 -0400 (Fri, 15 Oct 2021) |
| EndedAt: 2021-10-15 10:09:51 -0400 (Fri, 15 Oct 2021) |
| EllapsedTime: 92.5 seconds |
| RetCode: 0 |
| Status: OK |
| PackageFile: maanova_1.62.0.zip |
| PackageFileSize: 1.302 MiB |
##############################################################################
##############################################################################
###
### Running command:
###
### rm -rf maanova.buildbin-libdir && mkdir maanova.buildbin-libdir && C:\Users\biocbuild\bbs-3.13-bioc\R\bin\R.exe CMD INSTALL --merge-multiarch --build --library=maanova.buildbin-libdir maanova_1.62.0.tar.gz
###
##############################################################################
##############################################################################
install for i386
* installing *source* package 'maanova' ...
** using staged installation
** libs
"C:/rtools40/mingw32/bin/"gcc -I"C:/Users/BIOCBU~1/BBS-3~1.13-/R/include" -DNDEBUG -I"c:/extsoft/include" -O2 -Wall -std=gnu99 -mfpmath=sse -msse2 -mstackrealign -c makeratio.c -o makeratio.o
"C:/rtools40/mingw32/bin/"gcc -I"C:/Users/BIOCBU~1/BBS-3~1.13-/R/include" -DNDEBUG -I"c:/extsoft/include" -O2 -Wall -std=gnu99 -mfpmath=sse -msse2 -mstackrealign -c masvd.c -o masvd.o
masvd.c:114:2: warning: "/*" within comment [-Wcomment]
/* work on a copy of x */
masvd.c:154:1: warning: "/*" within comment [-Wcomment]
/*#ifndef IEEE_754
masvd.c:161:5: warning: "/*" within comment [-Wcomment]
/* work on a copy of x */
masvd.c:165:2: warning: "/*" within comment [-Wcomment]
/* ask for optimal size of work array */
masvd.c:189:2: warning: "/*" within comment [-Wcomment]
/* ask for optimal size of work array */
"C:/rtools40/mingw32/bin/"gcc -I"C:/Users/BIOCBU~1/BBS-3~1.13-/R/include" -DNDEBUG -I"c:/extsoft/include" -O2 -Wall -std=gnu99 -mfpmath=sse -msse2 -mstackrealign -c shift.c -o shift.o
shift.c: In function 'shift':
shift.c:27:13: warning: unused variable 'k' [-Wunused-variable]
int i, j, k;
^
"C:/rtools40/mingw32/bin/"gcc -I"C:/Users/BIOCBU~1/BBS-3~1.13-/R/include" -DNDEBUG -I"c:/extsoft/include" -O2 -Wall -std=gnu99 -mfpmath=sse -msse2 -mstackrealign -c util.c -o util.o
C:/rtools40/mingw32/bin/gcc -shared -s -static-libgcc -o maanova.dll tmp.def makeratio.o masvd.o shift.o util.o -LC:/Users/BIOCBU~1/BBS-3~1.13-/R/bin/i386 -lRlapack -Lc:/extsoft/lib/i386 -Lc:/extsoft/lib -LC:/Users/BIOCBU~1/BBS-3~1.13-/R/bin/i386 -lR
installing to C:/Users/biocbuild/bbs-3.13-bioc/meat/maanova.buildbin-libdir/00LOCK-maanova/00new/maanova/libs/i386
** R
** data
** demo
** inst
** byte-compile and prepare package for lazy loading
** help
*** installing help indices
converting help for package 'maanova'
finding HTML links ... done
PairContrast html
Rmaanova.version html
abf1 html
adjPval html
arrayview html
consensus html
dyeswapfilter html
fill.missing html
fitmaanova html
fom html
geneprofile html
gridcheck html
kidney html
maanova-internal html
macluster html
matest html
read.madata html
resiplot html
riplot html
subset.madata html
summarytable html
transform.madata html
varplot html
volcano html
write.madata html
** building package indices
** installing vignettes
** testing if installed package can be loaded from temporary location
** testing if installed package can be loaded from final location
** testing if installed package keeps a record of temporary installation path
install for x64
* installing *source* package 'maanova' ...
** libs
"C:/rtools40/mingw64/bin/"gcc -I"C:/Users/BIOCBU~1/BBS-3~1.13-/R/include" -DNDEBUG -I"C:/extsoft/include" -O2 -Wall -std=gnu99 -mfpmath=sse -msse2 -mstackrealign -c makeratio.c -o makeratio.o
"C:/rtools40/mingw64/bin/"gcc -I"C:/Users/BIOCBU~1/BBS-3~1.13-/R/include" -DNDEBUG -I"C:/extsoft/include" -O2 -Wall -std=gnu99 -mfpmath=sse -msse2 -mstackrealign -c masvd.c -o masvd.o
masvd.c:114:2: warning: "/*" within comment [-Wcomment]
/* work on a copy of x */
masvd.c:154:1: warning: "/*" within comment [-Wcomment]
/*#ifndef IEEE_754
masvd.c:161:5: warning: "/*" within comment [-Wcomment]
/* work on a copy of x */
masvd.c:165:2: warning: "/*" within comment [-Wcomment]
/* ask for optimal size of work array */
masvd.c:189:2: warning: "/*" within comment [-Wcomment]
/* ask for optimal size of work array */
"C:/rtools40/mingw64/bin/"gcc -I"C:/Users/BIOCBU~1/BBS-3~1.13-/R/include" -DNDEBUG -I"C:/extsoft/include" -O2 -Wall -std=gnu99 -mfpmath=sse -msse2 -mstackrealign -c shift.c -o shift.o
shift.c: In function 'shift':
shift.c:27:13: warning: unused variable 'k' [-Wunused-variable]
int i, j, k;
^
"C:/rtools40/mingw64/bin/"gcc -I"C:/Users/BIOCBU~1/BBS-3~1.13-/R/include" -DNDEBUG -I"C:/extsoft/include" -O2 -Wall -std=gnu99 -mfpmath=sse -msse2 -mstackrealign -c util.c -o util.o
C:/rtools40/mingw64/bin/gcc -shared -s -static-libgcc -o maanova.dll tmp.def makeratio.o masvd.o shift.o util.o -LC:/Users/BIOCBU~1/BBS-3~1.13-/R/bin/x64 -lRlapack -LC:/extsoft/lib/x64 -LC:/extsoft/lib -LC:/Users/BIOCBU~1/BBS-3~1.13-/R/bin/x64 -lR
installing to C:/Users/biocbuild/bbs-3.13-bioc/meat/maanova.buildbin-libdir/maanova/libs/x64
** testing if installed package can be loaded
* MD5 sums
packaged installation of 'maanova' as maanova_1.62.0.zip
* DONE (maanova)