| Back to Multiple platform build/check report for BioC 3.13 |
|
This page was generated on 2021-10-15 15:05:44 -0400 (Fri, 15 Oct 2021).
|
To the developers/maintainers of the maanova package: - Please allow up to 24 hours (and sometimes 48 hours) for your latest push to git@git.bioconductor.org:packages/maanova.git to reflect on this report. See How and When does the builder pull? When will my changes propagate? here for more information. - Make sure to use the following settings in order to reproduce any error or warning you see on this page. |
| Package 1012/2041 | Hostname | OS / Arch | INSTALL | BUILD | CHECK | BUILD BIN | ||||||||
| maanova 1.62.0 (landing page) Keith Sheppard
| nebbiolo1 | Linux (Ubuntu 20.04.2 LTS) / x86_64 | OK | OK | OK | |||||||||
| tokay2 | Windows Server 2012 R2 Standard / x64 | OK | OK | OK | OK | |||||||||
| machv2 | macOS 10.14.6 Mojave / x86_64 | OK | OK | WARNINGS | OK | |||||||||
| Package: maanova |
| Version: 1.62.0 |
| Command: /home/biocbuild/bbs-3.13-bioc/R/bin/R CMD INSTALL maanova |
| StartedAt: 2021-10-14 06:05:38 -0400 (Thu, 14 Oct 2021) |
| EndedAt: 2021-10-14 06:05:48 -0400 (Thu, 14 Oct 2021) |
| EllapsedTime: 10.9 seconds |
| RetCode: 0 |
| Status: OK |
##############################################################################
##############################################################################
###
### Running command:
###
### /home/biocbuild/bbs-3.13-bioc/R/bin/R CMD INSTALL maanova
###
##############################################################################
##############################################################################
* installing to library ‘/home/biocbuild/bbs-3.13-bioc/R/library’
* installing *source* package ‘maanova’ ...
** using staged installation
** libs
gcc -I"/home/biocbuild/bbs-3.13-bioc/R/include" -DNDEBUG -I/usr/local/include -fpic -g -O2 -Wall -c makeratio.c -o makeratio.o
gcc -I"/home/biocbuild/bbs-3.13-bioc/R/include" -DNDEBUG -I/usr/local/include -fpic -g -O2 -Wall -c masvd.c -o masvd.o
masvd.c:114:2: warning: "/*" within comment [-Wcomment]
114 | /* work on a copy of x */
|
masvd.c:154:1: warning: "/*" within comment [-Wcomment]
154 | /*#ifndef IEEE_754
|
masvd.c:161:5: warning: "/*" within comment [-Wcomment]
161 | /* work on a copy of x */
|
masvd.c:165:2: warning: "/*" within comment [-Wcomment]
165 | /* ask for optimal size of work array */
|
masvd.c:189:2: warning: "/*" within comment [-Wcomment]
189 | /* ask for optimal size of work array */
|
gcc -I"/home/biocbuild/bbs-3.13-bioc/R/include" -DNDEBUG -I/usr/local/include -fpic -g -O2 -Wall -c shift.c -o shift.o
shift.c: In function ‘shift’:
shift.c:27:13: warning: unused variable ‘k’ [-Wunused-variable]
27 | int i, j, k;
| ^
gcc -I"/home/biocbuild/bbs-3.13-bioc/R/include" -DNDEBUG -I/usr/local/include -fpic -g -O2 -Wall -c util.c -o util.o
gcc -shared -L/home/biocbuild/bbs-3.13-bioc/R/lib -L/usr/local/lib -o maanova.so makeratio.o masvd.o shift.o util.o -L/home/biocbuild/bbs-3.13-bioc/R/lib -lRlapack -L/home/biocbuild/bbs-3.13-bioc/R/lib -lRblas -lgfortran -lm -lquadmath -L/home/biocbuild/bbs-3.13-bioc/R/lib -lR
installing to /home/biocbuild/bbs-3.13-bioc/R/library/00LOCK-maanova/00new/maanova/libs
** R
** data
** demo
** inst
** byte-compile and prepare package for lazy loading
** help
*** installing help indices
** building package indices
** installing vignettes
** testing if installed package can be loaded from temporary location
** checking absolute paths in shared objects and dynamic libraries
** testing if installed package can be loaded from final location
** testing if installed package keeps a record of temporary installation path
* DONE (maanova)