| Back to Multiple platform build/check report for BioC 3.13 |
|
This page was generated on 2021-10-15 15:06:08 -0400 (Fri, 15 Oct 2021).
|
To the developers/maintainers of the hypeR package: - Please allow up to 24 hours (and sometimes 48 hours) for your latest push to git@git.bioconductor.org:packages/hypeR.git to reflect on this report. See How and When does the builder pull? When will my changes propagate? here for more information. - Make sure to use the following settings in order to reproduce any error or warning you see on this page. |
| Package 883/2041 | Hostname | OS / Arch | INSTALL | BUILD | CHECK | BUILD BIN | ||||||||
| hypeR 1.8.0 (landing page) Anthony Federico
| nebbiolo1 | Linux (Ubuntu 20.04.2 LTS) / x86_64 | OK | OK | ERROR | |||||||||
| tokay2 | Windows Server 2012 R2 Standard / x64 | OK | OK | ERROR | OK | |||||||||
| machv2 | macOS 10.14.6 Mojave / x86_64 | OK | OK | ERROR | OK | |||||||||
| Package: hypeR |
| Version: 1.8.0 |
| Command: rm -rf hypeR.buildbin-libdir && mkdir hypeR.buildbin-libdir && C:\Users\biocbuild\bbs-3.13-bioc\R\bin\R.exe CMD INSTALL --merge-multiarch --build --library=hypeR.buildbin-libdir hypeR_1.8.0.tar.gz |
| StartedAt: 2021-10-15 09:50:55 -0400 (Fri, 15 Oct 2021) |
| EndedAt: 2021-10-15 09:52:25 -0400 (Fri, 15 Oct 2021) |
| EllapsedTime: 90.6 seconds |
| RetCode: 0 |
| Status: OK |
| PackageFile: hypeR_1.8.0.zip |
| PackageFileSize: 654.2 KiB |
##############################################################################
##############################################################################
###
### Running command:
###
### rm -rf hypeR.buildbin-libdir && mkdir hypeR.buildbin-libdir && C:\Users\biocbuild\bbs-3.13-bioc\R\bin\R.exe CMD INSTALL --merge-multiarch --build --library=hypeR.buildbin-libdir hypeR_1.8.0.tar.gz
###
##############################################################################
##############################################################################
install for i386
* installing *source* package 'hypeR' ...
** using staged installation
** R
** inst
** byte-compile and prepare package for lazy loading
** help
*** installing help indices
converting help for package 'hypeR'
finding HTML links ... done
clean_genesets html
dot-check_overlap html
dot-dots_multi_plot html
dot-dots_plot html
dot-enrichment_map html
dot-find_members html
dot-format_str html
dot-github_rds html
dot-hiearchy_map html
dot-hyper_enrichment html
dot-hyperdb_url html
dot-jaccard_similarity html
dot-ks_enrichment html
dot-kstest html
dot-overlap_similarity html
dot-reverselog_trans html
dot-string_args html
enrichr_available html
enrichr_connect html
enrichr_download html
enrichr_gsets html
enrichr_urls html
genesets_Server html
genesets_UI html
ggempty html
ggeplot html
ggvenn html
gsets html
hyp html
hyp_dots html
hyp_emap html
hyp_hmap html
hyp_show html
hyp_to_excel html
hyp_to_rmd html
hyp_to_table html
hypeR html
hyperdb_available html
hyperdb_gsets html
hyperdb_rgsets html
limma html
msigdb_available html
msigdb_check_species html
msigdb_download html
msigdb_gsets html
msigdb_info html
msigdb_species html
msigdb_version html
multihyp html
pvector html
rctbl_build html
rctbl_hyp html
rctbl_mhyp html
rgsets html
wgcna html
** building package indices
** installing vignettes
** testing if installed package can be loaded from temporary location
** testing if installed package can be loaded from final location
** testing if installed package keeps a record of temporary installation path
install for x64
* installing *source* package 'hypeR' ...
** testing if installed package can be loaded
* MD5 sums
packaged installation of 'hypeR' as hypeR_1.8.0.zip
* DONE (hypeR)