| Back to Multiple platform build/check report for BioC 3.13 |
|
This page was generated on 2021-10-15 15:05:43 -0400 (Fri, 15 Oct 2021).
|
To the developers/maintainers of the hypeR package: - Please allow up to 24 hours (and sometimes 48 hours) for your latest push to git@git.bioconductor.org:packages/hypeR.git to reflect on this report. See How and When does the builder pull? When will my changes propagate? here for more information. - Make sure to use the following settings in order to reproduce any error or warning you see on this page. |
| Package 883/2041 | Hostname | OS / Arch | INSTALL | BUILD | CHECK | BUILD BIN | ||||||||
| hypeR 1.8.0 (landing page) Anthony Federico
| nebbiolo1 | Linux (Ubuntu 20.04.2 LTS) / x86_64 | OK | OK | ERROR | |||||||||
| tokay2 | Windows Server 2012 R2 Standard / x64 | OK | OK | ERROR | OK | |||||||||
| machv2 | macOS 10.14.6 Mojave / x86_64 | OK | OK | ERROR | OK | |||||||||
| Package: hypeR |
| Version: 1.8.0 |
| Command: /home/biocbuild/bbs-3.13-bioc/R/bin/R CMD check --install=check:hypeR.install-out.txt --library=/home/biocbuild/bbs-3.13-bioc/R/library --no-vignettes --timings hypeR_1.8.0.tar.gz |
| StartedAt: 2021-10-14 10:13:07 -0400 (Thu, 14 Oct 2021) |
| EndedAt: 2021-10-14 10:15:34 -0400 (Thu, 14 Oct 2021) |
| EllapsedTime: 146.8 seconds |
| RetCode: 1 |
| Status: ERROR |
| CheckDir: hypeR.Rcheck |
| Warnings: NA |
##############################################################################
##############################################################################
###
### Running command:
###
### /home/biocbuild/bbs-3.13-bioc/R/bin/R CMD check --install=check:hypeR.install-out.txt --library=/home/biocbuild/bbs-3.13-bioc/R/library --no-vignettes --timings hypeR_1.8.0.tar.gz
###
##############################################################################
##############################################################################
* using log directory ‘/home/biocbuild/bbs-3.13-bioc/meat/hypeR.Rcheck’
* using R version 4.1.1 (2021-08-10)
* using platform: x86_64-pc-linux-gnu (64-bit)
* using session charset: UTF-8
* using option ‘--no-vignettes’
* checking for file ‘hypeR/DESCRIPTION’ ... OK
* this is package ‘hypeR’ version ‘1.8.0’
* package encoding: UTF-8
* checking package namespace information ... OK
* checking package dependencies ... OK
* checking if this is a source package ... OK
* checking if there is a namespace ... OK
* checking for hidden files and directories ... OK
* checking for portable file names ... OK
* checking for sufficient/correct file permissions ... OK
* checking whether package ‘hypeR’ can be installed ... OK
* checking installed package size ... OK
* checking package directory ... OK
* checking ‘build’ directory ... OK
* checking DESCRIPTION meta-information ... OK
* checking top-level files ... OK
* checking for left-over files ... OK
* checking index information ... OK
* checking package subdirectories ... OK
* checking R files for non-ASCII characters ... OK
* checking R files for syntax errors ... OK
* checking whether the package can be loaded ... OK
* checking whether the package can be loaded with stated dependencies ... OK
* checking whether the package can be unloaded cleanly ... OK
* checking whether the namespace can be loaded with stated dependencies ... OK
* checking whether the namespace can be unloaded cleanly ... OK
* checking dependencies in R code ... OK
* checking S3 generic/method consistency ... OK
* checking replacement functions ... OK
* checking foreign function calls ... OK
* checking R code for possible problems ... NOTE
.dots_multi_plot : <anonymous>: no visible binding for global variable
‘pval’
.dots_multi_plot : <anonymous>: no visible binding for global variable
‘fdr’
.dots_multi_plot : <anonymous>: no visible binding for global variable
‘label’
.dots_multi_plot: no visible global function definition for ‘head’
.dots_multi_plot: no visible binding for global variable ‘significance’
.dots_multi_plot: no visible binding for global variable ‘signature’
.dots_multi_plot: no visible binding for global variable ‘label’
.dots_multi_plot: no visible binding for global variable ‘size’
.dots_plot: no visible binding for global variable ‘pval’
.dots_plot: no visible binding for global variable ‘fdr’
.dots_plot: no visible binding for global variable ‘significance’
.dots_plot: no visible binding for global variable ‘size’
.enrichment_map: no visible binding for global variable ‘pval’
.enrichment_map: no visible binding for global variable ‘fdr’
.find_members: no visible binding for global variable ‘from’
.find_members: no visible binding for global variable ‘to’
.hiearchy_map: no visible binding for global variable ‘pval’
.hiearchy_map: no visible binding for global variable ‘fdr’
.hiearchy_map : <anonymous>: no visible binding for global variable
‘label’
.hyper_enrichment: no visible global function definition for ‘is’
.ks_enrichment: no visible global function definition for ‘is’
enrichr_available: no visible binding for global variable ‘.’
ggvenn: no visible binding for global variable ‘x’
ggvenn: no visible binding for global variable ‘y’
hyp_dots: no visible global function definition for ‘is’
hyp_emap: no visible global function definition for ‘is’
hyp_hmap: no visible global function definition for ‘is’
hyp_show: no visible global function definition for ‘is’
hyp_to_excel: no visible global function definition for ‘is’
hyp_to_rmd: no visible global function definition for ‘is’
hyp_to_rmd : <anonymous>: no visible global function definition for
‘is’
hyp_to_table: no visible global function definition for ‘is’
hyp_to_table: no visible global function definition for ‘write.table’
hypeR: no visible global function definition for ‘is’
hypeR: no visible global function definition for ‘packageVersion’
hypeR: no visible global function definition for ‘head’
msigdb_available: no visible binding for global variable ‘gs_cat’
msigdb_available: no visible binding for global variable ‘gs_subcat’
msigdb_download: no visible binding for global variable ‘gs_name’
msigdb_download: no visible binding for global variable ‘gene_symbol’
msigdb_download: no visible binding for global variable ‘.’
msigdb_version: no visible global function definition for
‘packageVersion’
rctbl_build: no visible global function definition for ‘is’
Undefined global functions or variables:
. fdr from gene_symbol gs_cat gs_name gs_subcat head is label
packageVersion pval signature significance size to write.table x y
Consider adding
importFrom("methods", "is", "signature")
importFrom("utils", "head", "packageVersion", "write.table")
to your NAMESPACE file (and ensure that your DESCRIPTION Imports field
contains 'methods').
* checking Rd files ... OK
* checking Rd metadata ... OK
* checking Rd cross-references ... OK
* checking for missing documentation entries ... OK
* checking for code/documentation mismatches ... OK
* checking Rd \usage sections ... OK
* checking Rd contents ... OK
* checking for unstated dependencies in examples ... OK
* checking files in ‘vignettes’ ... OK
* checking examples ... OK
Examples with CPU (user + system) or elapsed time > 5s
user system elapsed
msigdb_available 20.524 1.472 22.429
* checking for unstated dependencies in ‘tests’ ... OK
* checking tests ...
Running ‘testthat.R’
ERROR
Running the tests in ‘tests/testthat.R’ failed.
Last 13 lines of output:
█
1. ├─hypeR(signature, rgsets_obj, test = "kstest") %>% hyp_dots_tests() test-hyp_dots.R:53:4
2. └─hypeR:::hyp_dots_tests(.)
3. └─testthat::expect_silent(hyp_dots(hyp_obj, title = "title")) test-hyp_dots.R:6:4
── Failure (test-hyp_dots.R:53:5): hyp_dots() is working ───────────────────────
`hyp_dots(hyp_obj, size = TRUE)` produced warnings.
Backtrace:
█
1. ├─hypeR(signature, rgsets_obj, test = "kstest") %>% hyp_dots_tests() test-hyp_dots.R:53:4
2. └─hypeR:::hyp_dots_tests(.)
3. └─testthat::expect_silent(hyp_dots(hyp_obj, size = TRUE)) test-hyp_dots.R:7:4
[ FAIL 36 | WARN 58 | SKIP 0 | PASS 373 ]
Error: Test failures
Execution halted
* checking for unstated dependencies in vignettes ... OK
* checking package vignettes in ‘inst/doc’ ... OK
* checking running R code from vignettes ... SKIPPED
* checking re-building of vignette outputs ... SKIPPED
* checking PDF version of manual ... OK
* DONE
Status: 1 ERROR, 1 NOTE
See
‘/home/biocbuild/bbs-3.13-bioc/meat/hypeR.Rcheck/00check.log’
for details.
hypeR.Rcheck/00install.out
############################################################################## ############################################################################## ### ### Running command: ### ### /home/biocbuild/bbs-3.13-bioc/R/bin/R CMD INSTALL hypeR ### ############################################################################## ############################################################################## * installing to library ‘/home/biocbuild/bbs-3.13-bioc/R/library’ * installing *source* package ‘hypeR’ ... ** using staged installation ** R ** data ** inst ** byte-compile and prepare package for lazy loading ** help *** installing help indices ** building package indices ** installing vignettes ** testing if installed package can be loaded from temporary location ** testing if installed package can be loaded from final location ** testing if installed package keeps a record of temporary installation path * DONE (hypeR)
hypeR.Rcheck/tests/testthat.Rout.fail
R version 4.1.1 (2021-08-10) -- "Kick Things"
Copyright (C) 2021 The R Foundation for Statistical Computing
Platform: x86_64-pc-linux-gnu (64-bit)
R is free software and comes with ABSOLUTELY NO WARRANTY.
You are welcome to redistribute it under certain conditions.
Type 'license()' or 'licence()' for distribution details.
R is a collaborative project with many contributors.
Type 'contributors()' for more information and
'citation()' on how to cite R or R packages in publications.
Type 'demo()' for some demos, 'help()' for on-line help, or
'help.start()' for an HTML browser interface to help.
Type 'q()' to quit R.
> library(testthat)
> library(magrittr)
Attaching package: 'magrittr'
The following objects are masked from 'package:testthat':
equals, is_less_than, not
> library(hypeR)
>
> test_check("hypeR")
Signature 1
Signature 2
Signature 3
Signature 1
Signature 2
Signature 3
Signature 1
Signature 2
Signature 3
Signature 1
Signature 2
Signature 3
Signature 1
Signature 2
Signature 3
Signature 1
Signature 2
Signature 3
Signature 1
Signature 2
Signature 3
Signature 1
Signature 2
Signature 3
Signature 1
Signature 2
Signature 3
Signature 1
Signature 2
Signature 3
Signature 1
Signature 2
Signature 3
inline R code fragments
label: setup (with options)
List of 2
$ echo : logi FALSE
$ message: logi FALSE
ordinary text without R code
label: 1 (with options)
List of 2
$ fig.width: num 8.25
$ fig.align: chr "center"
ordinary text without R code
/usr/bin/pandoc +RTS -K512m -RTS hyp.1.knit.md --to html4 --from markdown+autolink_bare_uris+tex_math_single_backslash --output hyp.1.html --lua-filter /home/biocbuild/bbs-3.13-bioc/R/library/rmarkdown/rmarkdown/lua/pagebreak.lua --lua-filter /home/biocbuild/bbs-3.13-bioc/R/library/rmarkdown/rmarkdown/lua/latex-div.lua --self-contained --variable bs3=TRUE --standalone --section-divs --table-of-contents --toc-depth 1 --variable toc_float=1 --variable toc_selectors=h1 --variable toc_collapsed=1 --variable toc_smooth_scroll=1 --variable toc_print=1 --template /home/biocbuild/bbs-3.13-bioc/R/library/rmarkdown/rmd/h/default.html --no-highlight --variable highlightjs=1 --variable theme=united --include-in-header /tmp/Rtmpl98LRo/rmarkdown-str129ac29f61856.html --mathjax --variable 'mathjax-url:https://mathjax.rstudio.com/latest/MathJax.js?config=TeX-AMS-MML_HTMLorMML' --variable code_folding=hide --variable code_menu=1
Signature 1
Signature 2
Signature 3
inline R code fragments
label: setup (with options)
List of 2
$ echo : logi FALSE
$ message: logi FALSE
ordinary text without R code
label: 1 (with options)
List of 2
$ fig.width: num 8.25
$ fig.align: chr "center"
ordinary text without R code
label: 2 (with options)
List of 2
$ fig.width: num 8.25
$ fig.align: chr "center"
ordinary text without R code
label: 3 (with options)
List of 2
$ fig.width: num 8.25
$ fig.align: chr "center"
ordinary text without R code
/usr/bin/pandoc +RTS -K512m -RTS multihyp.1.knit.md --to html4 --from markdown+autolink_bare_uris+tex_math_single_backslash --output multihyp.1.html --lua-filter /home/biocbuild/bbs-3.13-bioc/R/library/rmarkdown/rmarkdown/lua/pagebreak.lua --lua-filter /home/biocbuild/bbs-3.13-bioc/R/library/rmarkdown/rmarkdown/lua/latex-div.lua --self-contained --variable bs3=TRUE --standalone --section-divs --table-of-contents --toc-depth 1 --variable toc_float=1 --variable toc_selectors=h1 --variable toc_collapsed=1 --variable toc_smooth_scroll=1 --variable toc_print=1 --template /home/biocbuild/bbs-3.13-bioc/R/library/rmarkdown/rmd/h/default.html --no-highlight --variable highlightjs=1 --variable theme=united --include-in-header /tmp/Rtmpl98LRo/rmarkdown-str129ac21d2cf0f6.html --mathjax --variable 'mathjax-url:https://mathjax.rstudio.com/latest/MathJax.js?config=TeX-AMS-MML_HTMLorMML' --variable code_folding=hide --variable code_menu=1
Signature 1
Signature 2
Signature 3
Signature 1
Signature 2
Signature 3
Signature 1
Signature 2
Signature 3
inline R code fragments
label: setup (with options)
List of 2
$ echo : logi FALSE
$ message: logi FALSE
ordinary text without R code
label: 1 (with options)
List of 2
$ fig.width: num 8.25
$ fig.align: chr "center"
ordinary text without R code
label: 2 (with options)
List of 2
$ fig.width: num 8.25
$ fig.align: chr "center"
ordinary text without R code
label: 3 (with options)
List of 2
$ fig.width: num 8.25
$ fig.align: chr "center"
ordinary text without R code
label: 4 (with options)
List of 2
$ fig.width: num 8.25
$ fig.align: chr "center"
ordinary text without R code
label: 5 (with options)
List of 2
$ fig.width: num 8.25
$ fig.align: chr "center"
ordinary text without R code
label: 6 (with options)
List of 2
$ fig.width: num 8.25
$ fig.align: chr "center"
ordinary text without R code
label: 7 (with options)
List of 2
$ fig.width: num 8.25
$ fig.align: chr "center"
ordinary text without R code
label: 8 (with options)
List of 2
$ fig.width: num 8.25
$ fig.align: chr "center"
ordinary text without R code
label: 9 (with options)
List of 2
$ fig.width: num 8.25
$ fig.align: chr "center"
ordinary text without R code
/usr/bin/pandoc +RTS -K512m -RTS lmultihyp.1.knit.md --to html4 --from markdown+autolink_bare_uris+tex_math_single_backslash --output lmultihyp.1.html --lua-filter /home/biocbuild/bbs-3.13-bioc/R/library/rmarkdown/rmarkdown/lua/pagebreak.lua --lua-filter /home/biocbuild/bbs-3.13-bioc/R/library/rmarkdown/rmarkdown/lua/latex-div.lua --self-contained --variable bs3=TRUE --standalone --section-divs --table-of-contents --toc-depth 1 --variable toc_float=1 --variable toc_selectors=h1 --variable toc_collapsed=1 --variable toc_smooth_scroll=1 --variable toc_print=1 --template /home/biocbuild/bbs-3.13-bioc/R/library/rmarkdown/rmd/h/default.html --no-highlight --variable highlightjs=1 --variable theme=united --include-in-header /tmp/Rtmpl98LRo/rmarkdown-str129ac2618f8797.html --mathjax --variable 'mathjax-url:https://mathjax.rstudio.com/latest/MathJax.js?config=TeX-AMS-MML_HTMLorMML' --variable code_folding=hide --variable code_menu=1
inline R code fragments
label: setup (with options)
List of 2
$ echo : logi FALSE
$ message: logi FALSE
ordinary text without R code
label: 1 (with options)
List of 2
$ fig.width: num 8.25
$ fig.align: chr "center"
ordinary text without R code
/usr/bin/pandoc +RTS -K512m -RTS hyp.2.knit.md --to html4 --from markdown+autolink_bare_uris+tex_math_single_backslash --output hyp.2.html --lua-filter /home/biocbuild/bbs-3.13-bioc/R/library/rmarkdown/rmarkdown/lua/pagebreak.lua --lua-filter /home/biocbuild/bbs-3.13-bioc/R/library/rmarkdown/rmarkdown/lua/latex-div.lua --self-contained --variable bs3=TRUE --standalone --section-divs --table-of-contents --toc-depth 1 --variable toc_float=1 --variable toc_selectors=h1 --variable toc_collapsed=1 --variable toc_smooth_scroll=1 --variable toc_print=1 --template /home/biocbuild/bbs-3.13-bioc/R/library/rmarkdown/rmd/h/default.html --no-highlight --variable highlightjs=1 --variable theme=united --include-in-header /tmp/Rtmpl98LRo/rmarkdown-str129ac214fc9a31.html --mathjax --variable 'mathjax-url:https://mathjax.rstudio.com/latest/MathJax.js?config=TeX-AMS-MML_HTMLorMML' --variable code_folding=hide --variable code_menu=1
Signature 1
Signature 2
Signature 3
inline R code fragments
label: setup (with options)
List of 2
$ echo : logi FALSE
$ message: logi FALSE
ordinary text without R code
label: 1 (with options)
List of 2
$ fig.width: num 8.25
$ fig.align: chr "center"
ordinary text without R code
label: 2 (with options)
List of 2
$ fig.width: num 8.25
$ fig.align: chr "center"
ordinary text without R code
label: 3 (with options)
List of 2
$ fig.width: num 8.25
$ fig.align: chr "center"
ordinary text without R code
/usr/bin/pandoc +RTS -K512m -RTS multihyp.2.knit.md --to html4 --from markdown+autolink_bare_uris+tex_math_single_backslash --output multihyp.2.html --lua-filter /home/biocbuild/bbs-3.13-bioc/R/library/rmarkdown/rmarkdown/lua/pagebreak.lua --lua-filter /home/biocbuild/bbs-3.13-bioc/R/library/rmarkdown/rmarkdown/lua/latex-div.lua --self-contained --variable bs3=TRUE --standalone --section-divs --table-of-contents --toc-depth 1 --variable toc_float=1 --variable toc_selectors=h1 --variable toc_collapsed=1 --variable toc_smooth_scroll=1 --variable toc_print=1 --template /home/biocbuild/bbs-3.13-bioc/R/library/rmarkdown/rmd/h/default.html --no-highlight --variable highlightjs=1 --variable theme=united --include-in-header /tmp/Rtmpl98LRo/rmarkdown-str129ac2424ae561.html --mathjax --variable 'mathjax-url:https://mathjax.rstudio.com/latest/MathJax.js?config=TeX-AMS-MML_HTMLorMML' --variable code_folding=hide --variable code_menu=1
Signature 1
Signature 2
Signature 3
Signature 1
Signature 2
Signature 3
Signature 1
Signature 2
Signature 3
inline R code fragments
label: setup (with options)
List of 2
$ echo : logi FALSE
$ message: logi FALSE
ordinary text without R code
label: 1 (with options)
List of 2
$ fig.width: num 8.25
$ fig.align: chr "center"
ordinary text without R code
label: 2 (with options)
List of 2
$ fig.width: num 8.25
$ fig.align: chr "center"
ordinary text without R code
label: 3 (with options)
List of 2
$ fig.width: num 8.25
$ fig.align: chr "center"
ordinary text without R code
label: 4 (with options)
List of 2
$ fig.width: num 8.25
$ fig.align: chr "center"
ordinary text without R code
label: 5 (with options)
List of 2
$ fig.width: num 8.25
$ fig.align: chr "center"
ordinary text without R code
label: 6 (with options)
List of 2
$ fig.width: num 8.25
$ fig.align: chr "center"
ordinary text without R code
label: 7 (with options)
List of 2
$ fig.width: num 8.25
$ fig.align: chr "center"
ordinary text without R code
label: 8 (with options)
List of 2
$ fig.width: num 8.25
$ fig.align: chr "center"
ordinary text without R code
label: 9 (with options)
List of 2
$ fig.width: num 8.25
$ fig.align: chr "center"
ordinary text without R code
/usr/bin/pandoc +RTS -K512m -RTS lmultihyp.2.knit.md --to html4 --from markdown+autolink_bare_uris+tex_math_single_backslash --output lmultihyp.2.html --lua-filter /home/biocbuild/bbs-3.13-bioc/R/library/rmarkdown/rmarkdown/lua/pagebreak.lua --lua-filter /home/biocbuild/bbs-3.13-bioc/R/library/rmarkdown/rmarkdown/lua/latex-div.lua --self-contained --variable bs3=TRUE --standalone --section-divs --table-of-contents --toc-depth 1 --variable toc_float=1 --variable toc_selectors=h1 --variable toc_collapsed=1 --variable toc_smooth_scroll=1 --variable toc_print=1 --template /home/biocbuild/bbs-3.13-bioc/R/library/rmarkdown/rmd/h/default.html --no-highlight --variable highlightjs=1 --variable theme=united --include-in-header /tmp/Rtmpl98LRo/rmarkdown-str129ac239b0d537.html --mathjax --variable 'mathjax-url:https://mathjax.rstudio.com/latest/MathJax.js?config=TeX-AMS-MML_HTMLorMML' --variable code_folding=hide --variable code_menu=1
Signature 1
Signature 2
Signature 3
Signature 1
Signature 2
Signature 3
Signature 1
Signature 2
Signature 3
inline R code fragments
label: setup (with options)
List of 2
$ echo : logi FALSE
$ message: logi FALSE
ordinary text without R code
label: 1 (with options)
List of 2
$ fig.width: num 8.25
$ fig.align: chr "center"
ordinary text without R code
label: 2 (with options)
List of 2
$ fig.width: num 8.25
$ fig.align: chr "center"
ordinary text without R code
label: 3 (with options)
List of 2
$ fig.width: num 8.25
$ fig.align: chr "center"
ordinary text without R code
label: 4 (with options)
List of 2
$ fig.width: num 8.25
$ fig.align: chr "center"
ordinary text without R code
label: 5 (with options)
List of 2
$ fig.width: num 8.25
$ fig.align: chr "center"
ordinary text without R code
label: 6 (with options)
List of 2
$ fig.width: num 8.25
$ fig.align: chr "center"
ordinary text without R code
label: 7 (with options)
List of 2
$ fig.width: num 8.25
$ fig.align: chr "center"
ordinary text without R code
label: 8 (with options)
List of 2
$ fig.width: num 8.25
$ fig.align: chr "center"
ordinary text without R code
label: 9 (with options)
List of 2
$ fig.width: num 8.25
$ fig.align: chr "center"
ordinary text without R code
/usr/bin/pandoc +RTS -K512m -RTS lmultihyp.3.knit.md --to html4 --from markdown+autolink_bare_uris+tex_math_single_backslash --output lmultihyp.3.html --lua-filter /home/biocbuild/bbs-3.13-bioc/R/library/rmarkdown/rmarkdown/lua/pagebreak.lua --lua-filter /home/biocbuild/bbs-3.13-bioc/R/library/rmarkdown/rmarkdown/lua/latex-div.lua --self-contained --variable bs3=TRUE --standalone --section-divs --table-of-contents --toc-depth 1 --variable toc_float=1 --variable toc_selectors=h1 --variable toc_collapsed=1 --variable toc_smooth_scroll=1 --variable toc_print=1 --template /home/biocbuild/bbs-3.13-bioc/R/library/rmarkdown/rmd/h/default.html --no-highlight --variable highlightjs=1 --variable theme=united --include-in-header /tmp/Rtmpl98LRo/rmarkdown-str129ac218eec056.html --mathjax --variable 'mathjax-url:https://mathjax.rstudio.com/latest/MathJax.js?config=TeX-AMS-MML_HTMLorMML' --variable code_folding=hide --variable code_menu=1
inline R code fragments
label: setup (with options)
List of 2
$ echo : logi FALSE
$ message: logi FALSE
ordinary text without R code
label: 1 (with options)
List of 2
$ fig.width: num 8.25
$ fig.align: chr "center"
ordinary text without R code
/usr/bin/pandoc +RTS -K512m -RTS hyp.4.knit.md --to html4 --from markdown+autolink_bare_uris+tex_math_single_backslash --output hyp.4.html --lua-filter /home/biocbuild/bbs-3.13-bioc/R/library/rmarkdown/rmarkdown/lua/pagebreak.lua --lua-filter /home/biocbuild/bbs-3.13-bioc/R/library/rmarkdown/rmarkdown/lua/latex-div.lua --self-contained --variable bs3=TRUE --standalone --section-divs --table-of-contents --toc-depth 1 --variable toc_float=1 --variable toc_selectors=h1 --variable toc_collapsed=1 --variable toc_smooth_scroll=1 --variable toc_print=1 --template /home/biocbuild/bbs-3.13-bioc/R/library/rmarkdown/rmd/h/default.html --no-highlight --variable highlightjs=1 --variable theme=united --include-in-header /tmp/Rtmpl98LRo/rmarkdown-str129ac2250d30b3.html --mathjax --variable 'mathjax-url:https://mathjax.rstudio.com/latest/MathJax.js?config=TeX-AMS-MML_HTMLorMML' --variable code_folding=hide --variable code_menu=1
Signature 1
Signature 2
Signature 3
inline R code fragments
label: setup (with options)
List of 2
$ echo : logi FALSE
$ message: logi FALSE
ordinary text without R code
label: 1 (with options)
List of 2
$ fig.width: num 8.25
$ fig.align: chr "center"
ordinary text without R code
label: 2 (with options)
List of 2
$ fig.width: num 8.25
$ fig.align: chr "center"
ordinary text without R code
label: 3 (with options)
List of 2
$ fig.width: num 8.25
$ fig.align: chr "center"
ordinary text without R code
/usr/bin/pandoc +RTS -K512m -RTS multihyp.4.knit.md --to html4 --from markdown+autolink_bare_uris+tex_math_single_backslash --output multihyp.4.html --lua-filter /home/biocbuild/bbs-3.13-bioc/R/library/rmarkdown/rmarkdown/lua/pagebreak.lua --lua-filter /home/biocbuild/bbs-3.13-bioc/R/library/rmarkdown/rmarkdown/lua/latex-div.lua --self-contained --variable bs3=TRUE --standalone --section-divs --table-of-contents --toc-depth 1 --variable toc_float=1 --variable toc_selectors=h1 --variable toc_collapsed=1 --variable toc_smooth_scroll=1 --variable toc_print=1 --template /home/biocbuild/bbs-3.13-bioc/R/library/rmarkdown/rmd/h/default.html --no-highlight --variable highlightjs=1 --variable theme=united --include-in-header /tmp/Rtmpl98LRo/rmarkdown-str129ac23bc628b9.html --mathjax --variable 'mathjax-url:https://mathjax.rstudio.com/latest/MathJax.js?config=TeX-AMS-MML_HTMLorMML' --variable code_folding=hide --variable code_menu=1
Signature 1
Signature 2
Signature 3
inline R code fragments
label: setup (with options)
List of 2
$ echo : logi FALSE
$ message: logi FALSE
ordinary text without R code
label: 1 (with options)
List of 2
$ fig.width: num 8.25
$ fig.align: chr "center"
ordinary text without R code
label: 2 (with options)
List of 2
$ fig.width: num 8.25
$ fig.align: chr "center"
ordinary text without R code
label: 3 (with options)
List of 2
$ fig.width: num 8.25
$ fig.align: chr "center"
ordinary text without R code
label: 4 (with options)
List of 2
$ fig.width: num 8.25
$ fig.align: chr "center"
ordinary text without R code
/usr/bin/pandoc +RTS -K512m -RTS combo.1.knit.md --to html4 --from markdown+autolink_bare_uris+tex_math_single_backslash --output combo.1.html --lua-filter /home/biocbuild/bbs-3.13-bioc/R/library/rmarkdown/rmarkdown/lua/pagebreak.lua --lua-filter /home/biocbuild/bbs-3.13-bioc/R/library/rmarkdown/rmarkdown/lua/latex-div.lua --self-contained --variable bs3=TRUE --standalone --section-divs --table-of-contents --toc-depth 1 --variable toc_float=1 --variable toc_selectors=h1 --variable toc_collapsed=1 --variable toc_smooth_scroll=1 --variable toc_print=1 --template /home/biocbuild/bbs-3.13-bioc/R/library/rmarkdown/rmd/h/default.html --no-highlight --variable highlightjs=1 --variable theme=united --include-in-header /tmp/Rtmpl98LRo/rmarkdown-str129ac22c860d07.html --mathjax --variable 'mathjax-url:https://mathjax.rstudio.com/latest/MathJax.js?config=TeX-AMS-MML_HTMLorMML' --variable code_folding=hide --variable code_menu=1
inline R code fragments
label: setup (with options)
List of 2
$ echo : logi FALSE
$ message: logi FALSE
ordinary text without R code
label: 1 (with options)
List of 2
$ fig.width: num 8.25
$ fig.align: chr "center"
ordinary text without R code
label: 2 (with options)
List of 2
$ fig.width: num 8.25
$ fig.align: chr "center"
ordinary text without R code
label: 3 (with options)
List of 2
$ fig.width: num 8.25
$ fig.align: chr "center"
ordinary text without R code
label: 4 (with options)
List of 2
$ fig.width: num 8.25
$ fig.align: chr "center"
ordinary text without R code
/usr/bin/pandoc +RTS -K512m -RTS combo.2.knit.md --to html4 --from markdown+autolink_bare_uris+tex_math_single_backslash --output combo.2.html --lua-filter /home/biocbuild/bbs-3.13-bioc/R/library/rmarkdown/rmarkdown/lua/pagebreak.lua --lua-filter /home/biocbuild/bbs-3.13-bioc/R/library/rmarkdown/rmarkdown/lua/latex-div.lua --self-contained --variable bs3=TRUE --standalone --section-divs --table-of-contents --toc-depth 1 --variable toc_float=1 --variable toc_selectors=h1 --variable toc_collapsed=1 --variable toc_smooth_scroll=1 --variable toc_print=1 --template /home/biocbuild/bbs-3.13-bioc/R/library/rmarkdown/rmd/h/default.html --no-highlight --variable highlightjs=1 --variable theme=united --include-in-header /tmp/Rtmpl98LRo/rmarkdown-str129ac212bcf059.html --mathjax --variable 'mathjax-url:https://mathjax.rstudio.com/latest/MathJax.js?config=TeX-AMS-MML_HTMLorMML' --variable code_folding=hide --variable code_menu=1
inline R code fragments
label: setup (with options)
List of 2
$ echo : logi FALSE
$ message: logi FALSE
ordinary text without R code
label: 1 (with options)
List of 2
$ fig.width: num 8.25
$ fig.align: chr "center"
ordinary text without R code
label: 2 (with options)
List of 2
$ fig.width: num 8.25
$ fig.align: chr "center"
ordinary text without R code
label: 3 (with options)
List of 2
$ fig.width: num 8.25
$ fig.align: chr "center"
ordinary text without R code
label: 4 (with options)
List of 2
$ fig.width: num 8.25
$ fig.align: chr "center"
ordinary text without R code
label: unnamed-chunk-1
ordinary text without R code
/usr/bin/pandoc +RTS -K512m -RTS combo.3.knit.md --to html4 --from markdown+autolink_bare_uris+tex_math_single_backslash --output combo.3.html --lua-filter /home/biocbuild/bbs-3.13-bioc/R/library/rmarkdown/rmarkdown/lua/pagebreak.lua --lua-filter /home/biocbuild/bbs-3.13-bioc/R/library/rmarkdown/rmarkdown/lua/latex-div.lua --self-contained --variable bs3=TRUE --standalone --section-divs --table-of-contents --toc-depth 1 --variable toc_float=1 --variable toc_selectors=h1 --variable toc_collapsed=1 --variable toc_smooth_scroll=1 --variable toc_print=1 --template /home/biocbuild/bbs-3.13-bioc/R/library/rmarkdown/rmd/h/default.html --no-highlight --variable highlightjs=1 --variable theme=united --include-in-header /tmp/Rtmpl98LRo/rmarkdown-str129ac26ee514e7.html --mathjax --variable 'mathjax-url:https://mathjax.rstudio.com/latest/MathJax.js?config=TeX-AMS-MML_HTMLorMML' --variable code_folding=hide --variable code_menu=1
Signature 1
Signature 2
Signature 3
Signature 1
Signature 2
Signature 3
Signature 1
Signature 2
Signature 3
Signature 1
Signature 2
Signature 3
Signature 1
Signature 2
Signature 3
Signature 1
Signature 2
Signature 3
Signature 1
Signature 2
Signature 3
Signature 1
Signature 2
Signature 3
Signature 1
Signature 2
Signature 3
Signature 1
Signature 2
Signature 3
══ Failed tests ════════════════════════════════════════════════════════════════
── Failure (test-hyp_dots.R:23:5): hyp_dots() is working ───────────────────────
`hyp_dots(hyp_obj)` produced warnings.
Backtrace:
█
1. ├─`%>%`(...) test-hyp_dots.R:23:4
2. └─hypeR:::hyp_dots_tests(.)
3. └─testthat::expect_silent(hyp_dots(hyp_obj)) test-hyp_dots.R:2:4
── Failure (test-hyp_dots.R:23:5): hyp_dots() is working ───────────────────────
`hyp_dots(hyp_obj, val = "pval")` produced warnings.
Backtrace:
█
1. ├─`%>%`(...) test-hyp_dots.R:23:4
2. └─hypeR:::hyp_dots_tests(.)
3. └─testthat::expect_silent(hyp_dots(hyp_obj, val = "pval")) test-hyp_dots.R:3:4
── Failure (test-hyp_dots.R:23:5): hyp_dots() is working ───────────────────────
`hyp_dots(hyp_obj, val = "fdr")` produced warnings.
Backtrace:
█
1. ├─`%>%`(...) test-hyp_dots.R:23:4
2. └─hypeR:::hyp_dots_tests(.)
3. └─testthat::expect_silent(hyp_dots(hyp_obj, val = "fdr")) test-hyp_dots.R:4:4
── Failure (test-hyp_dots.R:23:5): hyp_dots() is working ───────────────────────
`hyp_dots(hyp_obj, abrv = 20)` produced warnings.
Backtrace:
█
1. ├─`%>%`(...) test-hyp_dots.R:23:4
2. └─hypeR:::hyp_dots_tests(.)
3. └─testthat::expect_silent(hyp_dots(hyp_obj, abrv = 20)) test-hyp_dots.R:5:4
── Failure (test-hyp_dots.R:23:5): hyp_dots() is working ───────────────────────
`hyp_dots(hyp_obj, title = "title")` produced warnings.
Backtrace:
█
1. ├─`%>%`(...) test-hyp_dots.R:23:4
2. └─hypeR:::hyp_dots_tests(.)
3. └─testthat::expect_silent(hyp_dots(hyp_obj, title = "title")) test-hyp_dots.R:6:4
── Failure (test-hyp_dots.R:23:5): hyp_dots() is working ───────────────────────
`hyp_dots(hyp_obj, size = TRUE)` produced warnings.
Backtrace:
█
1. ├─`%>%`(...) test-hyp_dots.R:23:4
2. └─hypeR:::hyp_dots_tests(.)
3. └─testthat::expect_silent(hyp_dots(hyp_obj, size = TRUE)) test-hyp_dots.R:7:4
── Failure (test-hyp_dots.R:25:5): hyp_dots() is working ───────────────────────
`hyp_dots(hyp_obj)` produced warnings.
Backtrace:
█
1. ├─`%>%`(...) test-hyp_dots.R:25:4
2. └─hypeR:::hyp_dots_tests(.)
3. └─testthat::expect_silent(hyp_dots(hyp_obj)) test-hyp_dots.R:2:4
── Failure (test-hyp_dots.R:25:5): hyp_dots() is working ───────────────────────
`hyp_dots(hyp_obj, val = "pval")` produced warnings.
Backtrace:
█
1. ├─`%>%`(...) test-hyp_dots.R:25:4
2. └─hypeR:::hyp_dots_tests(.)
3. └─testthat::expect_silent(hyp_dots(hyp_obj, val = "pval")) test-hyp_dots.R:3:4
── Failure (test-hyp_dots.R:25:5): hyp_dots() is working ───────────────────────
`hyp_dots(hyp_obj, val = "fdr")` produced warnings.
Backtrace:
█
1. ├─`%>%`(...) test-hyp_dots.R:25:4
2. └─hypeR:::hyp_dots_tests(.)
3. └─testthat::expect_silent(hyp_dots(hyp_obj, val = "fdr")) test-hyp_dots.R:4:4
── Failure (test-hyp_dots.R:25:5): hyp_dots() is working ───────────────────────
`hyp_dots(hyp_obj, abrv = 20)` produced warnings.
Backtrace:
█
1. ├─`%>%`(...) test-hyp_dots.R:25:4
2. └─hypeR:::hyp_dots_tests(.)
3. └─testthat::expect_silent(hyp_dots(hyp_obj, abrv = 20)) test-hyp_dots.R:5:4
── Failure (test-hyp_dots.R:25:5): hyp_dots() is working ───────────────────────
`hyp_dots(hyp_obj, title = "title")` produced warnings.
Backtrace:
█
1. ├─`%>%`(...) test-hyp_dots.R:25:4
2. └─hypeR:::hyp_dots_tests(.)
3. └─testthat::expect_silent(hyp_dots(hyp_obj, title = "title")) test-hyp_dots.R:6:4
── Failure (test-hyp_dots.R:25:5): hyp_dots() is working ───────────────────────
`hyp_dots(hyp_obj, size = TRUE)` produced warnings.
Backtrace:
█
1. ├─`%>%`(...) test-hyp_dots.R:25:4
2. └─hypeR:::hyp_dots_tests(.)
3. └─testthat::expect_silent(hyp_dots(hyp_obj, size = TRUE)) test-hyp_dots.R:7:4
── Failure (test-hyp_dots.R:37:5): hyp_dots() is working ───────────────────────
`hyp_dots(hyp_obj)` produced warnings.
Backtrace:
█
1. ├─hypeR(signature, gsets_obj, test = "kstest") %>% hyp_dots_tests() test-hyp_dots.R:37:4
2. └─hypeR:::hyp_dots_tests(.)
3. └─testthat::expect_silent(hyp_dots(hyp_obj)) test-hyp_dots.R:2:4
── Failure (test-hyp_dots.R:37:5): hyp_dots() is working ───────────────────────
`hyp_dots(hyp_obj, val = "pval")` produced warnings.
Backtrace:
█
1. ├─hypeR(signature, gsets_obj, test = "kstest") %>% hyp_dots_tests() test-hyp_dots.R:37:4
2. └─hypeR:::hyp_dots_tests(.)
3. └─testthat::expect_silent(hyp_dots(hyp_obj, val = "pval")) test-hyp_dots.R:3:4
── Failure (test-hyp_dots.R:37:5): hyp_dots() is working ───────────────────────
`hyp_dots(hyp_obj, val = "fdr")` produced warnings.
Backtrace:
█
1. ├─hypeR(signature, gsets_obj, test = "kstest") %>% hyp_dots_tests() test-hyp_dots.R:37:4
2. └─hypeR:::hyp_dots_tests(.)
3. └─testthat::expect_silent(hyp_dots(hyp_obj, val = "fdr")) test-hyp_dots.R:4:4
── Failure (test-hyp_dots.R:37:5): hyp_dots() is working ───────────────────────
`hyp_dots(hyp_obj, abrv = 20)` produced warnings.
Backtrace:
█
1. ├─hypeR(signature, gsets_obj, test = "kstest") %>% hyp_dots_tests() test-hyp_dots.R:37:4
2. └─hypeR:::hyp_dots_tests(.)
3. └─testthat::expect_silent(hyp_dots(hyp_obj, abrv = 20)) test-hyp_dots.R:5:4
── Failure (test-hyp_dots.R:37:5): hyp_dots() is working ───────────────────────
`hyp_dots(hyp_obj, title = "title")` produced warnings.
Backtrace:
█
1. ├─hypeR(signature, gsets_obj, test = "kstest") %>% hyp_dots_tests() test-hyp_dots.R:37:4
2. └─hypeR:::hyp_dots_tests(.)
3. └─testthat::expect_silent(hyp_dots(hyp_obj, title = "title")) test-hyp_dots.R:6:4
── Failure (test-hyp_dots.R:37:5): hyp_dots() is working ───────────────────────
`hyp_dots(hyp_obj, size = TRUE)` produced warnings.
Backtrace:
█
1. ├─hypeR(signature, gsets_obj, test = "kstest") %>% hyp_dots_tests() test-hyp_dots.R:37:4
2. └─hypeR:::hyp_dots_tests(.)
3. └─testthat::expect_silent(hyp_dots(hyp_obj, size = TRUE)) test-hyp_dots.R:7:4
── Failure (test-hyp_dots.R:39:5): hyp_dots() is working ───────────────────────
`hyp_dots(hyp_obj)` produced warnings.
Backtrace:
█
1. ├─hypeR(signature, rgsets_obj, test = "kstest") %>% hyp_dots_tests() test-hyp_dots.R:39:4
2. └─hypeR:::hyp_dots_tests(.)
3. └─testthat::expect_silent(hyp_dots(hyp_obj)) test-hyp_dots.R:2:4
── Failure (test-hyp_dots.R:39:5): hyp_dots() is working ───────────────────────
`hyp_dots(hyp_obj, val = "pval")` produced warnings.
Backtrace:
█
1. ├─hypeR(signature, rgsets_obj, test = "kstest") %>% hyp_dots_tests() test-hyp_dots.R:39:4
2. └─hypeR:::hyp_dots_tests(.)
3. └─testthat::expect_silent(hyp_dots(hyp_obj, val = "pval")) test-hyp_dots.R:3:4
── Failure (test-hyp_dots.R:39:5): hyp_dots() is working ───────────────────────
`hyp_dots(hyp_obj, val = "fdr")` produced warnings.
Backtrace:
█
1. ├─hypeR(signature, rgsets_obj, test = "kstest") %>% hyp_dots_tests() test-hyp_dots.R:39:4
2. └─hypeR:::hyp_dots_tests(.)
3. └─testthat::expect_silent(hyp_dots(hyp_obj, val = "fdr")) test-hyp_dots.R:4:4
── Failure (test-hyp_dots.R:39:5): hyp_dots() is working ───────────────────────
`hyp_dots(hyp_obj, abrv = 20)` produced warnings.
Backtrace:
█
1. ├─hypeR(signature, rgsets_obj, test = "kstest") %>% hyp_dots_tests() test-hyp_dots.R:39:4
2. └─hypeR:::hyp_dots_tests(.)
3. └─testthat::expect_silent(hyp_dots(hyp_obj, abrv = 20)) test-hyp_dots.R:5:4
── Failure (test-hyp_dots.R:39:5): hyp_dots() is working ───────────────────────
`hyp_dots(hyp_obj, title = "title")` produced warnings.
Backtrace:
█
1. ├─hypeR(signature, rgsets_obj, test = "kstest") %>% hyp_dots_tests() test-hyp_dots.R:39:4
2. └─hypeR:::hyp_dots_tests(.)
3. └─testthat::expect_silent(hyp_dots(hyp_obj, title = "title")) test-hyp_dots.R:6:4
── Failure (test-hyp_dots.R:39:5): hyp_dots() is working ───────────────────────
`hyp_dots(hyp_obj, size = TRUE)` produced warnings.
Backtrace:
█
1. ├─hypeR(signature, rgsets_obj, test = "kstest") %>% hyp_dots_tests() test-hyp_dots.R:39:4
2. └─hypeR:::hyp_dots_tests(.)
3. └─testthat::expect_silent(hyp_dots(hyp_obj, size = TRUE)) test-hyp_dots.R:7:4
── Failure (test-hyp_dots.R:51:5): hyp_dots() is working ───────────────────────
`hyp_dots(hyp_obj)` produced warnings.
Backtrace:
█
1. ├─hypeR(signature, gsets_obj, test = "kstest") %>% hyp_dots_tests() test-hyp_dots.R:51:4
2. └─hypeR:::hyp_dots_tests(.)
3. └─testthat::expect_silent(hyp_dots(hyp_obj)) test-hyp_dots.R:2:4
── Failure (test-hyp_dots.R:51:5): hyp_dots() is working ───────────────────────
`hyp_dots(hyp_obj, val = "pval")` produced warnings.
Backtrace:
█
1. ├─hypeR(signature, gsets_obj, test = "kstest") %>% hyp_dots_tests() test-hyp_dots.R:51:4
2. └─hypeR:::hyp_dots_tests(.)
3. └─testthat::expect_silent(hyp_dots(hyp_obj, val = "pval")) test-hyp_dots.R:3:4
── Failure (test-hyp_dots.R:51:5): hyp_dots() is working ───────────────────────
`hyp_dots(hyp_obj, val = "fdr")` produced warnings.
Backtrace:
█
1. ├─hypeR(signature, gsets_obj, test = "kstest") %>% hyp_dots_tests() test-hyp_dots.R:51:4
2. └─hypeR:::hyp_dots_tests(.)
3. └─testthat::expect_silent(hyp_dots(hyp_obj, val = "fdr")) test-hyp_dots.R:4:4
── Failure (test-hyp_dots.R:51:5): hyp_dots() is working ───────────────────────
`hyp_dots(hyp_obj, abrv = 20)` produced warnings.
Backtrace:
█
1. ├─hypeR(signature, gsets_obj, test = "kstest") %>% hyp_dots_tests() test-hyp_dots.R:51:4
2. └─hypeR:::hyp_dots_tests(.)
3. └─testthat::expect_silent(hyp_dots(hyp_obj, abrv = 20)) test-hyp_dots.R:5:4
── Failure (test-hyp_dots.R:51:5): hyp_dots() is working ───────────────────────
`hyp_dots(hyp_obj, title = "title")` produced warnings.
Backtrace:
█
1. ├─hypeR(signature, gsets_obj, test = "kstest") %>% hyp_dots_tests() test-hyp_dots.R:51:4
2. └─hypeR:::hyp_dots_tests(.)
3. └─testthat::expect_silent(hyp_dots(hyp_obj, title = "title")) test-hyp_dots.R:6:4
── Failure (test-hyp_dots.R:51:5): hyp_dots() is working ───────────────────────
`hyp_dots(hyp_obj, size = TRUE)` produced warnings.
Backtrace:
█
1. ├─hypeR(signature, gsets_obj, test = "kstest") %>% hyp_dots_tests() test-hyp_dots.R:51:4
2. └─hypeR:::hyp_dots_tests(.)
3. └─testthat::expect_silent(hyp_dots(hyp_obj, size = TRUE)) test-hyp_dots.R:7:4
── Failure (test-hyp_dots.R:53:5): hyp_dots() is working ───────────────────────
`hyp_dots(hyp_obj)` produced warnings.
Backtrace:
█
1. ├─hypeR(signature, rgsets_obj, test = "kstest") %>% hyp_dots_tests() test-hyp_dots.R:53:4
2. └─hypeR:::hyp_dots_tests(.)
3. └─testthat::expect_silent(hyp_dots(hyp_obj)) test-hyp_dots.R:2:4
── Failure (test-hyp_dots.R:53:5): hyp_dots() is working ───────────────────────
`hyp_dots(hyp_obj, val = "pval")` produced warnings.
Backtrace:
█
1. ├─hypeR(signature, rgsets_obj, test = "kstest") %>% hyp_dots_tests() test-hyp_dots.R:53:4
2. └─hypeR:::hyp_dots_tests(.)
3. └─testthat::expect_silent(hyp_dots(hyp_obj, val = "pval")) test-hyp_dots.R:3:4
── Failure (test-hyp_dots.R:53:5): hyp_dots() is working ───────────────────────
`hyp_dots(hyp_obj, val = "fdr")` produced warnings.
Backtrace:
█
1. ├─hypeR(signature, rgsets_obj, test = "kstest") %>% hyp_dots_tests() test-hyp_dots.R:53:4
2. └─hypeR:::hyp_dots_tests(.)
3. └─testthat::expect_silent(hyp_dots(hyp_obj, val = "fdr")) test-hyp_dots.R:4:4
── Failure (test-hyp_dots.R:53:5): hyp_dots() is working ───────────────────────
`hyp_dots(hyp_obj, abrv = 20)` produced warnings.
Backtrace:
█
1. ├─hypeR(signature, rgsets_obj, test = "kstest") %>% hyp_dots_tests() test-hyp_dots.R:53:4
2. └─hypeR:::hyp_dots_tests(.)
3. └─testthat::expect_silent(hyp_dots(hyp_obj, abrv = 20)) test-hyp_dots.R:5:4
── Failure (test-hyp_dots.R:53:5): hyp_dots() is working ───────────────────────
`hyp_dots(hyp_obj, title = "title")` produced warnings.
Backtrace:
█
1. ├─hypeR(signature, rgsets_obj, test = "kstest") %>% hyp_dots_tests() test-hyp_dots.R:53:4
2. └─hypeR:::hyp_dots_tests(.)
3. └─testthat::expect_silent(hyp_dots(hyp_obj, title = "title")) test-hyp_dots.R:6:4
── Failure (test-hyp_dots.R:53:5): hyp_dots() is working ───────────────────────
`hyp_dots(hyp_obj, size = TRUE)` produced warnings.
Backtrace:
█
1. ├─hypeR(signature, rgsets_obj, test = "kstest") %>% hyp_dots_tests() test-hyp_dots.R:53:4
2. └─hypeR:::hyp_dots_tests(.)
3. └─testthat::expect_silent(hyp_dots(hyp_obj, size = TRUE)) test-hyp_dots.R:7:4
[ FAIL 36 | WARN 58 | SKIP 0 | PASS 373 ]
Error: Test failures
Execution halted
hypeR.Rcheck/hypeR-Ex.timings
| name | user | system | elapsed | |
| clean_genesets | 2.326 | 0.212 | 2.539 | |
| dot-format_str | 0.000 | 0.000 | 0.001 | |
| dot-string_args | 0 | 0 | 0 | |
| enrichr_available | 0.226 | 0.031 | 0.476 | |
| enrichr_download | 0.203 | 0.004 | 4.359 | |
| enrichr_gsets | 0.110 | 0.000 | 0.671 | |
| gsets | 0.001 | 0.000 | 0.001 | |
| hyp | 0.006 | 0.000 | 0.006 | |
| hyp_dots | 1.087 | 0.252 | 1.338 | |
| hyp_emap | 1.282 | 0.104 | 1.386 | |
| hyp_hmap | 4.089 | 0.008 | 4.596 | |
| hyp_show | 0.738 | 0.060 | 0.804 | |
| hyp_to_excel | 1.514 | 0.048 | 1.562 | |
| hyp_to_table | 1.011 | 0.076 | 1.284 | |
| hypeR | 0.593 | 0.044 | 0.637 | |
| hyperdb_available | 0.034 | 0.004 | 0.285 | |
| hyperdb_gsets | 0.033 | 0.000 | 0.343 | |
| hyperdb_rgsets | 0.049 | 0.000 | 0.123 | |
| msigdb_available | 20.524 | 1.472 | 22.429 | |
| msigdb_check_species | 0 | 0 | 0 | |
| msigdb_download | 0.308 | 0.088 | 0.396 | |
| msigdb_gsets | 0.367 | 0.064 | 0.430 | |
| msigdb_info | 0.002 | 0.000 | 0.002 | |
| msigdb_species | 0.023 | 0.000 | 0.023 | |
| msigdb_version | 0.002 | 0.000 | 0.001 | |
| multihyp | 0.001 | 0.000 | 0.001 | |
| rctbl_build | 0.512 | 0.044 | 0.555 | |
| rctbl_hyp | 0.424 | 0.036 | 0.460 | |
| rctbl_mhyp | 0.576 | 0.132 | 0.962 | |
| rgsets | 0.010 | 0.000 | 0.011 | |