| Back to Multiple platform build/check report for BioC 3.13 |
|
This page was generated on 2021-10-15 15:06:07 -0400 (Fri, 15 Oct 2021).
|
To the developers/maintainers of the granulator package: - Please allow up to 24 hours (and sometimes 48 hours) for your latest push to git@git.bioconductor.org:packages/granulator.git to reflect on this report. See How and When does the builder pull? When will my changes propagate? here for more information. - Make sure to use the following settings in order to reproduce any error or warning you see on this page. |
| Package 803/2041 | Hostname | OS / Arch | INSTALL | BUILD | CHECK | BUILD BIN | ||||||||
| granulator 1.0.0 (landing page) Sabina Pfister
| nebbiolo1 | Linux (Ubuntu 20.04.2 LTS) / x86_64 | OK | OK | OK | |||||||||
| tokay2 | Windows Server 2012 R2 Standard / x64 | OK | OK | OK | OK | |||||||||
| machv2 | macOS 10.14.6 Mojave / x86_64 | OK | OK | OK | OK | |||||||||
| Package: granulator |
| Version: 1.0.0 |
| Command: rm -rf granulator.buildbin-libdir && mkdir granulator.buildbin-libdir && C:\Users\biocbuild\bbs-3.13-bioc\R\bin\R.exe CMD INSTALL --merge-multiarch --build --library=granulator.buildbin-libdir granulator_1.0.0.tar.gz |
| StartedAt: 2021-10-15 09:40:38 -0400 (Fri, 15 Oct 2021) |
| EndedAt: 2021-10-15 09:42:02 -0400 (Fri, 15 Oct 2021) |
| EllapsedTime: 83.8 seconds |
| RetCode: 0 |
| Status: OK |
| PackageFile: granulator_1.0.0.zip |
| PackageFileSize: 943.8 KiB |
##############################################################################
##############################################################################
###
### Running command:
###
### rm -rf granulator.buildbin-libdir && mkdir granulator.buildbin-libdir && C:\Users\biocbuild\bbs-3.13-bioc\R\bin\R.exe CMD INSTALL --merge-multiarch --build --library=granulator.buildbin-libdir granulator_1.0.0.tar.gz
###
##############################################################################
##############################################################################
install for i386
* installing *source* package 'granulator' ...
** using staged installation
** R
** data
** inst
** byte-compile and prepare package for lazy loading
** help
*** installing help indices
converting help for package 'granulator'
finding HTML links ... done
benchmark html
bulkRNAseq_ABIS html
correlate html
deconvolute html
get_TPM html
get_decon_methods html
groundTruth_ABIS html
load_ABIS html
plot_benchmark html
plot_correlate html
plot_deconvolute html
plot_proportions html
plot_regress html
plot_similarity html
sigMatrix_ABIS_S0 html
sigMatrix_ABIS_S1 html
sigMatrix_ABIS_S2 html
sigMatrix_ABIS_S3 html
** building package indices
** installing vignettes
** testing if installed package can be loaded from temporary location
** testing if installed package can be loaded from final location
** testing if installed package keeps a record of temporary installation path
install for x64
* installing *source* package 'granulator' ...
** testing if installed package can be loaded
* MD5 sums
packaged installation of 'granulator' as granulator_1.0.0.zip
* DONE (granulator)