| Back to Multiple platform build/check report for BioC 3.13 |
|
This page was generated on 2021-10-15 15:06:05 -0400 (Fri, 15 Oct 2021).
|
To the developers/maintainers of the genefu package: - Please allow up to 24 hours (and sometimes 48 hours) for your latest push to git@git.bioconductor.org:packages/genefu.git to reflect on this report. See How and When does the builder pull? When will my changes propagate? here for more information. - Make sure to use the following settings in order to reproduce any error or warning you see on this page. |
| Package 714/2041 | Hostname | OS / Arch | INSTALL | BUILD | CHECK | BUILD BIN | ||||||||
| genefu 2.24.2 (landing page) Benjamin Haibe-Kains
| nebbiolo1 | Linux (Ubuntu 20.04.2 LTS) / x86_64 | OK | OK | OK | |||||||||
| tokay2 | Windows Server 2012 R2 Standard / x64 | OK | OK | OK | OK | |||||||||
| machv2 | macOS 10.14.6 Mojave / x86_64 | OK | OK | OK | OK | |||||||||
| Package: genefu |
| Version: 2.24.2 |
| Command: rm -rf genefu.buildbin-libdir && mkdir genefu.buildbin-libdir && C:\Users\biocbuild\bbs-3.13-bioc\R\bin\R.exe CMD INSTALL --merge-multiarch --build --library=genefu.buildbin-libdir genefu_2.24.2.tar.gz |
| StartedAt: 2021-10-15 09:29:14 -0400 (Fri, 15 Oct 2021) |
| EndedAt: 2021-10-15 09:30:45 -0400 (Fri, 15 Oct 2021) |
| EllapsedTime: 91.3 seconds |
| RetCode: 0 |
| Status: OK |
| PackageFile: genefu_2.24.2.zip |
| PackageFileSize: 5.053 MiB |
##############################################################################
##############################################################################
###
### Running command:
###
### rm -rf genefu.buildbin-libdir && mkdir genefu.buildbin-libdir && C:\Users\biocbuild\bbs-3.13-bioc\R\bin\R.exe CMD INSTALL --merge-multiarch --build --library=genefu.buildbin-libdir genefu_2.24.2.tar.gz
###
##############################################################################
##############################################################################
install for i386
* installing *source* package 'genefu' ...
** using staged installation
** R
** data
** inst
** byte-compile and prepare package for lazy loading
** help
*** installing help indices
converting help for package 'genefu'
finding HTML links ... done
bimod html
boxplotplus2 html
claudinLow html
claudinLowData html
collapseIDs html
compareProtoCor html
compute.pairw.cor.meta html
compute.pairw.cor.z html
compute.proto.cor.meta html
cordiff.dep html
endoPredict html
expos html
fuzzy.ttest html
gene70 html
gene76 html
geneid.map html
genius html
ggi html
ihc4 html
intrinsic.cluster html
intrinsic.cluster.predict html
map.datasets html
medianCtr html
mod1 html
mod2 html
modelOvcAngiogenic html
molecular.subtyping html
nkis html
npi html
oncotypedx html
ovcAngiogenic html
ovcCrijns html
ovcTCGA html
ovcYoshihara html
overlapSets html
pam50 html
pik3cags html
power.cor html
ps.cluster html
read.m.file html
readArray html
rename.duplicate html
rescale html
rorS html
scmgene.robust html
scmod1.robust html
scmod2.robust html
setcolclass.df html
sig.endoPredict html
sig.gene70 html
sig.gene76 html
sig.genius html
sig.ggi html
sig.oncotypedx html
sig.pik3cags html
sig.score html
sig.tamr13 html
sigOvcAngiogenic html
sigOvcCrijns html
sigOvcSpentzos html
sigOvcTCGA html
sigOvcYoshihara html
spearmanCI html
ssp2003 html
ssp2006 html
st.gallen html
stab.fs html
stab.fs.ranking html
strescR html
subtype.cluster html
subtype.cluster.predict html
tamr13 html
tbrm html
vdxs html
weighted.meanvar html
write.m.file html
** building package indices
** installing vignettes
** testing if installed package can be loaded from temporary location
** testing if installed package can be loaded from final location
** testing if installed package keeps a record of temporary installation path
install for x64
* installing *source* package 'genefu' ...
** testing if installed package can be loaded
* MD5 sums
packaged installation of 'genefu' as genefu_2.24.2.zip
* DONE (genefu)