| Back to Multiple platform build/check report for BioC 3.13 |
|
This page was generated on 2021-10-15 15:05:41 -0400 (Fri, 15 Oct 2021).
|
To the developers/maintainers of the genefu package: - Please allow up to 24 hours (and sometimes 48 hours) for your latest push to git@git.bioconductor.org:packages/genefu.git to reflect on this report. See How and When does the builder pull? When will my changes propagate? here for more information. - Make sure to use the following settings in order to reproduce any error or warning you see on this page. |
| Package 714/2041 | Hostname | OS / Arch | INSTALL | BUILD | CHECK | BUILD BIN | ||||||||
| genefu 2.24.2 (landing page) Benjamin Haibe-Kains
| nebbiolo1 | Linux (Ubuntu 20.04.2 LTS) / x86_64 | OK | OK | OK | |||||||||
| tokay2 | Windows Server 2012 R2 Standard / x64 | OK | OK | OK | OK | |||||||||
| machv2 | macOS 10.14.6 Mojave / x86_64 | OK | OK | OK | OK | |||||||||
| Package: genefu |
| Version: 2.24.2 |
| Command: /home/biocbuild/bbs-3.13-bioc/R/bin/R CMD check --install=check:genefu.install-out.txt --library=/home/biocbuild/bbs-3.13-bioc/R/library --no-vignettes --timings genefu_2.24.2.tar.gz |
| StartedAt: 2021-10-14 09:56:22 -0400 (Thu, 14 Oct 2021) |
| EndedAt: 2021-10-14 09:58:49 -0400 (Thu, 14 Oct 2021) |
| EllapsedTime: 147.0 seconds |
| RetCode: 0 |
| Status: OK |
| CheckDir: genefu.Rcheck |
| Warnings: 0 |
##############################################################################
##############################################################################
###
### Running command:
###
### /home/biocbuild/bbs-3.13-bioc/R/bin/R CMD check --install=check:genefu.install-out.txt --library=/home/biocbuild/bbs-3.13-bioc/R/library --no-vignettes --timings genefu_2.24.2.tar.gz
###
##############################################################################
##############################################################################
* using log directory ‘/home/biocbuild/bbs-3.13-bioc/meat/genefu.Rcheck’
* using R version 4.1.1 (2021-08-10)
* using platform: x86_64-pc-linux-gnu (64-bit)
* using session charset: UTF-8
* using option ‘--no-vignettes’
* checking for file ‘genefu/DESCRIPTION’ ... OK
* checking extension type ... Package
* this is package ‘genefu’ version ‘2.24.2’
* package encoding: UTF-8
* checking package namespace information ... OK
* checking package dependencies ... OK
* checking if this is a source package ... OK
* checking if there is a namespace ... OK
* checking for hidden files and directories ... OK
* checking for portable file names ... OK
* checking for sufficient/correct file permissions ... OK
* checking whether package ‘genefu’ can be installed ... OK
* checking installed package size ... NOTE
installed size is 5.1Mb
sub-directories of 1Mb or more:
data 4.1Mb
* checking package directory ... OK
* checking ‘build’ directory ... OK
* checking DESCRIPTION meta-information ... OK
* checking top-level files ... OK
* checking for left-over files ... OK
* checking index information ... OK
* checking package subdirectories ... OK
* checking R files for non-ASCII characters ... OK
* checking R files for syntax errors ... OK
* checking whether the package can be loaded ... OK
* checking whether the package can be loaded with stated dependencies ... OK
* checking whether the package can be unloaded cleanly ... OK
* checking whether the namespace can be loaded with stated dependencies ... OK
* checking whether the namespace can be unloaded cleanly ... OK
* checking dependencies in R code ... NOTE
Packages in Depends field not imported from:
‘AIMS’ ‘biomaRt’ ‘iC10’
These packages need to be imported from (in the NAMESPACE file)
for when this namespace is loaded but not attached.
Unexported objects imported by ':::' calls:
‘mclust:::grid1’ ‘mclust:::grid2’
See the note in ?`:::` about the use of this operator.
* checking S3 generic/method consistency ... OK
* checking replacement functions ... OK
* checking foreign function calls ... OK
* checking R code for possible problems ... OK
* checking Rd files ... OK
* checking Rd metadata ... OK
* checking Rd cross-references ... OK
* checking for missing documentation entries ... OK
* checking for code/documentation mismatches ... OK
* checking Rd \usage sections ... OK
* checking Rd contents ... OK
* checking for unstated dependencies in examples ... OK
* checking contents of ‘data’ directory ... OK
* checking data for non-ASCII characters ... OK
* checking data for ASCII and uncompressed saves ... OK
* checking files in ‘vignettes’ ... OK
* checking examples ... OK
* checking for unstated dependencies in vignettes ... OK
* checking package vignettes in ‘inst/doc’ ... OK
* checking running R code from vignettes ... SKIPPED
* checking re-building of vignette outputs ... SKIPPED
* checking PDF version of manual ... OK
* DONE
Status: 2 NOTEs
See
‘/home/biocbuild/bbs-3.13-bioc/meat/genefu.Rcheck/00check.log’
for details.
genefu.Rcheck/00install.out
############################################################################## ############################################################################## ### ### Running command: ### ### /home/biocbuild/bbs-3.13-bioc/R/bin/R CMD INSTALL genefu ### ############################################################################## ############################################################################## * installing to library ‘/home/biocbuild/bbs-3.13-bioc/R/library’ * installing *source* package ‘genefu’ ... ** using staged installation ** R ** data ** inst ** byte-compile and prepare package for lazy loading ** help *** installing help indices ** building package indices ** installing vignettes ** testing if installed package can be loaded from temporary location ** testing if installed package can be loaded from final location ** testing if installed package keeps a record of temporary installation path * DONE (genefu)
genefu.Rcheck/genefu-Ex.timings
| name | user | system | elapsed | |
| bimod | 0.181 | 0.017 | 0.197 | |
| boxplotplus2 | 0.009 | 0.000 | 0.009 | |
| claudinLow | 0.711 | 0.011 | 0.723 | |
| compareProtoCor | 2.118 | 0.011 | 2.130 | |
| compute.pairw.cor.meta | 1.805 | 0.037 | 1.841 | |
| compute.proto.cor.meta | 1.541 | 0.015 | 1.557 | |
| cordiff.dep | 0.112 | 0.004 | 0.116 | |
| endoPredict | 0.105 | 0.011 | 0.118 | |
| fuzzy.ttest | 0.107 | 0.000 | 0.107 | |
| gene70 | 0.275 | 0.013 | 0.287 | |
| gene76 | 0.133 | 0.000 | 0.132 | |
| geneid.map | 0.126 | 0.000 | 0.126 | |
| genius | 0.228 | 0.000 | 0.228 | |
| ggi | 0.122 | 0.003 | 0.126 | |
| ihc4 | 0.108 | 0.012 | 0.119 | |
| intrinsic.cluster | 0.437 | 0.001 | 0.415 | |
| intrinsic.cluster.predict | 0.182 | 0.000 | 0.181 | |
| map.datasets | 1.652 | 0.292 | 1.944 | |
| molecular.subtyping | 2.372 | 0.291 | 2.671 | |
| npi | 0.100 | 0.004 | 0.104 | |
| oncotypedx | 0.111 | 0.005 | 0.117 | |
| ovcAngiogenic | 0.137 | 0.006 | 0.142 | |
| ovcCrijns | 0.112 | 0.000 | 0.113 | |
| ovcTCGA | 0.225 | 0.004 | 0.229 | |
| ovcYoshihara | 0.117 | 0.000 | 0.117 | |
| pik3cags | 0.107 | 0.001 | 0.107 | |
| power.cor | 0.000 | 0.000 | 0.001 | |
| ps.cluster | 0.335 | 0.005 | 0.319 | |
| read.m.file | 0.027 | 0.000 | 0.029 | |
| rename.duplicate | 0.002 | 0.000 | 0.002 | |
| rescale | 0.23 | 0.00 | 0.23 | |
| rorS | 0.157 | 0.008 | 0.166 | |
| setcolclass.df | 0.002 | 0.000 | 0.002 | |
| sig.score | 0.115 | 0.000 | 0.115 | |
| spearmanCI | 0.000 | 0.000 | 0.001 | |
| st.gallen | 0.091 | 0.016 | 0.107 | |
| stab.fs | 0.084 | 0.000 | 0.085 | |
| stab.fs.ranking | 0.432 | 0.016 | 0.447 | |
| strescR | 0.000 | 0.001 | 0.001 | |
| subtype.cluster | 0.660 | 0.026 | 0.687 | |
| subtype.cluster.predict | 0.255 | 0.004 | 0.259 | |
| tamr13 | 0.140 | 0.008 | 0.148 | |
| tbrm | 0.001 | 0.000 | 0.001 | |
| weighted.meanvar | 0.001 | 0.000 | 0.000 | |
| write.m.file | 0.004 | 0.000 | 0.003 | |