| Back to Multiple platform build/check report for BioC 3.13 | 
 | 
This page was generated on 2021-10-15 15:06:05 -0400 (Fri, 15 Oct 2021).
| To the developers/maintainers of the gaia package: - Please allow up to 24 hours (and sometimes 48 hours) for your latest push to git@git.bioconductor.org:packages/gaia.git to reflect on this report. See How and When does the builder pull? When will my changes propagate? here for more information. - Make sure to use the following settings in order to reproduce any error or warning you see on this page. | 
| Package 687/2041 | Hostname | OS / Arch | INSTALL | BUILD | CHECK | BUILD BIN | ||||||||
| gaia 2.36.0  (landing page) S. Morganella 
 | nebbiolo1 | Linux (Ubuntu 20.04.2 LTS) / x86_64 | OK | OK | OK |  | ||||||||
| tokay2 | Windows Server 2012 R2 Standard / x64 | OK | OK | OK | OK |  | ||||||||
| machv2 | macOS 10.14.6 Mojave / x86_64 | OK | OK | OK | OK |  | ||||||||
| Package: gaia | 
| Version: 2.36.0 | 
| Command: C:\Users\biocbuild\bbs-3.13-bioc\R\bin\R.exe CMD check --force-multiarch --install=check:gaia.install-out.txt --library=C:\Users\biocbuild\bbs-3.13-bioc\R\library --no-vignettes --timings gaia_2.36.0.tar.gz | 
| StartedAt: 2021-10-14 23:22:13 -0400 (Thu, 14 Oct 2021) | 
| EndedAt: 2021-10-14 23:23:06 -0400 (Thu, 14 Oct 2021) | 
| EllapsedTime: 52.8 seconds | 
| RetCode: 0 | 
| Status: OK | 
| CheckDir: gaia.Rcheck | 
| Warnings: 0 | 
##############################################################################
##############################################################################
###
### Running command:
###
###   C:\Users\biocbuild\bbs-3.13-bioc\R\bin\R.exe CMD check --force-multiarch --install=check:gaia.install-out.txt --library=C:\Users\biocbuild\bbs-3.13-bioc\R\library --no-vignettes --timings gaia_2.36.0.tar.gz
###
##############################################################################
##############################################################################
* using log directory 'C:/Users/biocbuild/bbs-3.13-bioc/meat/gaia.Rcheck'
* using R version 4.1.1 (2021-08-10)
* using platform: x86_64-w64-mingw32 (64-bit)
* using session charset: ISO8859-1
* using option '--no-vignettes'
* checking for file 'gaia/DESCRIPTION' ... OK
* checking extension type ... Package
* this is package 'gaia' version '2.36.0'
* checking package namespace information ... OK
* checking package dependencies ... OK
* checking if this is a source package ... OK
* checking if there is a namespace ... OK
* checking for hidden files and directories ... OK
* checking for portable file names ... OK
* checking whether package 'gaia' can be installed ... OK
* checking installed package size ... OK
* checking package directory ... OK
* checking 'build' directory ... OK
* checking DESCRIPTION meta-information ... NOTE
Malformed Title field: should not end in a period.
* checking top-level files ... OK
* checking for left-over files ... OK
* checking index information ... OK
* checking package subdirectories ... OK
* checking R files for non-ASCII characters ... OK
* checking R files for syntax errors ... OK
* loading checks for arch 'i386'
** checking whether the package can be loaded ... OK
** checking whether the package can be loaded with stated dependencies ... OK
** checking whether the package can be unloaded cleanly ... OK
** checking whether the namespace can be loaded with stated dependencies ... OK
** checking whether the namespace can be unloaded cleanly ... OK
* loading checks for arch 'x64'
** checking whether the package can be loaded ... OK
** checking whether the package can be loaded with stated dependencies ... OK
** checking whether the package can be unloaded cleanly ... OK
** checking whether the namespace can be loaded with stated dependencies ... OK
** checking whether the namespace can be unloaded cleanly ... OK
* checking dependencies in R code ... OK
* checking S3 generic/method consistency ... OK
* checking replacement functions ... OK
* checking foreign function calls ... OK
* checking R code for possible problems ... NOTE
generate_approx_null_hypothesis: no visible global function definition
  for 'rbinom'
qvalue: no visible global function definition for 'smooth.spline'
qvalue: no visible global function definition for 'predict'
runGAIA: no visible global function definition for 'write.table'
write_significant_regions: no visible global function definition for
  'write.table'
Undefined global functions or variables:
  predict rbinom smooth.spline write.table
Consider adding
  importFrom("stats", "predict", "rbinom", "smooth.spline")
  importFrom("utils", "write.table")
to your NAMESPACE file.
* checking Rd files ... OK
* checking Rd metadata ... OK
* checking Rd cross-references ... OK
* checking for missing documentation entries ... OK
* checking for code/documentation mismatches ... OK
* checking Rd \usage sections ... OK
* checking Rd contents ... OK
* checking for unstated dependencies in examples ... OK
* checking contents of 'data' directory ... OK
* checking data for non-ASCII characters ... OK
* checking data for ASCII and uncompressed saves ... OK
* checking files in 'vignettes' ... OK
* checking examples ...
** running examples for arch 'i386' ... OK
Examples with CPU (user + system) or elapsed time > 5s
        user system elapsed
runGAIA 6.09      0     6.1
** running examples for arch 'x64' ... OK
* checking for unstated dependencies in vignettes ... OK
* checking package vignettes in 'inst/doc' ... OK
* checking running R code from vignettes ... SKIPPED
* checking re-building of vignette outputs ... SKIPPED
* checking PDF version of manual ... OK
* DONE
Status: 2 NOTEs
See
  'C:/Users/biocbuild/bbs-3.13-bioc/meat/gaia.Rcheck/00check.log'
for details.
gaia.Rcheck/00install.out
##############################################################################
##############################################################################
###
### Running command:
###
###   C:\cygwin\bin\curl.exe -O http://155.52.207.165/BBS/3.13/bioc/src/contrib/gaia_2.36.0.tar.gz && rm -rf gaia.buildbin-libdir && mkdir gaia.buildbin-libdir && C:\Users\biocbuild\bbs-3.13-bioc\R\bin\R.exe CMD INSTALL --merge-multiarch --build --library=gaia.buildbin-libdir gaia_2.36.0.tar.gz && C:\Users\biocbuild\bbs-3.13-bioc\R\bin\R.exe CMD INSTALL gaia_2.36.0.zip && rm gaia_2.36.0.tar.gz gaia_2.36.0.zip
###
##############################################################################
##############################################################################
  % Total    % Received % Xferd  Average Speed   Time    Time     Time  Current
                                 Dload  Upload   Total   Spent    Left  Speed
  0     0    0     0    0     0      0      0 --:--:-- --:--:-- --:--:--     0
100  457k  100  457k    0     0   813k      0 --:--:-- --:--:-- --:--:--  814k
install for i386
* installing *source* package 'gaia' ...
** using staged installation
** R
** data
** byte-compile and prepare package for lazy loading
** help
*** installing help indices
  converting help for package 'gaia'
    finding HTML links ... done
    crc                                     html  
    crc_markers                             html  
    gaia-package                            html  
    generate_approx_null_hypothesis         html  
    generate_null_hypothesis                html  
    load_cnv                                html  
    load_markers                            html  
    peel_off                                html  
    qvalue                                  html  
    runGAIA                                 html  
    search_peaks_in_regions                 html  
    synthCNV_Matrix                         html  
    synthMarkers_Matrix                     html  
    write_significant_regions               html  
** building package indices
** installing vignettes
** testing if installed package can be loaded from temporary location
** testing if installed package can be loaded from final location
** testing if installed package keeps a record of temporary installation path
install for x64
* installing *source* package 'gaia' ...
** testing if installed package can be loaded
* MD5 sums
packaged installation of 'gaia' as gaia_2.36.0.zip
* DONE (gaia)
* installing to library 'C:/Users/biocbuild/bbs-3.13-bioc/R/library'
package 'gaia' successfully unpacked and MD5 sums checked
| gaia.Rcheck/examples_i386/gaia-Ex.timings 
 | gaia.Rcheck/examples_x64/gaia-Ex.timings 
 |