| Back to Multiple platform build/check report for BioC 3.13 |
|
This page was generated on 2021-10-15 15:06:05 -0400 (Fri, 15 Oct 2021).
|
To the developers/maintainers of the gaia package: - Please allow up to 24 hours (and sometimes 48 hours) for your latest push to git@git.bioconductor.org:packages/gaia.git to reflect on this report. See How and When does the builder pull? When will my changes propagate? here for more information. - Make sure to use the following settings in order to reproduce any error or warning you see on this page. |
| Package 687/2041 | Hostname | OS / Arch | INSTALL | BUILD | CHECK | BUILD BIN | ||||||||
| gaia 2.36.0 (landing page) S. Morganella
| nebbiolo1 | Linux (Ubuntu 20.04.2 LTS) / x86_64 | OK | OK | OK | |||||||||
| tokay2 | Windows Server 2012 R2 Standard / x64 | OK | OK | OK | OK | |||||||||
| machv2 | macOS 10.14.6 Mojave / x86_64 | OK | OK | OK | OK | |||||||||
| Package: gaia |
| Version: 2.36.0 |
| Command: rm -rf gaia.buildbin-libdir && mkdir gaia.buildbin-libdir && C:\Users\biocbuild\bbs-3.13-bioc\R\bin\R.exe CMD INSTALL --merge-multiarch --build --library=gaia.buildbin-libdir gaia_2.36.0.tar.gz |
| StartedAt: 2021-10-15 09:25:26 -0400 (Fri, 15 Oct 2021) |
| EndedAt: 2021-10-15 09:26:52 -0400 (Fri, 15 Oct 2021) |
| EllapsedTime: 86.0 seconds |
| RetCode: 0 |
| Status: OK |
| PackageFile: gaia_2.36.0.zip |
| PackageFileSize: 705.2 KiB |
##############################################################################
##############################################################################
###
### Running command:
###
### rm -rf gaia.buildbin-libdir && mkdir gaia.buildbin-libdir && C:\Users\biocbuild\bbs-3.13-bioc\R\bin\R.exe CMD INSTALL --merge-multiarch --build --library=gaia.buildbin-libdir gaia_2.36.0.tar.gz
###
##############################################################################
##############################################################################
install for i386
* installing *source* package 'gaia' ...
** using staged installation
** R
** data
** inst
** byte-compile and prepare package for lazy loading
** help
*** installing help indices
converting help for package 'gaia'
finding HTML links ... done
crc html
crc_markers html
gaia-package html
generate_approx_null_hypothesis html
generate_null_hypothesis html
load_cnv html
load_markers html
peel_off html
qvalue html
runGAIA html
search_peaks_in_regions html
synthCNV_Matrix html
synthMarkers_Matrix html
write_significant_regions html
** building package indices
** installing vignettes
** testing if installed package can be loaded from temporary location
** testing if installed package can be loaded from final location
** testing if installed package keeps a record of temporary installation path
install for x64
* installing *source* package 'gaia' ...
** testing if installed package can be loaded
* MD5 sums
packaged installation of 'gaia' as gaia_2.36.0.zip
* DONE (gaia)