| Back to Multiple platform build/check report for BioC 3.13 |
|
This page was generated on 2021-10-15 15:06:01 -0400 (Fri, 15 Oct 2021).
|
To the developers/maintainers of the ctc package: - Please allow up to 24 hours (and sometimes 48 hours) for your latest push to git@git.bioconductor.org:packages/ctc.git to reflect on this report. See How and When does the builder pull? When will my changes propagate? here for more information. - Make sure to use the following settings in order to reproduce any error or warning you see on this page. |
| Package 419/2041 | Hostname | OS / Arch | INSTALL | BUILD | CHECK | BUILD BIN | ||||||||
| ctc 1.66.0 (landing page) Antoine Lucas
| nebbiolo1 | Linux (Ubuntu 20.04.2 LTS) / x86_64 | OK | OK | OK | |||||||||
| tokay2 | Windows Server 2012 R2 Standard / x64 | OK | OK | OK | OK | |||||||||
| machv2 | macOS 10.14.6 Mojave / x86_64 | OK | OK | OK | OK | |||||||||
| Package: ctc |
| Version: 1.66.0 |
| Command: rm -rf ctc.buildbin-libdir && mkdir ctc.buildbin-libdir && C:\Users\biocbuild\bbs-3.13-bioc\R\bin\R.exe CMD INSTALL --merge-multiarch --build --library=ctc.buildbin-libdir ctc_1.66.0.tar.gz |
| StartedAt: 2021-10-15 08:48:18 -0400 (Fri, 15 Oct 2021) |
| EndedAt: 2021-10-15 08:49:43 -0400 (Fri, 15 Oct 2021) |
| EllapsedTime: 85.2 seconds |
| RetCode: 0 |
| Status: OK |
| PackageFile: ctc_1.66.0.zip |
| PackageFileSize: 233 KiB |
##############################################################################
##############################################################################
###
### Running command:
###
### rm -rf ctc.buildbin-libdir && mkdir ctc.buildbin-libdir && C:\Users\biocbuild\bbs-3.13-bioc\R\bin\R.exe CMD INSTALL --merge-multiarch --build --library=ctc.buildbin-libdir ctc_1.66.0.tar.gz
###
##############################################################################
##############################################################################
install for i386
* installing *source* package 'ctc' ...
** using staged installation
** R
** demo
** exec
** inst
** byte-compile and prepare package for lazy loading
** help
*** installing help indices
converting help for package 'ctc'
finding HTML links ... done
hc2Newick html
hclust2treeview html
r2cluster html
r2gtr html
r2xcluster html
read.eisen html
xcluster html
xcluster2r html
** building package indices
** installing vignettes
** testing if installed package can be loaded from temporary location
** testing if installed package can be loaded from final location
** testing if installed package keeps a record of temporary installation path
install for x64
* installing *source* package 'ctc' ...
** testing if installed package can be loaded
* MD5 sums
packaged installation of 'ctc' as ctc_1.66.0.zip
* DONE (ctc)