| Back to Multiple platform build/check report for BioC 3.13 |
|
This page was generated on 2021-10-15 15:05:38 -0400 (Fri, 15 Oct 2021).
|
To the developers/maintainers of the ctc package: - Please allow up to 24 hours (and sometimes 48 hours) for your latest push to git@git.bioconductor.org:packages/ctc.git to reflect on this report. See How and When does the builder pull? When will my changes propagate? here for more information. - Make sure to use the following settings in order to reproduce any error or warning you see on this page. |
| Package 419/2041 | Hostname | OS / Arch | INSTALL | BUILD | CHECK | BUILD BIN | ||||||||
| ctc 1.66.0 (landing page) Antoine Lucas
| nebbiolo1 | Linux (Ubuntu 20.04.2 LTS) / x86_64 | OK | OK | OK | |||||||||
| tokay2 | Windows Server 2012 R2 Standard / x64 | OK | OK | OK | OK | |||||||||
| machv2 | macOS 10.14.6 Mojave / x86_64 | OK | OK | OK | OK | |||||||||
| Package: ctc |
| Version: 1.66.0 |
| Command: /home/biocbuild/bbs-3.13-bioc/R/bin/R CMD check --install=check:ctc.install-out.txt --library=/home/biocbuild/bbs-3.13-bioc/R/library --no-vignettes --timings ctc_1.66.0.tar.gz |
| StartedAt: 2021-10-14 09:26:10 -0400 (Thu, 14 Oct 2021) |
| EndedAt: 2021-10-14 09:26:26 -0400 (Thu, 14 Oct 2021) |
| EllapsedTime: 15.8 seconds |
| RetCode: 0 |
| Status: OK |
| CheckDir: ctc.Rcheck |
| Warnings: 0 |
##############################################################################
##############################################################################
###
### Running command:
###
### /home/biocbuild/bbs-3.13-bioc/R/bin/R CMD check --install=check:ctc.install-out.txt --library=/home/biocbuild/bbs-3.13-bioc/R/library --no-vignettes --timings ctc_1.66.0.tar.gz
###
##############################################################################
##############################################################################
* using log directory ‘/home/biocbuild/bbs-3.13-bioc/meat/ctc.Rcheck’
* using R version 4.1.1 (2021-08-10)
* using platform: x86_64-pc-linux-gnu (64-bit)
* using session charset: UTF-8
* using option ‘--no-vignettes’
* checking for file ‘ctc/DESCRIPTION’ ... OK
* this is package ‘ctc’ version ‘1.66.0’
* checking package namespace information ... OK
* checking package dependencies ... OK
* checking if this is a source package ... OK
* checking if there is a namespace ... OK
* checking for hidden files and directories ... OK
* checking for portable file names ... OK
* checking for sufficient/correct file permissions ... OK
* checking whether package ‘ctc’ can be installed ... OK
* checking installed package size ... OK
* checking package directory ... OK
* checking ‘build’ directory ... OK
* checking DESCRIPTION meta-information ... NOTE
Malformed Title field: should not end in a period.
Malformed Description field: should contain one or more complete sentences.
* checking top-level files ... OK
* checking for left-over files ... OK
* checking index information ... OK
* checking package subdirectories ... OK
* checking R files for non-ASCII characters ... OK
* checking R files for syntax errors ... OK
* checking whether the package can be loaded ... OK
* checking whether the package can be loaded with stated dependencies ... OK
* checking whether the package can be unloaded cleanly ... OK
* checking whether the namespace can be loaded with stated dependencies ... OK
* checking whether the namespace can be unloaded cleanly ... OK
* checking dependencies in R code ... NOTE
'library' or 'require' call to ‘amap’ which was already attached by Depends.
Please remove these calls from your code.
Package in Depends field not imported from: ‘amap’
These packages need to be imported from (in the NAMESPACE file)
for when this namespace is loaded but not attached.
* checking S3 generic/method consistency ... OK
* checking replacement functions ... OK
* checking foreign function calls ... OK
* checking R code for possible problems ... NOTE
.First.lib: warning in .packages(all = TRUE): partial argument match of
'all' to 'all.available'
.onLoad: warning in .packages(all = TRUE): partial argument match of
'all' to 'all.available'
hclust2treeview: warning in .packages(all = TRUE): partial argument
match of 'all' to 'all.available'
hclust2treeview: no visible global function definition for ‘hclust’
hclust2treeview: no visible global function definition for ‘dist’
r2atr: no visible global function definition for ‘write.table’
r2cdt: no visible global function definition for ‘write.table’
r2cluster: no visible global function definition for ‘write.table’
r2gtr: no visible global function definition for ‘write.table’
r2xcluster: no visible global function definition for ‘write.table’
read.eisen: no visible global function definition for ‘read.table’
xcluster2r: no visible global function definition for ‘read.table’
Undefined global functions or variables:
dist hclust read.table write.table
Consider adding
importFrom("stats", "dist", "hclust")
importFrom("utils", "read.table", "write.table")
to your NAMESPACE file.
* checking Rd files ... OK
* checking Rd metadata ... OK
* checking Rd cross-references ... OK
* checking for missing documentation entries ... OK
* checking for code/documentation mismatches ... OK
* checking Rd \usage sections ... OK
* checking Rd contents ... OK
* checking for unstated dependencies in examples ... OK
* checking files in ‘vignettes’ ... OK
* checking examples ... OK
* checking for unstated dependencies in vignettes ... OK
* checking package vignettes in ‘inst/doc’ ... OK
* checking running R code from vignettes ... SKIPPED
* checking re-building of vignette outputs ... SKIPPED
* checking PDF version of manual ... OK
* DONE
Status: 3 NOTEs
See
‘/home/biocbuild/bbs-3.13-bioc/meat/ctc.Rcheck/00check.log’
for details.
ctc.Rcheck/00install.out
############################################################################## ############################################################################## ### ### Running command: ### ### /home/biocbuild/bbs-3.13-bioc/R/bin/R CMD INSTALL ctc ### ############################################################################## ############################################################################## * installing to library ‘/home/biocbuild/bbs-3.13-bioc/R/library’ * installing *source* package ‘ctc’ ... ** using staged installation ** R ** demo ** exec ** byte-compile and prepare package for lazy loading ** help *** installing help indices ** building package indices ** installing vignettes ** testing if installed package can be loaded from temporary location ** testing if installed package can be loaded from final location ** testing if installed package keeps a record of temporary installation path * DONE (ctc)
ctc.Rcheck/ctc-Ex.timings
| name | user | system | elapsed | |
| hc2Newick | 0.016 | 0.000 | 0.016 | |
| hclust2treeview | 0.028 | 0.019 | 0.047 | |
| r2cluster | 0.003 | 0.000 | 0.003 | |
| r2gtr | 0.006 | 0.000 | 0.006 | |
| r2xcluster | 0.003 | 0.000 | 0.003 | |
| xcluster | 0.001 | 0.000 | 0.001 | |
| xcluster2r | 0.001 | 0.003 | 0.003 | |