| Back to Multiple platform build/check report for BioC 3.13 |
|
This page was generated on 2021-10-15 15:06:25 -0400 (Fri, 15 Oct 2021).
|
To the developers/maintainers of the TargetSearch package: - Please allow up to 24 hours (and sometimes 48 hours) for your latest push to git@git.bioconductor.org:packages/TargetSearch.git to reflect on this report. See How and When does the builder pull? When will my changes propagate? here for more information. - Make sure to use the following settings in order to reproduce any error or warning you see on this page. |
| Package 1895/2041 | Hostname | OS / Arch | INSTALL | BUILD | CHECK | BUILD BIN | ||||||||
| TargetSearch 1.48.0 (landing page) Alvaro Cuadros-Inostroza
| nebbiolo1 | Linux (Ubuntu 20.04.2 LTS) / x86_64 | OK | OK | OK | |||||||||
| tokay2 | Windows Server 2012 R2 Standard / x64 | OK | OK | OK | OK | |||||||||
| machv2 | macOS 10.14.6 Mojave / x86_64 | OK | OK | OK | OK | |||||||||
| Package: TargetSearch |
| Version: 1.48.0 |
| Command: rm -rf TargetSearch.buildbin-libdir && mkdir TargetSearch.buildbin-libdir && C:\Users\biocbuild\bbs-3.13-bioc\R\bin\R.exe CMD INSTALL --merge-multiarch --build --library=TargetSearch.buildbin-libdir TargetSearch_1.48.0.tar.gz |
| StartedAt: 2021-10-15 12:08:09 -0400 (Fri, 15 Oct 2021) |
| EndedAt: 2021-10-15 12:09:42 -0400 (Fri, 15 Oct 2021) |
| EllapsedTime: 92.8 seconds |
| RetCode: 0 |
| Status: OK |
| PackageFile: TargetSearch_1.48.0.zip |
| PackageFileSize: 1.217 MiB |
##############################################################################
##############################################################################
###
### Running command:
###
### rm -rf TargetSearch.buildbin-libdir && mkdir TargetSearch.buildbin-libdir && C:\Users\biocbuild\bbs-3.13-bioc\R\bin\R.exe CMD INSTALL --merge-multiarch --build --library=TargetSearch.buildbin-libdir TargetSearch_1.48.0.tar.gz
###
##############################################################################
##############################################################################
install for i386
* installing *source* package 'TargetSearch' ...
** using staged installation
** libs
"C:/rtools40/mingw32/bin/"gcc -I"C:/Users/BIOCBU~1/BBS-3~1.13-/R/include" -DNDEBUG -I"c:/extsoft/include" -O2 -Wall -std=gnu99 -mfpmath=sse -msse2 -mstackrealign -c Rinit.c -o Rinit.o
"C:/rtools40/mingw32/bin/"gcc -I"C:/Users/BIOCBU~1/BBS-3~1.13-/R/include" -DNDEBUG -I"c:/extsoft/include" -O2 -Wall -std=gnu99 -mfpmath=sse -msse2 -mstackrealign -c baseline.c -o baseline.o
"C:/rtools40/mingw32/bin/"gcc -I"C:/Users/BIOCBU~1/BBS-3~1.13-/R/include" -DNDEBUG -I"c:/extsoft/include" -O2 -Wall -std=gnu99 -mfpmath=sse -msse2 -mstackrealign -c detection.c -o detection.o
"C:/rtools40/mingw32/bin/"gcc -I"C:/Users/BIOCBU~1/BBS-3~1.13-/R/include" -DNDEBUG -I"c:/extsoft/include" -O2 -Wall -std=gnu99 -mfpmath=sse -msse2 -mstackrealign -c file.c -o file.o
"C:/rtools40/mingw32/bin/"gcc -I"C:/Users/BIOCBU~1/BBS-3~1.13-/R/include" -DNDEBUG -I"c:/extsoft/include" -O2 -Wall -std=gnu99 -mfpmath=sse -msse2 -mstackrealign -c find_peaks.c -o find_peaks.o
"C:/rtools40/mingw32/bin/"gcc -I"C:/Users/BIOCBU~1/BBS-3~1.13-/R/include" -DNDEBUG -I"c:/extsoft/include" -O2 -Wall -std=gnu99 -mfpmath=sse -msse2 -mstackrealign -c getLine.c -o getLine.o
"C:/rtools40/mingw32/bin/"gcc -I"C:/Users/BIOCBU~1/BBS-3~1.13-/R/include" -DNDEBUG -I"c:/extsoft/include" -O2 -Wall -std=gnu99 -mfpmath=sse -msse2 -mstackrealign -c hpf.c -o hpf.o
"C:/rtools40/mingw32/bin/"gcc -I"C:/Users/BIOCBU~1/BBS-3~1.13-/R/include" -DNDEBUG -I"c:/extsoft/include" -O2 -Wall -std=gnu99 -mfpmath=sse -msse2 -mstackrealign -c matrix.c -o matrix.o
"C:/rtools40/mingw32/bin/"gcc -I"C:/Users/BIOCBU~1/BBS-3~1.13-/R/include" -DNDEBUG -I"c:/extsoft/include" -O2 -Wall -std=gnu99 -mfpmath=sse -msse2 -mstackrealign -c ncdf.c -o ncdf.o
"C:/rtools40/mingw32/bin/"gcc -I"C:/Users/BIOCBU~1/BBS-3~1.13-/R/include" -DNDEBUG -I"c:/extsoft/include" -O2 -Wall -std=gnu99 -mfpmath=sse -msse2 -mstackrealign -c peak.c -o peak.o
"C:/rtools40/mingw32/bin/"gcc -I"C:/Users/BIOCBU~1/BBS-3~1.13-/R/include" -DNDEBUG -I"c:/extsoft/include" -O2 -Wall -std=gnu99 -mfpmath=sse -msse2 -mstackrealign -c utils.c -o utils.o
C:/rtools40/mingw32/bin/gcc -shared -s -static-libgcc -o TargetSearch.dll tmp.def Rinit.o baseline.o detection.o file.o find_peaks.o getLine.o hpf.o matrix.o ncdf.o peak.o utils.o -Lc:/extsoft/lib/i386 -Lc:/extsoft/lib -LC:/Users/BIOCBU~1/BBS-3~1.13-/R/bin/i386 -lR
installing to C:/Users/biocbuild/bbs-3.13-bioc/meat/TargetSearch.buildbin-libdir/00LOCK-TargetSearch/00new/TargetSearch/libs/i386
** R
** data
** inst
** byte-compile and prepare package for lazy loading
** help
*** installing help indices
converting help for package 'TargetSearch'
finding HTML links ... done
FAMEoutliers html
FindAllPeaks html
FindPeaks html
ImportFameSettings html
ImportLibrary html
ImportSamples html
NetCDFPeakFinding html
Profile html
ProfileCleanUp html
RIcorrect html
TSExample html
TargetSearch-defunct html
TargetSearch-package html
Write.Results html
baseline html
baselineCorrection html
baselineCorrectionQuant html
checkRimLim html
file html
fixRI html
medianRILib html
ncdf4Convert-method html
ncdf4_convert html
ncdf4_convert_from_path html
ncdf4_data_extract html
ncdf4_plot_peak html
ncdf4_update_ri html
peakCDFextraction html
peakFind html
plotFAME html
plotPeak html
plotPeakRI html
plotPeakSimple html
plotRIdev html
plotSpectra html
quantMatrix html
ri2rt html
riMatrix html
REDIRECT:topic Previous alias or file overwritten by alias: C:/Users/biocbuild/bbs-3.13-bioc/meat/TargetSearch.buildbin-libdir/00LOCK-TargetSearch/00new/TargetSearch/help/riMatrix.html
ri_data_extract html
ri_plot_peak html
rt2ri html
sampleRI html
tsLib-class html
tsMSdata-class html
tsProfile-class html
tsRim-class html
tsSample-class html
tsUpdate-method html
updateRI html
writeLibText html
writeMSP html
** building package indices
** installing vignettes
** testing if installed package can be loaded from temporary location
** testing if installed package can be loaded from final location
** testing if installed package keeps a record of temporary installation path
install for x64
* installing *source* package 'TargetSearch' ...
** libs
"C:/rtools40/mingw64/bin/"gcc -I"C:/Users/BIOCBU~1/BBS-3~1.13-/R/include" -DNDEBUG -I"C:/extsoft/include" -O2 -Wall -std=gnu99 -mfpmath=sse -msse2 -mstackrealign -c Rinit.c -o Rinit.o
"C:/rtools40/mingw64/bin/"gcc -I"C:/Users/BIOCBU~1/BBS-3~1.13-/R/include" -DNDEBUG -I"C:/extsoft/include" -O2 -Wall -std=gnu99 -mfpmath=sse -msse2 -mstackrealign -c baseline.c -o baseline.o
"C:/rtools40/mingw64/bin/"gcc -I"C:/Users/BIOCBU~1/BBS-3~1.13-/R/include" -DNDEBUG -I"C:/extsoft/include" -O2 -Wall -std=gnu99 -mfpmath=sse -msse2 -mstackrealign -c detection.c -o detection.o
"C:/rtools40/mingw64/bin/"gcc -I"C:/Users/BIOCBU~1/BBS-3~1.13-/R/include" -DNDEBUG -I"C:/extsoft/include" -O2 -Wall -std=gnu99 -mfpmath=sse -msse2 -mstackrealign -c file.c -o file.o
"C:/rtools40/mingw64/bin/"gcc -I"C:/Users/BIOCBU~1/BBS-3~1.13-/R/include" -DNDEBUG -I"C:/extsoft/include" -O2 -Wall -std=gnu99 -mfpmath=sse -msse2 -mstackrealign -c find_peaks.c -o find_peaks.o
"C:/rtools40/mingw64/bin/"gcc -I"C:/Users/BIOCBU~1/BBS-3~1.13-/R/include" -DNDEBUG -I"C:/extsoft/include" -O2 -Wall -std=gnu99 -mfpmath=sse -msse2 -mstackrealign -c getLine.c -o getLine.o
"C:/rtools40/mingw64/bin/"gcc -I"C:/Users/BIOCBU~1/BBS-3~1.13-/R/include" -DNDEBUG -I"C:/extsoft/include" -O2 -Wall -std=gnu99 -mfpmath=sse -msse2 -mstackrealign -c hpf.c -o hpf.o
"C:/rtools40/mingw64/bin/"gcc -I"C:/Users/BIOCBU~1/BBS-3~1.13-/R/include" -DNDEBUG -I"C:/extsoft/include" -O2 -Wall -std=gnu99 -mfpmath=sse -msse2 -mstackrealign -c matrix.c -o matrix.o
"C:/rtools40/mingw64/bin/"gcc -I"C:/Users/BIOCBU~1/BBS-3~1.13-/R/include" -DNDEBUG -I"C:/extsoft/include" -O2 -Wall -std=gnu99 -mfpmath=sse -msse2 -mstackrealign -c ncdf.c -o ncdf.o
"C:/rtools40/mingw64/bin/"gcc -I"C:/Users/BIOCBU~1/BBS-3~1.13-/R/include" -DNDEBUG -I"C:/extsoft/include" -O2 -Wall -std=gnu99 -mfpmath=sse -msse2 -mstackrealign -c peak.c -o peak.o
"C:/rtools40/mingw64/bin/"gcc -I"C:/Users/BIOCBU~1/BBS-3~1.13-/R/include" -DNDEBUG -I"C:/extsoft/include" -O2 -Wall -std=gnu99 -mfpmath=sse -msse2 -mstackrealign -c utils.c -o utils.o
C:/rtools40/mingw64/bin/gcc -shared -s -static-libgcc -o TargetSearch.dll tmp.def Rinit.o baseline.o detection.o file.o find_peaks.o getLine.o hpf.o matrix.o ncdf.o peak.o utils.o -LC:/extsoft/lib/x64 -LC:/extsoft/lib -LC:/Users/BIOCBU~1/BBS-3~1.13-/R/bin/x64 -lR
installing to C:/Users/biocbuild/bbs-3.13-bioc/meat/TargetSearch.buildbin-libdir/TargetSearch/libs/x64
** testing if installed package can be loaded
* MD5 sums
packaged installation of 'TargetSearch' as TargetSearch_1.48.0.zip
* DONE (TargetSearch)