| Back to Multiple platform build/check report for BioC 3.13 |
|
This page was generated on 2021-10-15 15:05:54 -0400 (Fri, 15 Oct 2021).
|
To the developers/maintainers of the TargetSearch package: - Please allow up to 24 hours (and sometimes 48 hours) for your latest push to git@git.bioconductor.org:packages/TargetSearch.git to reflect on this report. See How and When does the builder pull? When will my changes propagate? here for more information. - Make sure to use the following settings in order to reproduce any error or warning you see on this page. |
| Package 1895/2041 | Hostname | OS / Arch | INSTALL | BUILD | CHECK | BUILD BIN | ||||||||
| TargetSearch 1.48.0 (landing page) Alvaro Cuadros-Inostroza
| nebbiolo1 | Linux (Ubuntu 20.04.2 LTS) / x86_64 | OK | OK | OK | |||||||||
| tokay2 | Windows Server 2012 R2 Standard / x64 | OK | OK | OK | OK | |||||||||
| machv2 | macOS 10.14.6 Mojave / x86_64 | OK | OK | OK | OK | |||||||||
| Package: TargetSearch |
| Version: 1.48.0 |
| Command: /home/biocbuild/bbs-3.13-bioc/R/bin/R CMD check --install=check:TargetSearch.install-out.txt --library=/home/biocbuild/bbs-3.13-bioc/R/library --no-vignettes --timings TargetSearch_1.48.0.tar.gz |
| StartedAt: 2021-10-14 11:50:12 -0400 (Thu, 14 Oct 2021) |
| EndedAt: 2021-10-14 11:50:57 -0400 (Thu, 14 Oct 2021) |
| EllapsedTime: 45.7 seconds |
| RetCode: 0 |
| Status: OK |
| CheckDir: TargetSearch.Rcheck |
| Warnings: 0 |
##############################################################################
##############################################################################
###
### Running command:
###
### /home/biocbuild/bbs-3.13-bioc/R/bin/R CMD check --install=check:TargetSearch.install-out.txt --library=/home/biocbuild/bbs-3.13-bioc/R/library --no-vignettes --timings TargetSearch_1.48.0.tar.gz
###
##############################################################################
##############################################################################
* using log directory ‘/home/biocbuild/bbs-3.13-bioc/meat/TargetSearch.Rcheck’
* using R version 4.1.1 (2021-08-10)
* using platform: x86_64-pc-linux-gnu (64-bit)
* using session charset: UTF-8
* using option ‘--no-vignettes’
* checking for file ‘TargetSearch/DESCRIPTION’ ... OK
* checking extension type ... Package
* this is package ‘TargetSearch’ version ‘1.48.0’
* checking package namespace information ... OK
* checking package dependencies ... OK
* checking if this is a source package ... OK
* checking if there is a namespace ... OK
* checking for hidden files and directories ... OK
* checking for portable file names ... OK
* checking for sufficient/correct file permissions ... OK
* checking whether package ‘TargetSearch’ can be installed ... OK
* checking installed package size ... OK
* checking package directory ... OK
* checking ‘build’ directory ... OK
* checking DESCRIPTION meta-information ... OK
* checking top-level files ... OK
* checking for left-over files ... OK
* checking index information ... OK
* checking package subdirectories ... OK
* checking R files for non-ASCII characters ... OK
* checking R files for syntax errors ... OK
* checking whether the package can be loaded ... OK
* checking whether the package can be loaded with stated dependencies ... OK
* checking whether the package can be unloaded cleanly ... OK
* checking whether the namespace can be loaded with stated dependencies ... OK
* checking whether the namespace can be unloaded cleanly ... OK
* checking dependencies in R code ... OK
* checking S3 generic/method consistency ... OK
* checking replacement functions ... OK
* checking foreign function calls ... OK
* checking R code for possible problems ... OK
* checking Rd files ... OK
* checking Rd metadata ... OK
* checking Rd cross-references ... OK
* checking for missing documentation entries ... OK
* checking for code/documentation mismatches ... OK
* checking Rd \usage sections ... OK
* checking Rd contents ... OK
* checking for unstated dependencies in examples ... OK
* checking contents of ‘data’ directory ... OK
* checking data for non-ASCII characters ... OK
* checking data for ASCII and uncompressed saves ... OK
* checking line endings in C/C++/Fortran sources/headers ... OK
* checking compiled code ... NOTE
Note: information on .o files is not available
* checking installed files from ‘inst/doc’ ... OK
* checking files in ‘vignettes’ ... OK
* checking examples ... OK
Examples with CPU (user + system) or elapsed time > 5s
user system elapsed
RIcorrect 7.895 0.62 8.55
* checking for unstated dependencies in ‘tests’ ... OK
* checking tests ...
Running ‘tinytest.R’
OK
* checking for unstated dependencies in vignettes ... OK
* checking package vignettes in ‘inst/doc’ ... OK
* checking running R code from vignettes ... SKIPPED
* checking re-building of vignette outputs ... SKIPPED
* checking PDF version of manual ... OK
* DONE
Status: 1 NOTE
See
‘/home/biocbuild/bbs-3.13-bioc/meat/TargetSearch.Rcheck/00check.log’
for details.
TargetSearch.Rcheck/00install.out
############################################################################## ############################################################################## ### ### Running command: ### ### /home/biocbuild/bbs-3.13-bioc/R/bin/R CMD INSTALL TargetSearch ### ############################################################################## ############################################################################## * installing to library ‘/home/biocbuild/bbs-3.13-bioc/R/library’ * installing *source* package ‘TargetSearch’ ... ** using staged installation ** libs gcc -I"/home/biocbuild/bbs-3.13-bioc/R/include" -DNDEBUG -I/usr/local/include -fpic -g -O2 -Wall -c Rinit.c -o Rinit.o gcc -I"/home/biocbuild/bbs-3.13-bioc/R/include" -DNDEBUG -I/usr/local/include -fpic -g -O2 -Wall -c baseline.c -o baseline.o gcc -I"/home/biocbuild/bbs-3.13-bioc/R/include" -DNDEBUG -I/usr/local/include -fpic -g -O2 -Wall -c detection.c -o detection.o gcc -I"/home/biocbuild/bbs-3.13-bioc/R/include" -DNDEBUG -I/usr/local/include -fpic -g -O2 -Wall -c file.c -o file.o gcc -I"/home/biocbuild/bbs-3.13-bioc/R/include" -DNDEBUG -I/usr/local/include -fpic -g -O2 -Wall -c find_peaks.c -o find_peaks.o gcc -I"/home/biocbuild/bbs-3.13-bioc/R/include" -DNDEBUG -I/usr/local/include -fpic -g -O2 -Wall -c getLine.c -o getLine.o gcc -I"/home/biocbuild/bbs-3.13-bioc/R/include" -DNDEBUG -I/usr/local/include -fpic -g -O2 -Wall -c hpf.c -o hpf.o gcc -I"/home/biocbuild/bbs-3.13-bioc/R/include" -DNDEBUG -I/usr/local/include -fpic -g -O2 -Wall -c matrix.c -o matrix.o gcc -I"/home/biocbuild/bbs-3.13-bioc/R/include" -DNDEBUG -I/usr/local/include -fpic -g -O2 -Wall -c ncdf.c -o ncdf.o gcc -I"/home/biocbuild/bbs-3.13-bioc/R/include" -DNDEBUG -I/usr/local/include -fpic -g -O2 -Wall -c peak.c -o peak.o gcc -I"/home/biocbuild/bbs-3.13-bioc/R/include" -DNDEBUG -I/usr/local/include -fpic -g -O2 -Wall -c utils.c -o utils.o gcc -shared -L/home/biocbuild/bbs-3.13-bioc/R/lib -L/usr/local/lib -o TargetSearch.so Rinit.o baseline.o detection.o file.o find_peaks.o getLine.o hpf.o matrix.o ncdf.o peak.o utils.o -L/home/biocbuild/bbs-3.13-bioc/R/lib -lR installing to /home/biocbuild/bbs-3.13-bioc/R/library/00LOCK-TargetSearch/00new/TargetSearch/libs ** R ** data ** inst ** byte-compile and prepare package for lazy loading ** help *** installing help indices ** building package indices ** installing vignettes ‘RICorrection.Rnw’ ‘TargetSearch.Rnw’ ** testing if installed package can be loaded from temporary location ** checking absolute paths in shared objects and dynamic libraries ** testing if installed package can be loaded from final location ** testing if installed package keeps a record of temporary installation path * DONE (TargetSearch)
TargetSearch.Rcheck/tests/tinytest.Rout
R version 4.1.1 (2021-08-10) -- "Kick Things"
Copyright (C) 2021 The R Foundation for Statistical Computing
Platform: x86_64-pc-linux-gnu (64-bit)
R is free software and comes with ABSOLUTELY NO WARRANTY.
You are welcome to redistribute it under certain conditions.
Type 'license()' or 'licence()' for distribution details.
R is a collaborative project with many contributors.
Type 'contributors()' for more information and
'citation()' on how to cite R or R packages in publications.
Type 'demo()' for some demos, 'help()' for on-line help, or
'help.start()' for an HTML browser interface to help.
Type 'q()' to quit R.
> if ( requireNamespace("tinytest", quietly=TRUE) && requireNamespace("TargetSearchData", quietly=TRUE)) {
+ tinytest::test_package("TargetSearch")
+ }
Loading required package: TargetSearchData
test_file.R................... 0 tests
test_file.R................... 0 tests
test_file.R................... 0 tests
test_file.R................... 0 tests
test_file.R................... 1 tests [0;32mOK[0m
test_file.R................... 1 tests [0;32mOK[0m
test_file.R................... 1 tests [0;32mOK[0m
test_file.R................... 2 tests [0;32mOK[0m
test_file.R................... 2 tests [0;32mOK[0m
test_file.R................... 3 tests [0;32mOK[0m
test_file.R................... 3 tests [0;32mOK[0m
test_file.R................... 3 tests [0;32mOK[0m
test_file.R................... 4 tests [0;32mOK[0m [0;34m0.1s[0m
test_ncdf4_plot_peak.R........ 0 tests
test_ncdf4_plot_peak.R........ 0 tests
test_ncdf4_plot_peak.R........ 0 tests
test_ncdf4_plot_peak.R........ 0 tests
test_ncdf4_plot_peak.R........ 0 tests
test_ncdf4_plot_peak.R........ 0 tests
test_ncdf4_plot_peak.R........ 0 tests
test_ncdf4_plot_peak.R........ 0 tests
test_ncdf4_plot_peak.R........ 0 tests
test_ncdf4_plot_peak.R........ 5 tests [0;32mOK[0m
test_ncdf4_plot_peak.R........ 6 tests [0;32mOK[0m
test_ncdf4_plot_peak.R........ 7 tests [0;32mOK[0m
test_ncdf4_plot_peak.R........ 7 tests [0;32mOK[0m [0;34m0.3s[0m
test_ri_data_extract.R........ 0 tests
test_ri_data_extract.R........ 0 tests
test_ri_data_extract.R........ 0 tests
test_ri_data_extract.R........ 0 tests
test_ri_data_extract.R........ 1 tests [0;32mOK[0m
test_ri_data_extract.R........ 1 tests [0;32mOK[0m
test_ri_data_extract.R........ 1 tests [0;32mOK[0m
test_ri_data_extract.R........ 2 tests [0;32mOK[0m
test_ri_data_extract.R........ 2 tests [0;32mOK[0m
test_ri_data_extract.R........ 2 tests [0;32mOK[0m
test_ri_data_extract.R........ 3 tests [0;32mOK[0m
test_ri_data_extract.R........ 3 tests [0;32mOK[0m
test_ri_data_extract.R........ 4 tests [0;32mOK[0m
test_ri_data_extract.R........ 4 tests [0;32mOK[0m
test_ri_data_extract.R........ 4 tests [0;32mOK[0m
test_ri_data_extract.R........ 4 tests [0;32mOK[0m
test_ri_data_extract.R........ 4 tests [0;32mOK[0m
test_ri_data_extract.R........ 4 tests [0;32mOK[0m
test_ri_data_extract.R........ 5 tests [0;32mOK[0m
test_ri_data_extract.R........ 5 tests [0;32mOK[0m
test_ri_data_extract.R........ 6 tests [0;32mOK[0m [0;34m0.2s[0m
test_ri_plot_peak.R........... 0 tests
test_ri_plot_peak.R........... 0 tests
test_ri_plot_peak.R........... 0 tests
test_ri_plot_peak.R........... 0 tests
test_ri_plot_peak.R........... 0 tests
test_ri_plot_peak.R........... 0 tests
test_ri_plot_peak.R........... 0 tests
test_ri_plot_peak.R........... 0 tests
test_ri_plot_peak.R........... 0 tests
test_ri_plot_peak.R........... 0 tests
test_ri_plot_peak.R........... 10 tests [0;32mOK[0m
test_ri_plot_peak.R........... 11 tests [0;32mOK[0m
test_ri_plot_peak.R........... 12 tests [0;32mOK[0m
test_ri_plot_peak.R........... 12 tests [0;32mOK[0m [0;36m63ms[0m
All ok, 29 results (0.7s)
>
> proc.time()
user system elapsed
0.875 0.079 0.939
TargetSearch.Rcheck/TargetSearch-Ex.timings
| name | user | system | elapsed | |
| FAMEoutliers | 0.035 | 0.004 | 0.040 | |
| FindAllPeaks | 0.268 | 0.014 | 0.308 | |
| FindPeaks | 0.097 | 0.003 | 0.100 | |
| ImportFameSettings | 0.007 | 0.000 | 0.007 | |
| ImportLibrary | 0.015 | 0.000 | 0.015 | |
| ImportSamples | 0.005 | 0.000 | 0.005 | |
| NetCDFPeakFinding | 0.120 | 0.027 | 0.151 | |
| Profile | 0.462 | 0.019 | 0.481 | |
| ProfileCleanUp | 0.416 | 0.016 | 0.432 | |
| RIcorrect | 7.895 | 0.620 | 8.550 | |
| TSExample | 1.457 | 0.084 | 1.541 | |
| checkRimLim | 0.230 | 0.008 | 0.238 | |
| file | 0.059 | 0.008 | 0.066 | |
| fixRI | 0.600 | 0.031 | 0.631 | |
| medianRILib | 0.194 | 0.004 | 0.198 | |
| ncdf4Convert-method | 0.075 | 0.008 | 0.083 | |
| ncdf4_convert | 0.016 | 0.004 | 0.021 | |
| ncdf4_convert_from_path | 0.001 | 0.000 | 0.000 | |
| ncdf4_data_extract | 0.001 | 0.000 | 0.001 | |
| ncdf4_plot_peak | 0.740 | 0.024 | 0.764 | |
| peakFind | 0.106 | 0.004 | 0.110 | |
| plotFAME | 0.012 | 0.000 | 0.013 | |
| plotPeak | 0.117 | 0.008 | 0.124 | |
| plotPeakRI | 0.289 | 0.008 | 0.297 | |
| plotPeakSimple | 0.257 | 0.012 | 0.268 | |
| plotRIdev | 0.228 | 0.004 | 0.232 | |
| plotSpectra | 0.110 | 0.012 | 0.122 | |
| quantMatrix | 0.333 | 0.018 | 0.350 | |
| ri2rt | 0.003 | 0.001 | 0.003 | |
| riMatrix | 0.467 | 0.060 | 0.527 | |
| ri_data_extract | 0.021 | 0.004 | 0.024 | |
| ri_plot_peak | 0.538 | 0.018 | 0.557 | |
| rt2ri | 0.003 | 0.000 | 0.004 | |
| sampleRI | 0.211 | 0.004 | 0.215 | |
| tsLib-class | 0.010 | 0.004 | 0.014 | |
| tsMSdata-class | 0.001 | 0.000 | 0.001 | |
| tsProfile-class | 0.000 | 0.001 | 0.001 | |
| tsRim-class | 0.000 | 0.002 | 0.002 | |
| tsSample-class | 0.021 | 0.000 | 0.021 | |
| tsUpdate-method | 0 | 0 | 0 | |
| updateRI | 0.849 | 0.024 | 0.873 | |
| writeLibText | 0.012 | 0.003 | 0.014 | |