| Back to Multiple platform build/check report for BioC 3.13 |
|
This page was generated on 2021-10-15 15:06:23 -0400 (Fri, 15 Oct 2021).
|
To the developers/maintainers of the SNPhood package: - Please allow up to 24 hours (and sometimes 48 hours) for your latest push to git@git.bioconductor.org:packages/SNPhood.git to reflect on this report. See How and When does the builder pull? When will my changes propagate? here for more information. - Make sure to use the following settings in order to reproduce any error or warning you see on this page. |
| Package 1801/2041 | Hostname | OS / Arch | INSTALL | BUILD | CHECK | BUILD BIN | ||||||||
| SNPhood 1.22.0 (landing page) Christian Arnold
| nebbiolo1 | Linux (Ubuntu 20.04.2 LTS) / x86_64 | OK | OK | OK | |||||||||
| tokay2 | Windows Server 2012 R2 Standard / x64 | OK | OK | OK | OK | |||||||||
| machv2 | macOS 10.14.6 Mojave / x86_64 | OK | OK | OK | OK | |||||||||
| Package: SNPhood |
| Version: 1.22.0 |
| Command: rm -rf SNPhood.buildbin-libdir && mkdir SNPhood.buildbin-libdir && C:\Users\biocbuild\bbs-3.13-bioc\R\bin\R.exe CMD INSTALL --merge-multiarch --build --library=SNPhood.buildbin-libdir SNPhood_1.22.0.tar.gz |
| StartedAt: 2021-10-15 11:54:05 -0400 (Fri, 15 Oct 2021) |
| EndedAt: 2021-10-15 11:55:40 -0400 (Fri, 15 Oct 2021) |
| EllapsedTime: 95.0 seconds |
| RetCode: 0 |
| Status: OK |
| PackageFile: SNPhood_1.22.0.zip |
| PackageFileSize: 6.984 MiB |
##############################################################################
##############################################################################
###
### Running command:
###
### rm -rf SNPhood.buildbin-libdir && mkdir SNPhood.buildbin-libdir && C:\Users\biocbuild\bbs-3.13-bioc\R\bin\R.exe CMD INSTALL --merge-multiarch --build --library=SNPhood.buildbin-libdir SNPhood_1.22.0.tar.gz
###
##############################################################################
##############################################################################
install for i386
* installing *source* package 'SNPhood' ...
** using staged installation
** R
** data
*** moving datasets to lazyload DB
** inst
** byte-compile and prepare package for lazy loading
** help
*** installing help indices
converting help for package 'SNPhood'
finding HTML links ... done
SNPhood-class html
SNPhood html
SNPhood.o html
analyzeSNPhood html
finding level-2 HTML links ... done
annotation-methods html
annotationBins html
annotationBins2 html
annotationDatasets html
annotationReadGroups html
annotationRegions html
associateGenotypes html
bins-methods html
changeObjectIntegrityChecking html
collectFiles html
convertToAllelicFractions html
counts-method html
datasets-methods html
deleteDatasets html
deleteReadGroups html
deleteRegions html
enrichment-methods html
getDefaultParameterList html
mergeReadGroups html
parameters-methods html
plotAllelicBiasResults html
plotAllelicBiasResultsOverview html
plotAndCalculateCorrelationDatasets html
plotAndCalculateWeakAndStrongGenotype html
plotAndClusterMatrix html
plotAndSummarizeAllelicBiasTest html
plotBinCounts html
plotClusterAverage html
plotFDRResults html
plotGenotypesPerCluster html
plotGenotypesPerSNP html
plotRegionCounts html
readGroups-methods html
regions-methods html
renameBins html
renameDatasets html
renameReadGroups html
renameRegions html
results html
testForAllelicBiases html
** building package indices
** installing vignettes
** testing if installed package can be loaded from temporary location
** testing if installed package can be loaded from final location
** testing if installed package keeps a record of temporary installation path
install for x64
* installing *source* package 'SNPhood' ...
** testing if installed package can be loaded
* MD5 sums
packaged installation of 'SNPhood' as SNPhood_1.22.0.zip
* DONE (SNPhood)