| Back to Multiple platform build/check report for BioC 3.13 |
|
This page was generated on 2021-10-15 15:06:22 -0400 (Fri, 15 Oct 2021).
|
To the developers/maintainers of the SIM package: - Please allow up to 24 hours (and sometimes 48 hours) for your latest push to git@git.bioconductor.org:packages/SIM.git to reflect on this report. See How and When does the builder pull? When will my changes propagate? here for more information. - Make sure to use the following settings in order to reproduce any error or warning you see on this page. |
| Package 1766/2041 | Hostname | OS / Arch | INSTALL | BUILD | CHECK | BUILD BIN | ||||||||
| SIM 1.62.0 (landing page) Renee X. de Menezes
| nebbiolo1 | Linux (Ubuntu 20.04.2 LTS) / x86_64 | OK | OK | OK | |||||||||
| tokay2 | Windows Server 2012 R2 Standard / x64 | OK | OK | OK | OK | |||||||||
| machv2 | macOS 10.14.6 Mojave / x86_64 | OK | OK | OK | OK | |||||||||
| Package: SIM |
| Version: 1.62.0 |
| Command: C:\Users\biocbuild\bbs-3.13-bioc\R\bin\R.exe CMD check --force-multiarch --install=check:SIM.install-out.txt --library=C:\Users\biocbuild\bbs-3.13-bioc\R\library --no-vignettes --timings SIM_1.62.0.tar.gz |
| StartedAt: 2021-10-15 05:44:36 -0400 (Fri, 15 Oct 2021) |
| EndedAt: 2021-10-15 05:48:05 -0400 (Fri, 15 Oct 2021) |
| EllapsedTime: 209.1 seconds |
| RetCode: 0 |
| Status: OK |
| CheckDir: SIM.Rcheck |
| Warnings: 0 |
##############################################################################
##############################################################################
###
### Running command:
###
### C:\Users\biocbuild\bbs-3.13-bioc\R\bin\R.exe CMD check --force-multiarch --install=check:SIM.install-out.txt --library=C:\Users\biocbuild\bbs-3.13-bioc\R\library --no-vignettes --timings SIM_1.62.0.tar.gz
###
##############################################################################
##############################################################################
* using log directory 'C:/Users/biocbuild/bbs-3.13-bioc/meat/SIM.Rcheck'
* using R version 4.1.1 (2021-08-10)
* using platform: x86_64-w64-mingw32 (64-bit)
* using session charset: ISO8859-1
* using option '--no-vignettes'
* checking for file 'SIM/DESCRIPTION' ... OK
* checking extension type ... Package
* this is package 'SIM' version '1.62.0'
* checking package namespace information ... OK
* checking package dependencies ... OK
* checking if this is a source package ... OK
* checking if there is a namespace ... OK
* checking for hidden files and directories ... OK
* checking for portable file names ... OK
* checking whether package 'SIM' can be installed ... OK
* checking installed package size ... OK
* checking package directory ... OK
* checking 'build' directory ... OK
* checking DESCRIPTION meta-information ... OK
* checking top-level files ... OK
* checking for left-over files ... OK
* checking index information ... OK
* checking package subdirectories ... OK
* checking R files for non-ASCII characters ... OK
* checking R files for syntax errors ... OK
* loading checks for arch 'i386'
** checking whether the package can be loaded ... OK
** checking whether the package can be loaded with stated dependencies ... OK
** checking whether the package can be unloaded cleanly ... OK
** checking whether the namespace can be loaded with stated dependencies ... OK
** checking whether the namespace can be unloaded cleanly ... OK
* loading checks for arch 'x64'
** checking whether the package can be loaded ... OK
** checking whether the package can be loaded with stated dependencies ... OK
** checking whether the package can be unloaded cleanly ... OK
** checking whether the namespace can be loaded with stated dependencies ... OK
** checking whether the namespace can be unloaded cleanly ... OK
* checking dependencies in R code ... NOTE
'library' or 'require' call to 'biomaRt' in package code.
Please use :: or requireNamespace() instead.
See section 'Suggested packages' in the 'Writing R Extensions' manual.
Package in Depends field not imported from: 'quantreg'
These packages need to be imported from (in the NAMESPACE file)
for when this namespace is loaded but not attached.
* checking S3 generic/method consistency ... OK
* checking replacement functions ... OK
* checking foreign function calls ... OK
* checking R code for possible problems ... NOTE
File 'SIM/R/zzz.R':
.onAttach calls:
library.dynam("SIM", pkg, lib)
See section 'Good practice' in '?.onAttach'.
dependent.heatmap: warning in get(as.character(adjust[[2]]), env =
attr(adjust, ".Environment")): partial argument match of 'env' to
'envir'
sim.plot.zoom.in: warning in eval(call, env = attr(call, "env")):
partial argument match of 'env' to 'envir'
sim.update.chrom.table: warning in factor(table$name, level = c(1:22,
"X", "Y")): partial argument match of 'level' to 'levels'
assemble.data: no visible binding for global variable 'chrom.table'
convertGenomicRegion: no visible binding for global variable
'chrom.table'
dependent.heatmap: no visible global function definition for 'strwidth'
getoverlappingregions: no visible global function definition for
'useMart'
getoverlappingregions: no visible global function definition for
'getBM'
independent.heatmap: no visible global function definition for
'strwidth'
link.metadata: no visible binding for global variable 'expr.data'
link.metadata: no visible binding for global variable 'hgu133plus2CHR'
link.metadata: no visible binding for global variable
'hgu133plus2CHRLOC'
link.metadata: no visible binding for global variable
'hgu133plus2SYMBOL'
plotCytobands: no visible binding for global variable 'chrom.table'
sim.plot.overlapping.indep.dep.features: no visible global function
definition for 'box'
sim.plot.pvals.on.genome: no visible binding for global variable
'chrom.table'
sim.update.chrom.table: no visible global function definition for
'dbConnect'
sim.update.chrom.table: no visible global function definition for
'MySQL'
sim.update.chrom.table: no visible global function definition for
'dbGetQuery'
Undefined global functions or variables:
MySQL box chrom.table dbConnect dbGetQuery expr.data getBM
hgu133plus2CHR hgu133plus2CHRLOC hgu133plus2SYMBOL strwidth useMart
Consider adding
importFrom("graphics", "box", "strwidth")
to your NAMESPACE file.
* checking Rd files ... OK
* checking Rd metadata ... OK
* checking Rd cross-references ... OK
* checking for missing documentation entries ... OK
* checking for code/documentation mismatches ... OK
* checking Rd \usage sections ... OK
* checking Rd contents ... OK
* checking for unstated dependencies in examples ... OK
* checking contents of 'data' directory ... OK
* checking data for non-ASCII characters ... OK
* checking data for ASCII and uncompressed saves ... OK
* checking line endings in C/C++/Fortran sources/headers ... OK
* checking compiled code ... NOTE
Note: information on .o files for i386 is not available
Note: information on .o files for x64 is not available
File 'C:/Users/biocbuild/bbs-3.13-bioc/R/library/SIM/libs/i386/SIM.dll':
Found 'abort', possibly from 'abort' (C), 'runtime' (Fortran)
File 'C:/Users/biocbuild/bbs-3.13-bioc/R/library/SIM/libs/x64/SIM.dll':
Found 'abort', possibly from 'abort' (C), 'runtime' (Fortran)
Compiled code should not call entry points which might terminate R nor
write to stdout/stderr instead of to the console, nor use Fortran I/O
nor system RNGs. The detected symbols are linked into the code but
might come from libraries and not actually be called.
See 'Writing portable packages' in the 'Writing R Extensions' manual.
* checking files in 'vignettes' ... OK
* checking examples ...
** running examples for arch 'i386' ... OK
Examples with CPU (user + system) or elapsed time > 5s
user system elapsed
SIM-package 6.26 0.59 6.86
** running examples for arch 'x64' ... OK
Examples with CPU (user + system) or elapsed time > 5s
user system elapsed
SIM-package 7.14 0.07 7.26
* checking for unstated dependencies in vignettes ... OK
* checking package vignettes in 'inst/doc' ... OK
* checking running R code from vignettes ... SKIPPED
* checking re-building of vignette outputs ... SKIPPED
* checking PDF version of manual ... OK
* DONE
Status: 3 NOTEs
See
'C:/Users/biocbuild/bbs-3.13-bioc/meat/SIM.Rcheck/00check.log'
for details.
SIM.Rcheck/00install.out
##############################################################################
##############################################################################
###
### Running command:
###
### C:\cygwin\bin\curl.exe -O http://155.52.207.165/BBS/3.13/bioc/src/contrib/SIM_1.62.0.tar.gz && rm -rf SIM.buildbin-libdir && mkdir SIM.buildbin-libdir && C:\Users\biocbuild\bbs-3.13-bioc\R\bin\R.exe CMD INSTALL --merge-multiarch --build --library=SIM.buildbin-libdir SIM_1.62.0.tar.gz && C:\Users\biocbuild\bbs-3.13-bioc\R\bin\R.exe CMD INSTALL SIM_1.62.0.zip && rm SIM_1.62.0.tar.gz SIM_1.62.0.zip
###
##############################################################################
##############################################################################
% Total % Received % Xferd Average Speed Time Time Time Current
Dload Upload Total Spent Left Speed
0 0 0 0 0 0 0 0 --:--:-- --:--:-- --:--:-- 0
100 264k 100 264k 0 0 908k 0 --:--:-- --:--:-- --:--:-- 910k
install for i386
* installing *source* package 'SIM' ...
** using staged installation
** libs
"C:/rtools40/mingw32/bin/"gcc -I"C:/Users/BIOCBU~1/BBS-3~1.13-/R/include" -DNDEBUG -I"c:/extsoft/include" -O2 -Wall -std=gnu99 -mfpmath=sse -msse2 -mstackrealign -c withinWindow.c -o withinWindow.o
C:/rtools40/mingw32/bin/gcc -shared -s -static-libgcc -o SIM.dll tmp.def withinWindow.o -Lc:/extsoft/lib/i386 -Lc:/extsoft/lib -LC:/Users/BIOCBU~1/BBS-3~1.13-/R/bin/i386 -lR
installing to C:/Users/biocbuild/bbs-3.13-bioc/meat/SIM.buildbin-libdir/00LOCK-SIM/00new/SIM/libs/i386
** R
** data
** inst
** byte-compile and prepare package for lazy loading
** help
*** installing help indices
converting help for package 'SIM'
finding HTML links ... done
RESOURCERER.annotation.to.ID html
SIM-package html
acgh.data html
assemble.data html
chrom.table html
expr.data html
getoverlappingregions html
impute.nas.by.surrounding html
integrated.analysis html
link.metadata html
samples html
sim.plot.overlapping.indep.dep.features
html
sim.plot.pvals.on.genome html
sim.plot.pvals.on.region html
sim.plot.zoom.in html
sim.plot.zscore.heatmap html
sim.update.chrom.table html
tabulate.pvals html
tabulate.top.dep.features html
tabulate.top.indep.features html
** building package indices
** installing vignettes
** testing if installed package can be loaded from temporary location
** testing if installed package can be loaded from final location
** testing if installed package keeps a record of temporary installation path
install for x64
* installing *source* package 'SIM' ...
** libs
"C:/rtools40/mingw64/bin/"gcc -I"C:/Users/BIOCBU~1/BBS-3~1.13-/R/include" -DNDEBUG -I"C:/extsoft/include" -O2 -Wall -std=gnu99 -mfpmath=sse -msse2 -mstackrealign -c withinWindow.c -o withinWindow.o
C:/rtools40/mingw64/bin/gcc -shared -s -static-libgcc -o SIM.dll tmp.def withinWindow.o -LC:/extsoft/lib/x64 -LC:/extsoft/lib -LC:/Users/BIOCBU~1/BBS-3~1.13-/R/bin/x64 -lR
installing to C:/Users/biocbuild/bbs-3.13-bioc/meat/SIM.buildbin-libdir/SIM/libs/x64
** testing if installed package can be loaded
* MD5 sums
packaged installation of 'SIM' as SIM_1.62.0.zip
* DONE (SIM)
* installing to library 'C:/Users/biocbuild/bbs-3.13-bioc/R/library'
package 'SIM' successfully unpacked and MD5 sums checked
|
SIM.Rcheck/examples_i386/SIM-Ex.timings
|
SIM.Rcheck/examples_x64/SIM-Ex.timings
|