| Back to Multiple platform build/check report for BioC 3.13 |
|
This page was generated on 2021-10-15 15:05:53 -0400 (Fri, 15 Oct 2021).
|
To the developers/maintainers of the SIM package: - Please allow up to 24 hours (and sometimes 48 hours) for your latest push to git@git.bioconductor.org:packages/SIM.git to reflect on this report. See How and When does the builder pull? When will my changes propagate? here for more information. - Make sure to use the following settings in order to reproduce any error or warning you see on this page. |
| Package 1766/2041 | Hostname | OS / Arch | INSTALL | BUILD | CHECK | BUILD BIN | ||||||||
| SIM 1.62.0 (landing page) Renee X. de Menezes
| nebbiolo1 | Linux (Ubuntu 20.04.2 LTS) / x86_64 | OK | OK | OK | |||||||||
| tokay2 | Windows Server 2012 R2 Standard / x64 | OK | OK | OK | OK | |||||||||
| machv2 | macOS 10.14.6 Mojave / x86_64 | OK | OK | OK | OK | |||||||||
| Package: SIM |
| Version: 1.62.0 |
| Command: /home/biocbuild/bbs-3.13-bioc/R/bin/R CMD check --install=check:SIM.install-out.txt --library=/home/biocbuild/bbs-3.13-bioc/R/library --no-vignettes --timings SIM_1.62.0.tar.gz |
| StartedAt: 2021-10-14 11:38:19 -0400 (Thu, 14 Oct 2021) |
| EndedAt: 2021-10-14 11:40:24 -0400 (Thu, 14 Oct 2021) |
| EllapsedTime: 125.4 seconds |
| RetCode: 0 |
| Status: OK |
| CheckDir: SIM.Rcheck |
| Warnings: 0 |
##############################################################################
##############################################################################
###
### Running command:
###
### /home/biocbuild/bbs-3.13-bioc/R/bin/R CMD check --install=check:SIM.install-out.txt --library=/home/biocbuild/bbs-3.13-bioc/R/library --no-vignettes --timings SIM_1.62.0.tar.gz
###
##############################################################################
##############################################################################
* using log directory ‘/home/biocbuild/bbs-3.13-bioc/meat/SIM.Rcheck’
* using R version 4.1.1 (2021-08-10)
* using platform: x86_64-pc-linux-gnu (64-bit)
* using session charset: UTF-8
* using option ‘--no-vignettes’
* checking for file ‘SIM/DESCRIPTION’ ... OK
* checking extension type ... Package
* this is package ‘SIM’ version ‘1.62.0’
* checking package namespace information ... OK
* checking package dependencies ... OK
* checking if this is a source package ... OK
* checking if there is a namespace ... OK
* checking for hidden files and directories ... OK
* checking for portable file names ... OK
* checking for sufficient/correct file permissions ... OK
* checking whether package ‘SIM’ can be installed ... OK
* checking installed package size ... OK
* checking package directory ... OK
* checking ‘build’ directory ... OK
* checking DESCRIPTION meta-information ... OK
* checking top-level files ... OK
* checking for left-over files ... OK
* checking index information ... OK
* checking package subdirectories ... OK
* checking R files for non-ASCII characters ... OK
* checking R files for syntax errors ... OK
* checking whether the package can be loaded ... OK
* checking whether the package can be loaded with stated dependencies ... OK
* checking whether the package can be unloaded cleanly ... OK
* checking whether the namespace can be loaded with stated dependencies ... OK
* checking whether the namespace can be unloaded cleanly ... OK
* checking dependencies in R code ... NOTE
'library' or 'require' call to ‘biomaRt’ in package code.
Please use :: or requireNamespace() instead.
See section 'Suggested packages' in the 'Writing R Extensions' manual.
Package in Depends field not imported from: ‘quantreg’
These packages need to be imported from (in the NAMESPACE file)
for when this namespace is loaded but not attached.
* checking S3 generic/method consistency ... OK
* checking replacement functions ... OK
* checking foreign function calls ... OK
* checking R code for possible problems ... NOTE
File ‘SIM/R/zzz.R’:
.onAttach calls:
library.dynam("SIM", pkg, lib)
See section ‘Good practice’ in '?.onAttach'.
dependent.heatmap: warning in get(as.character(adjust[[2]]), env =
attr(adjust, ".Environment")): partial argument match of 'env' to
'envir'
sim.plot.zoom.in: warning in eval(call, env = attr(call, "env")):
partial argument match of 'env' to 'envir'
sim.update.chrom.table: warning in factor(table$name, level = c(1:22,
"X", "Y")): partial argument match of 'level' to 'levels'
assemble.data: no visible binding for global variable ‘chrom.table’
convertGenomicRegion: no visible binding for global variable
‘chrom.table’
dependent.heatmap: no visible global function definition for ‘strwidth’
getoverlappingregions: no visible global function definition for
‘useMart’
getoverlappingregions: no visible global function definition for
‘getBM’
independent.heatmap: no visible global function definition for
‘strwidth’
link.metadata: no visible binding for global variable ‘expr.data’
link.metadata: no visible binding for global variable ‘hgu133plus2CHR’
link.metadata: no visible binding for global variable
‘hgu133plus2CHRLOC’
link.metadata: no visible binding for global variable
‘hgu133plus2SYMBOL’
plotCytobands: no visible binding for global variable ‘chrom.table’
sim.plot.overlapping.indep.dep.features: no visible global function
definition for ‘box’
sim.plot.pvals.on.genome: no visible binding for global variable
‘chrom.table’
sim.update.chrom.table: no visible global function definition for
‘dbConnect’
sim.update.chrom.table: no visible global function definition for
‘MySQL’
sim.update.chrom.table: no visible global function definition for
‘dbGetQuery’
Undefined global functions or variables:
MySQL box chrom.table dbConnect dbGetQuery expr.data getBM
hgu133plus2CHR hgu133plus2CHRLOC hgu133plus2SYMBOL strwidth useMart
Consider adding
importFrom("graphics", "box", "strwidth")
to your NAMESPACE file.
* checking Rd files ... OK
* checking Rd metadata ... OK
* checking Rd cross-references ... OK
* checking for missing documentation entries ... OK
* checking for code/documentation mismatches ... OK
* checking Rd \usage sections ... OK
* checking Rd contents ... OK
* checking for unstated dependencies in examples ... OK
* checking contents of ‘data’ directory ... OK
* checking data for non-ASCII characters ... OK
* checking data for ASCII and uncompressed saves ... OK
* checking line endings in C/C++/Fortran sources/headers ... OK
* checking compiled code ... NOTE
Note: information on .o files is not available
* checking files in ‘vignettes’ ... OK
* checking examples ... OK
Examples with CPU (user + system) or elapsed time > 5s
user system elapsed
SIM-package 5.978 0.165 6.142
* checking for unstated dependencies in vignettes ... OK
* checking package vignettes in ‘inst/doc’ ... OK
* checking running R code from vignettes ... SKIPPED
* checking re-building of vignette outputs ... SKIPPED
* checking PDF version of manual ... OK
* DONE
Status: 3 NOTEs
See
‘/home/biocbuild/bbs-3.13-bioc/meat/SIM.Rcheck/00check.log’
for details.
SIM.Rcheck/00install.out
############################################################################## ############################################################################## ### ### Running command: ### ### /home/biocbuild/bbs-3.13-bioc/R/bin/R CMD INSTALL SIM ### ############################################################################## ############################################################################## * installing to library ‘/home/biocbuild/bbs-3.13-bioc/R/library’ * installing *source* package ‘SIM’ ... ** using staged installation ** libs gcc -I"/home/biocbuild/bbs-3.13-bioc/R/include" -DNDEBUG -I/usr/local/include -fpic -g -O2 -Wall -c withinWindow.c -o withinWindow.o gcc -shared -L/home/biocbuild/bbs-3.13-bioc/R/lib -L/usr/local/lib -o SIM.so withinWindow.o -L/home/biocbuild/bbs-3.13-bioc/R/lib -lR installing to /home/biocbuild/bbs-3.13-bioc/R/library/00LOCK-SIM/00new/SIM/libs ** R ** data ** inst ** byte-compile and prepare package for lazy loading ** help *** installing help indices ** building package indices ** installing vignettes ** testing if installed package can be loaded from temporary location ** checking absolute paths in shared objects and dynamic libraries ** testing if installed package can be loaded from final location ** testing if installed package keeps a record of temporary installation path * DONE (SIM)
SIM.Rcheck/SIM-Ex.timings
| name | user | system | elapsed | |
| RESOURCERER.annotation.to.ID | 0.001 | 0.000 | 0.000 | |
| SIM-package | 5.978 | 0.165 | 6.142 | |
| acgh.data | 0.001 | 0.000 | 0.002 | |
| assemble.data | 0.024 | 0.000 | 0.024 | |
| chrom.table | 0.002 | 0.000 | 0.001 | |
| expr.data | 0.002 | 0.000 | 0.001 | |
| getoverlappingregions | 0 | 0 | 0 | |
| impute.nas.by.surrounding | 0.000 | 0.000 | 0.001 | |
| integrated.analysis | 4.349 | 0.027 | 4.377 | |
| link.metadata | 0.001 | 0.000 | 0.000 | |
| samples | 0.000 | 0.002 | 0.001 | |
| sim.plot.overlapping.indep.dep.features | 0.034 | 0.010 | 0.044 | |
| sim.plot.pvals.on.genome | 0.099 | 0.012 | 0.112 | |
| sim.plot.pvals.on.region | 0.010 | 0.004 | 0.014 | |
| sim.plot.zoom.in | 0.207 | 0.012 | 0.219 | |
| sim.plot.zscore.heatmap | 0.327 | 0.008 | 0.335 | |
| sim.update.chrom.table | 0 | 0 | 0 | |
| tabulate.pvals | 0.003 | 0.000 | 0.004 | |
| tabulate.top.dep.features | 0.011 | 0.000 | 0.011 | |
| tabulate.top.indep.features | 0.009 | 0.000 | 0.009 | |