| Back to Multiple platform build/check report for BioC 3.13 |
|
This page was generated on 2021-10-15 15:06:21 -0400 (Fri, 15 Oct 2021).
|
To the developers/maintainers of the SCBN package: - Please allow up to 24 hours (and sometimes 48 hours) for your latest push to git@git.bioconductor.org:packages/SCBN.git to reflect on this report. See How and When does the builder pull? When will my changes propagate? here for more information. - Make sure to use the following settings in order to reproduce any error or warning you see on this page. |
| Package 1686/2041 | Hostname | OS / Arch | INSTALL | BUILD | CHECK | BUILD BIN | ||||||||
| SCBN 1.10.0 (landing page) Yan Zhou
| nebbiolo1 | Linux (Ubuntu 20.04.2 LTS) / x86_64 | OK | OK | OK | |||||||||
| tokay2 | Windows Server 2012 R2 Standard / x64 | OK | OK | OK | OK | |||||||||
| machv2 | macOS 10.14.6 Mojave / x86_64 | OK | OK | OK | OK | |||||||||
| Package: SCBN |
| Version: 1.10.0 |
| Command: C:\cygwin\bin\curl.exe -O http://155.52.207.165/BBS/3.13/bioc/src/contrib/SCBN_1.10.0.tar.gz && rm -rf SCBN.buildbin-libdir && mkdir SCBN.buildbin-libdir && C:\Users\biocbuild\bbs-3.13-bioc\R\bin\R.exe CMD INSTALL --merge-multiarch --build --library=SCBN.buildbin-libdir SCBN_1.10.0.tar.gz && C:\Users\biocbuild\bbs-3.13-bioc\R\bin\R.exe CMD INSTALL SCBN_1.10.0.zip && rm SCBN_1.10.0.tar.gz SCBN_1.10.0.zip |
| StartedAt: 2021-10-14 06:56:50 -0400 (Thu, 14 Oct 2021) |
| EndedAt: 2021-10-14 06:57:53 -0400 (Thu, 14 Oct 2021) |
| EllapsedTime: 63.2 seconds |
| RetCode: 0 |
| Status: OK |
##############################################################################
##############################################################################
###
### Running command:
###
### C:\cygwin\bin\curl.exe -O http://155.52.207.165/BBS/3.13/bioc/src/contrib/SCBN_1.10.0.tar.gz && rm -rf SCBN.buildbin-libdir && mkdir SCBN.buildbin-libdir && C:\Users\biocbuild\bbs-3.13-bioc\R\bin\R.exe CMD INSTALL --merge-multiarch --build --library=SCBN.buildbin-libdir SCBN_1.10.0.tar.gz && C:\Users\biocbuild\bbs-3.13-bioc\R\bin\R.exe CMD INSTALL SCBN_1.10.0.zip && rm SCBN_1.10.0.tar.gz SCBN_1.10.0.zip
###
##############################################################################
##############################################################################
% Total % Received % Xferd Average Speed Time Time Time Current
Dload Upload Total Spent Left Speed
0 0 0 0 0 0 0 0 --:--:-- --:--:-- --:--:-- 0
100 298k 100 298k 0 0 1308k 0 --:--:-- --:--:-- --:--:-- 1314k
install for i386
* installing *source* package 'SCBN' ...
** using staged installation
** R
** data
*** moving datasets to lazyload DB
** inst
** byte-compile and prepare package for lazy loading
** help
*** installing help indices
converting help for package 'SCBN'
finding HTML links ... done
SCBN html
To html
generateDataset html
orthgene html
sim_data html
** building package indices
** installing vignettes
** testing if installed package can be loaded from temporary location
** testing if installed package can be loaded from final location
** testing if installed package keeps a record of temporary installation path
install for x64
* installing *source* package 'SCBN' ...
** testing if installed package can be loaded
* MD5 sums
packaged installation of 'SCBN' as SCBN_1.10.0.zip
* DONE (SCBN)
* installing to library 'C:/Users/biocbuild/bbs-3.13-bioc/R/library'
package 'SCBN' successfully unpacked and MD5 sums checked