| Back to Multiple platform build/check report for BioC 3.13 |
|
This page was generated on 2021-10-15 15:05:52 -0400 (Fri, 15 Oct 2021).
|
To the developers/maintainers of the SCBN package: - Please allow up to 24 hours (and sometimes 48 hours) for your latest push to git@git.bioconductor.org:packages/SCBN.git to reflect on this report. See How and When does the builder pull? When will my changes propagate? here for more information. - Make sure to use the following settings in order to reproduce any error or warning you see on this page. |
| Package 1686/2041 | Hostname | OS / Arch | INSTALL | BUILD | CHECK | BUILD BIN | ||||||||
| SCBN 1.10.0 (landing page) Yan Zhou
| nebbiolo1 | Linux (Ubuntu 20.04.2 LTS) / x86_64 | OK | OK | OK | |||||||||
| tokay2 | Windows Server 2012 R2 Standard / x64 | OK | OK | OK | OK | |||||||||
| machv2 | macOS 10.14.6 Mojave / x86_64 | OK | OK | OK | OK | |||||||||
| Package: SCBN |
| Version: 1.10.0 |
| Command: /home/biocbuild/bbs-3.13-bioc/R/bin/R CMD build --keep-empty-dirs --no-resave-data SCBN |
| StartedAt: 2021-10-14 08:18:51 -0400 (Thu, 14 Oct 2021) |
| EndedAt: 2021-10-14 08:19:45 -0400 (Thu, 14 Oct 2021) |
| EllapsedTime: 54.2 seconds |
| RetCode: 0 |
| Status: OK |
| PackageFile: SCBN_1.10.0.tar.gz |
| PackageFileSize: 515.9 KiB |
############################################################################## ############################################################################## ### ### Running command: ### ### /home/biocbuild/bbs-3.13-bioc/R/bin/R CMD build --keep-empty-dirs --no-resave-data SCBN ### ############################################################################## ############################################################################## * checking for file ‘SCBN/DESCRIPTION’ ... OK * preparing ‘SCBN’: * checking DESCRIPTION meta-information ... OK * installing the package to build vignettes * creating vignettes ... OK * checking for LF line-endings in source and make files and shell scripts * checking for empty or unneeded directories * building ‘SCBN_1.10.0.tar.gz’