| Back to Multiple platform build/check report for BioC 3.13 |
|
This page was generated on 2021-10-15 15:06:12 -0400 (Fri, 15 Oct 2021).
|
To the developers/maintainers of the ModCon package: - Please allow up to 24 hours (and sometimes 48 hours) for your latest push to git@git.bioconductor.org:packages/ModCon.git to reflect on this report. See How and When does the builder pull? When will my changes propagate? here for more information. - Make sure to use the following settings in order to reproduce any error or warning you see on this page. |
| Package 1171/2041 | Hostname | OS / Arch | INSTALL | BUILD | CHECK | BUILD BIN | ||||||||
| ModCon 1.0.0 (landing page) Johannes Ptok
| nebbiolo1 | Linux (Ubuntu 20.04.2 LTS) / x86_64 | OK | OK | OK | |||||||||
| tokay2 | Windows Server 2012 R2 Standard / x64 | OK | OK | OK | OK | |||||||||
| machv2 | macOS 10.14.6 Mojave / x86_64 | OK | OK | OK | OK | |||||||||
| Package: ModCon |
| Version: 1.0.0 |
| Command: rm -rf ModCon.buildbin-libdir && mkdir ModCon.buildbin-libdir && C:\Users\biocbuild\bbs-3.13-bioc\R\bin\R.exe CMD INSTALL --merge-multiarch --build --library=ModCon.buildbin-libdir ModCon_1.0.0.tar.gz |
| StartedAt: 2021-10-15 10:29:31 -0400 (Fri, 15 Oct 2021) |
| EndedAt: 2021-10-15 10:30:57 -0400 (Fri, 15 Oct 2021) |
| EllapsedTime: 85.9 seconds |
| RetCode: 0 |
| Status: OK |
| PackageFile: ModCon_1.0.0.zip |
| PackageFileSize: 1.968 MiB |
##############################################################################
##############################################################################
###
### Running command:
###
### rm -rf ModCon.buildbin-libdir && mkdir ModCon.buildbin-libdir && C:\Users\biocbuild\bbs-3.13-bioc\R\bin\R.exe CMD INSTALL --merge-multiarch --build --library=ModCon.buildbin-libdir ModCon_1.0.0.tar.gz
###
##############################################################################
##############################################################################
install for i386
* installing *source* package 'ModCon' ...
** using staged installation
** R
** data
*** moving datasets to lazyload DB
** inst
** byte-compile and prepare package for lazy loading
** help
*** installing help indices
converting help for package 'ModCon'
finding HTML links ... done
Codons html
ModCon html
calculateHZEIint html
calculateMaxEntScanScore html
cds html
changeSequenceHZEI html
createCodonMatrix html
createFilialSequencePopulation html
decreaseGTsiteStrength html
degradeSAs html
degradeSDs html
generateRandomCodonsPerAA html
getOverlappingVectorsFromVector html
hbg html
hex html
increaseGTsiteStrength html
mutatePopulation html
recombineTwoSequences html
selectBestAndMean html
selectMatingIndividuals html
slidingWindowHZEImanipulation html
startModConApp html
** building package indices
** installing vignettes
** testing if installed package can be loaded from temporary location
** testing if installed package can be loaded from final location
** testing if installed package keeps a record of temporary installation path
install for x64
* installing *source* package 'ModCon' ...
** testing if installed package can be loaded
* MD5 sums
packaged installation of 'ModCon' as ModCon_1.0.0.zip
* DONE (ModCon)