| Back to Multiple platform build/check report for BioC 3.13 |
|
This page was generated on 2021-10-15 15:05:46 -0400 (Fri, 15 Oct 2021).
|
To the developers/maintainers of the ModCon package: - Please allow up to 24 hours (and sometimes 48 hours) for your latest push to git@git.bioconductor.org:packages/ModCon.git to reflect on this report. See How and When does the builder pull? When will my changes propagate? here for more information. - Make sure to use the following settings in order to reproduce any error or warning you see on this page. |
| Package 1171/2041 | Hostname | OS / Arch | INSTALL | BUILD | CHECK | BUILD BIN | ||||||||
| ModCon 1.0.0 (landing page) Johannes Ptok
| nebbiolo1 | Linux (Ubuntu 20.04.2 LTS) / x86_64 | OK | OK | OK | |||||||||
| tokay2 | Windows Server 2012 R2 Standard / x64 | OK | OK | OK | OK | |||||||||
| machv2 | macOS 10.14.6 Mojave / x86_64 | OK | OK | OK | OK | |||||||||
| Package: ModCon |
| Version: 1.0.0 |
| Command: /home/biocbuild/bbs-3.13-bioc/R/bin/R CMD check --install=check:ModCon.install-out.txt --library=/home/biocbuild/bbs-3.13-bioc/R/library --no-vignettes --timings ModCon_1.0.0.tar.gz |
| StartedAt: 2021-10-14 10:39:55 -0400 (Thu, 14 Oct 2021) |
| EndedAt: 2021-10-14 10:43:43 -0400 (Thu, 14 Oct 2021) |
| EllapsedTime: 228.1 seconds |
| RetCode: 0 |
| Status: OK |
| CheckDir: ModCon.Rcheck |
| Warnings: 0 |
##############################################################################
##############################################################################
###
### Running command:
###
### /home/biocbuild/bbs-3.13-bioc/R/bin/R CMD check --install=check:ModCon.install-out.txt --library=/home/biocbuild/bbs-3.13-bioc/R/library --no-vignettes --timings ModCon_1.0.0.tar.gz
###
##############################################################################
##############################################################################
* using log directory ‘/home/biocbuild/bbs-3.13-bioc/meat/ModCon.Rcheck’
* using R version 4.1.1 (2021-08-10)
* using platform: x86_64-pc-linux-gnu (64-bit)
* using session charset: UTF-8
* using option ‘--no-vignettes’
* checking for file ‘ModCon/DESCRIPTION’ ... OK
* checking extension type ... Package
* this is package ‘ModCon’ version ‘1.0.0’
* package encoding: UTF-8
* checking package namespace information ... OK
* checking package dependencies ... OK
* checking if this is a source package ... OK
* checking if there is a namespace ... OK
* checking for hidden files and directories ... OK
* checking for portable file names ... OK
* checking for sufficient/correct file permissions ... OK
* checking whether package ‘ModCon’ can be installed ... OK
* checking installed package size ... OK
* checking package directory ... OK
* checking ‘build’ directory ... OK
* checking DESCRIPTION meta-information ... OK
* checking top-level files ... OK
* checking for left-over files ... OK
* checking index information ... OK
* checking package subdirectories ... OK
* checking R files for non-ASCII characters ... OK
* checking R files for syntax errors ... OK
* checking whether the package can be loaded ... OK
* checking whether the package can be loaded with stated dependencies ... OK
* checking whether the package can be unloaded cleanly ... OK
* checking whether the namespace can be loaded with stated dependencies ... OK
* checking whether the namespace can be unloaded cleanly ... OK
* checking dependencies in R code ... OK
* checking S3 generic/method consistency ... OK
* checking replacement functions ... OK
* checking foreign function calls ... OK
* checking R code for possible problems ... OK
* checking Rd files ... OK
* checking Rd metadata ... OK
* checking Rd cross-references ... OK
* checking for missing documentation entries ... OK
* checking for code/documentation mismatches ... OK
* checking Rd \usage sections ... OK
* checking Rd contents ... OK
* checking for unstated dependencies in examples ... OK
* checking contents of ‘data’ directory ... OK
* checking data for non-ASCII characters ... OK
* checking LazyData ... OK
* checking data for ASCII and uncompressed saves ... OK
* checking R/sysdata.rda ... OK
* checking files in ‘vignettes’ ... OK
* checking examples ... OK
Examples with CPU (user + system) or elapsed time > 5s
user system elapsed
slidingWindowHZEImanipulation 22.380 0.023 22.407
ModCon 17.697 0.196 27.002
changeSequenceHZEI 6.056 0.288 6.343
* checking for unstated dependencies in ‘tests’ ... OK
* checking tests ...
Running ‘testthat.R’
OK
* checking for unstated dependencies in vignettes ... OK
* checking package vignettes in ‘inst/doc’ ... OK
* checking running R code from vignettes ... SKIPPED
* checking re-building of vignette outputs ... SKIPPED
* checking PDF version of manual ... OK
* DONE
Status: OK
ModCon.Rcheck/00install.out
############################################################################## ############################################################################## ### ### Running command: ### ### /home/biocbuild/bbs-3.13-bioc/R/bin/R CMD INSTALL ModCon ### ############################################################################## ############################################################################## * installing to library ‘/home/biocbuild/bbs-3.13-bioc/R/library’ * installing *source* package ‘ModCon’ ... ** using staged installation ** R ** data *** moving datasets to lazyload DB ** inst ** byte-compile and prepare package for lazy loading ** help *** installing help indices ** building package indices ** installing vignettes ** testing if installed package can be loaded from temporary location ** testing if installed package can be loaded from final location ** testing if installed package keeps a record of temporary installation path * DONE (ModCon)
ModCon.Rcheck/tests/testthat.Rout
R version 4.1.1 (2021-08-10) -- "Kick Things"
Copyright (C) 2021 The R Foundation for Statistical Computing
Platform: x86_64-pc-linux-gnu (64-bit)
R is free software and comes with ABSOLUTELY NO WARRANTY.
You are welcome to redistribute it under certain conditions.
Type 'license()' or 'licence()' for distribution details.
R is a collaborative project with many contributors.
Type 'contributors()' for more information and
'citation()' on how to cite R or R packages in publications.
Type 'demo()' for some demos, 'help()' for on-line help, or
'help.start()' for an HTML browser interface to help.
Type 'q()' to quit R.
> library(testthat)
> library(ModCon)
Loading required package: data.table
Loading required package: parallel
>
> test_check("ModCon")
[ FAIL 0 | WARN 0 | SKIP 0 | PASS 27 ]
>
> proc.time()
user system elapsed
107.580 1.113 137.587
ModCon.Rcheck/ModCon-Ex.timings
| name | user | system | elapsed | |
| Codons | 0.000 | 0.007 | 0.006 | |
| ModCon | 17.697 | 0.196 | 27.002 | |
| calculateHZEIint | 0.001 | 0.000 | 0.001 | |
| calculateMaxEntScanScore | 0.120 | 0.021 | 0.143 | |
| cds | 0.000 | 0.000 | 0.001 | |
| changeSequenceHZEI | 6.056 | 0.288 | 6.343 | |
| createCodonMatrix | 0.001 | 0.000 | 0.001 | |
| createFilialSequencePopulation | 0.000 | 0.001 | 0.001 | |
| decreaseGTsiteStrength | 0.397 | 0.010 | 0.408 | |
| degradeSAs | 2.573 | 0.021 | 2.596 | |
| degradeSDs | 1.906 | 0.000 | 1.906 | |
| generateRandomCodonsPerAA | 0 | 0 | 0 | |
| getOverlappingVectorsFromVector | 0 | 0 | 0 | |
| hbg | 0.508 | 0.808 | 1.316 | |
| hex | 0.064 | 0.196 | 0.261 | |
| increaseGTsiteStrength | 0.412 | 0.000 | 0.412 | |
| mutatePopulation | 0.001 | 0.000 | 0.001 | |
| recombineTwoSequences | 0.001 | 0.000 | 0.000 | |
| selectBestAndMean | 0.013 | 0.002 | 0.298 | |
| selectMatingIndividuals | 0.013 | 0.000 | 0.294 | |
| slidingWindowHZEImanipulation | 22.380 | 0.023 | 22.407 | |
| startModConApp | 0.001 | 0.000 | 0.000 | |