| Back to Multiple platform build/check report for BioC 3.13 |
|
This page was generated on 2021-10-15 15:06:10 -0400 (Fri, 15 Oct 2021).
|
To the developers/maintainers of the MassArray package: - Please allow up to 24 hours (and sometimes 48 hours) for your latest push to git@git.bioconductor.org:packages/MassArray.git to reflect on this report. See How and When does the builder pull? When will my changes propagate? here for more information. - Make sure to use the following settings in order to reproduce any error or warning you see on this page. |
| Package 1038/2041 | Hostname | OS / Arch | INSTALL | BUILD | CHECK | BUILD BIN | ||||||||
| MassArray 1.44.0 (landing page) Reid F. Thompson
| nebbiolo1 | Linux (Ubuntu 20.04.2 LTS) / x86_64 | OK | OK | OK | |||||||||
| tokay2 | Windows Server 2012 R2 Standard / x64 | OK | OK | OK | OK | |||||||||
| machv2 | macOS 10.14.6 Mojave / x86_64 | OK | OK | OK | OK | |||||||||
| Package: MassArray |
| Version: 1.44.0 |
| Command: C:\cygwin\bin\curl.exe -O http://155.52.207.165/BBS/3.13/bioc/src/contrib/MassArray_1.44.0.tar.gz && rm -rf MassArray.buildbin-libdir && mkdir MassArray.buildbin-libdir && C:\Users\biocbuild\bbs-3.13-bioc\R\bin\R.exe CMD INSTALL --merge-multiarch --build --library=MassArray.buildbin-libdir MassArray_1.44.0.tar.gz && C:\Users\biocbuild\bbs-3.13-bioc\R\bin\R.exe CMD INSTALL MassArray_1.44.0.zip && rm MassArray_1.44.0.tar.gz MassArray_1.44.0.zip |
| StartedAt: 2021-10-14 06:56:26 -0400 (Thu, 14 Oct 2021) |
| EndedAt: 2021-10-14 06:57:26 -0400 (Thu, 14 Oct 2021) |
| EllapsedTime: 59.7 seconds |
| RetCode: 0 |
| Status: OK |
##############################################################################
##############################################################################
###
### Running command:
###
### C:\cygwin\bin\curl.exe -O http://155.52.207.165/BBS/3.13/bioc/src/contrib/MassArray_1.44.0.tar.gz && rm -rf MassArray.buildbin-libdir && mkdir MassArray.buildbin-libdir && C:\Users\biocbuild\bbs-3.13-bioc\R\bin\R.exe CMD INSTALL --merge-multiarch --build --library=MassArray.buildbin-libdir MassArray_1.44.0.tar.gz && C:\Users\biocbuild\bbs-3.13-bioc\R\bin\R.exe CMD INSTALL MassArray_1.44.0.zip && rm MassArray_1.44.0.tar.gz MassArray_1.44.0.zip
###
##############################################################################
##############################################################################
% Total % Received % Xferd Average Speed Time Time Time Current
Dload Upload Total Spent Left Speed
0 0 0 0 0 0 0 0 --:--:-- --:--:-- --:--:-- 0
100 117k 100 117k 0 0 610k 0 --:--:-- --:--:-- --:--:-- 614k
install for i386
* installing *source* package 'MassArray' ...
** using staged installation
** R
** data
*** moving datasets to lazyload DB
** inst
** byte-compile and prepare package for lazy loading
** help
*** installing help indices
converting help for package 'MassArray'
finding HTML links ... done
MassArray.example.data html
MassArrayData-class html
MassArrayFragment-class html
MassArrayPeak-class html
MassArraySpectrum-class html
ampliconPrediction html
analyzeCpGs html
bisConvert html
calcMW html
calcMeth html
calcPercentAdduct html
calcPercentConversion html
combine-methods html
combine html
convControl html
countCGs html
createWiggle html
estimatePrimerDimer html
evaluateSNPs html
expandSequence html
findCollisions html
findFragments html
findPeaks html
identifySNPs html
importEpiTyperData html
importEpiTyperData.new html
inSilicoFragmentation html
isAssayable html
numCollisions html
plot.MassArrayData html
position-methods html
position html
revComplement-methods html
revComplement html
rnaDigest html
samples-methods html
samples html
sum.MassArraySpectrum html
** building package indices
** installing vignettes
** testing if installed package can be loaded from temporary location
** testing if installed package can be loaded from final location
** testing if installed package keeps a record of temporary installation path
install for x64
* installing *source* package 'MassArray' ...
** testing if installed package can be loaded
* MD5 sums
packaged installation of 'MassArray' as MassArray_1.44.0.zip
* DONE (MassArray)
* installing to library 'C:/Users/biocbuild/bbs-3.13-bioc/R/library'
package 'MassArray' successfully unpacked and MD5 sums checked