| Back to Multiple platform build/check report for BioC 3.13 |
|
This page was generated on 2021-10-15 15:06:41 -0400 (Fri, 15 Oct 2021).
|
To the developers/maintainers of the MassArray package: - Please allow up to 24 hours (and sometimes 48 hours) for your latest push to git@git.bioconductor.org:packages/MassArray.git to reflect on this report. See How and When does the builder pull? When will my changes propagate? here for more information. - Make sure to use the following settings in order to reproduce any error or warning you see on this page. |
| Package 1038/2041 | Hostname | OS / Arch | INSTALL | BUILD | CHECK | BUILD BIN | ||||||||
| MassArray 1.44.0 (landing page) Reid F. Thompson
| nebbiolo1 | Linux (Ubuntu 20.04.2 LTS) / x86_64 | OK | OK | OK | |||||||||
| tokay2 | Windows Server 2012 R2 Standard / x64 | OK | OK | OK | OK | |||||||||
| machv2 | macOS 10.14.6 Mojave / x86_64 | OK | OK | OK | OK | |||||||||
| Package: MassArray |
| Version: 1.44.0 |
| Command: /Library/Frameworks/R.framework/Versions/Current/Resources/bin/R CMD check --install=check:MassArray.install-out.txt --library=/Library/Frameworks/R.framework/Versions/Current/Resources/library --no-vignettes --timings MassArray_1.44.0.tar.gz |
| StartedAt: 2021-10-14 20:41:12 -0400 (Thu, 14 Oct 2021) |
| EndedAt: 2021-10-14 20:42:18 -0400 (Thu, 14 Oct 2021) |
| EllapsedTime: 66.7 seconds |
| RetCode: 0 |
| Status: OK |
| CheckDir: MassArray.Rcheck |
| Warnings: 0 |
##############################################################################
##############################################################################
###
### Running command:
###
### /Library/Frameworks/R.framework/Versions/Current/Resources/bin/R CMD check --install=check:MassArray.install-out.txt --library=/Library/Frameworks/R.framework/Versions/Current/Resources/library --no-vignettes --timings MassArray_1.44.0.tar.gz
###
##############################################################################
##############################################################################
* using log directory ‘/Users/biocbuild/bbs-3.13-bioc/meat/MassArray.Rcheck’
* using R version 4.1.1 (2021-08-10)
* using platform: x86_64-apple-darwin17.0 (64-bit)
* using session charset: UTF-8
* using option ‘--no-vignettes’
* checking for file ‘MassArray/DESCRIPTION’ ... OK
* checking extension type ... Package
* this is package ‘MassArray’ version ‘1.44.0’
* checking package namespace information ... OK
* checking package dependencies ... OK
* checking if this is a source package ... OK
* checking if there is a namespace ... OK
* checking for hidden files and directories ... NOTE
Found the following hidden files and directories:
.git_fetch_output.txt
.git_merge_output.txt
These were most likely included in error. See section ‘Package
structure’ in the ‘Writing R Extensions’ manual.
* checking for portable file names ... OK
* checking for sufficient/correct file permissions ... OK
* checking whether package ‘MassArray’ can be installed ... OK
* checking installed package size ... OK
* checking package directory ... OK
* checking ‘build’ directory ... OK
* checking DESCRIPTION meta-information ... OK
* checking top-level files ... OK
* checking for left-over files ... OK
* checking index information ... OK
* checking package subdirectories ... OK
* checking R files for non-ASCII characters ... OK
* checking R files for syntax errors ... OK
* checking whether the package can be loaded ... OK
* checking whether the package can be loaded with stated dependencies ... OK
* checking whether the package can be unloaded cleanly ... OK
* checking whether the namespace can be loaded with stated dependencies ... OK
* checking whether the namespace can be unloaded cleanly ... OK
* checking dependencies in R code ... OK
* checking S3 generic/method consistency ... OK
* checking replacement functions ... OK
* checking foreign function calls ... OK
* checking R code for possible problems ... NOTE
calcMeth: warning in matrix(0, nr = 0, nc = N): partial argument match
of 'nr' to 'nrow'
calcMeth: warning in matrix(0, nr = 0, nc = N): partial argument match
of 'nc' to 'ncol'
calcMeth: warning in matrix(0, nr = num.SNRs, nc = N): partial argument
match of 'nr' to 'nrow'
calcMeth: warning in matrix(0, nr = num.SNRs, nc = N): partial argument
match of 'nc' to 'ncol'
calcMeth: warning in matrix(0, nr = num.missing, nc = N): partial
argument match of 'nr' to 'nrow'
calcMeth: warning in matrix(0, nr = num.missing, nc = N): partial
argument match of 'nc' to 'ncol'
calcMeth: warning in matrix(0, nr = length(na.coefs), nc = N): partial
argument match of 'nr' to 'nrow'
calcMeth: warning in matrix(0, nr = length(na.coefs), nc = N): partial
argument match of 'nc' to 'ncol'
calcMeth : optimizeCoefficients: warning in matrix(0, nr =
num.fragments, nc = N): partial argument match of 'nr' to 'nrow'
calcMeth : optimizeCoefficients: warning in matrix(0, nr =
num.fragments, nc = N): partial argument match of 'nc' to 'ncol'
calcMeth : optimizeCoefficients: warning in matrix(NA, nr =
length(coefs) + 1, nc = length(coefs)): partial argument match of
'nr' to 'nrow'
calcMeth : optimizeCoefficients: warning in matrix(NA, nr =
length(coefs) + 1, nc = length(coefs)): partial argument match of
'nc' to 'ncol'
$<-,MassArrayData: no visible global function definition for ‘slot<-’
$<-,MassArrayFragment: no visible global function definition for
‘slot<-’
$<-,MassArrayPeak: no visible global function definition for ‘slot<-’
$<-,MassArraySpectrum: no visible global function definition for
‘slot<-’
initialize,MassArrayData: no visible global function definition for
‘read.table’
Undefined global functions or variables:
read.table slot<-
Consider adding
importFrom("methods", "slot<-")
importFrom("utils", "read.table")
to your NAMESPACE file (and ensure that your DESCRIPTION Imports field
contains 'methods').
* checking Rd files ... OK
* checking Rd metadata ... OK
* checking Rd cross-references ... OK
* checking for missing documentation entries ... OK
* checking for code/documentation mismatches ... OK
* checking Rd \usage sections ... OK
* checking Rd contents ... OK
* checking for unstated dependencies in examples ... OK
* checking contents of ‘data’ directory ... OK
* checking data for non-ASCII characters ... OK
* checking LazyData ... OK
* checking data for ASCII and uncompressed saves ... OK
* checking sizes of PDF files under ‘inst/doc’ ... OK
* checking files in ‘vignettes’ ... OK
* checking examples ... OK
Examples with CPU (user + system) or elapsed time > 5s
user system elapsed
evaluateSNPs 24.477 0.704 25.201
* checking for unstated dependencies in vignettes ... OK
* checking package vignettes in ‘inst/doc’ ... OK
* checking running R code from vignettes ... SKIPPED
* checking re-building of vignette outputs ... SKIPPED
* checking PDF version of manual ... OK
* DONE
Status: 2 NOTEs
See
‘/Users/biocbuild/bbs-3.13-bioc/meat/MassArray.Rcheck/00check.log’
for details.
MassArray.Rcheck/00install.out
############################################################################## ############################################################################## ### ### Running command: ### ### /Library/Frameworks/R.framework/Versions/Current/Resources/bin/R CMD INSTALL MassArray ### ############################################################################## ############################################################################## * installing to library ‘/Library/Frameworks/R.framework/Versions/4.1/Resources/library’ * installing *source* package ‘MassArray’ ... ** using staged installation ** R ** data *** moving datasets to lazyload DB ** inst ** byte-compile and prepare package for lazy loading ** help *** installing help indices ** building package indices ** installing vignettes ** testing if installed package can be loaded from temporary location ** testing if installed package can be loaded from final location ** testing if installed package keeps a record of temporary installation path * DONE (MassArray)
MassArray.Rcheck/MassArray-Ex.timings
| name | user | system | elapsed | |
| MassArray.example.data | 0.015 | 0.004 | 0.020 | |
| MassArrayData-class | 0.001 | 0.001 | 0.003 | |
| MassArrayFragment-class | 0.001 | 0.001 | 0.002 | |
| MassArrayPeak-class | 0.001 | 0.001 | 0.001 | |
| MassArraySpectrum-class | 0.000 | 0.001 | 0.001 | |
| ampliconPrediction | 1.044 | 0.013 | 1.057 | |
| analyzeCpGs | 0.125 | 0.004 | 0.130 | |
| bisConvert | 0 | 0 | 0 | |
| calcMW | 0.001 | 0.000 | 0.002 | |
| calcMeth | 0.010 | 0.002 | 0.012 | |
| calcPercentAdduct | 0.042 | 0.002 | 0.044 | |
| calcPercentConversion | 0.031 | 0.002 | 0.034 | |
| combine | 0.399 | 0.002 | 0.402 | |
| convControl | 0.025 | 0.004 | 0.029 | |
| countCGs | 0.000 | 0.000 | 0.001 | |
| createWiggle | 0.010 | 0.004 | 0.013 | |
| estimatePrimerDimer | 0.045 | 0.003 | 0.049 | |
| evaluateSNPs | 24.477 | 0.704 | 25.201 | |
| expandSequence | 0.001 | 0.000 | 0.001 | |
| findCollisions | 0.000 | 0.000 | 0.001 | |
| findFragments | 0.012 | 0.003 | 0.017 | |
| findPeaks | 0.001 | 0.000 | 0.001 | |
| identifySNPs | 0.027 | 0.005 | 0.031 | |
| inSilicoFragmentation | 0.010 | 0.003 | 0.012 | |
| isAssayable | 0.001 | 0.000 | 0.001 | |
| numCollisions | 0.000 | 0.000 | 0.001 | |
| plot.MassArrayData | 0.029 | 0.002 | 0.031 | |
| position | 0.008 | 0.001 | 0.010 | |
| revComplement | 0.001 | 0.000 | 0.001 | |
| rnaDigest | 0.009 | 0.003 | 0.012 | |
| samples | 0.010 | 0.002 | 0.011 | |
| sum.MassArraySpectrum | 0.173 | 0.003 | 0.177 | |