| Back to Multiple platform build/check report for BioC 3.13 |
|
This page was generated on 2021-10-15 15:06:12 -0400 (Fri, 15 Oct 2021).
|
To the developers/maintainers of the MMUPHin package: - Please allow up to 24 hours (and sometimes 48 hours) for your latest push to git@git.bioconductor.org:packages/MMUPHin.git to reflect on this report. See How and When does the builder pull? When will my changes propagate? here for more information. - Make sure to use the following settings in order to reproduce any error or warning you see on this page. |
| Package 1167/2041 | Hostname | OS / Arch | INSTALL | BUILD | CHECK | BUILD BIN | ||||||||
| MMUPHin 1.6.2 (landing page) Siyuan MA
| nebbiolo1 | Linux (Ubuntu 20.04.2 LTS) / x86_64 | OK | OK | OK | |||||||||
| tokay2 | Windows Server 2012 R2 Standard / x64 | OK | OK | OK | OK | |||||||||
| machv2 | macOS 10.14.6 Mojave / x86_64 | OK | ERROR | skipped | skipped | |||||||||
| Package: MMUPHin |
| Version: 1.6.2 |
| Command: rm -rf MMUPHin.buildbin-libdir && mkdir MMUPHin.buildbin-libdir && C:\Users\biocbuild\bbs-3.13-bioc\R\bin\R.exe CMD INSTALL --merge-multiarch --build --library=MMUPHin.buildbin-libdir MMUPHin_1.6.2.tar.gz |
| StartedAt: 2021-10-15 10:28:57 -0400 (Fri, 15 Oct 2021) |
| EndedAt: 2021-10-15 10:30:24 -0400 (Fri, 15 Oct 2021) |
| EllapsedTime: 86.9 seconds |
| RetCode: 0 |
| Status: OK |
| PackageFile: MMUPHin_1.6.2.zip |
| PackageFileSize: 2.427 MiB |
##############################################################################
##############################################################################
###
### Running command:
###
### rm -rf MMUPHin.buildbin-libdir && mkdir MMUPHin.buildbin-libdir && C:\Users\biocbuild\bbs-3.13-bioc\R\bin\R.exe CMD INSTALL --merge-multiarch --build --library=MMUPHin.buildbin-libdir MMUPHin_1.6.2.tar.gz
###
##############################################################################
##############################################################################
install for i386
* installing *source* package 'MMUPHin' ...
** using staged installation
** R
** data
** inst
** byte-compile and prepare package for lazy loading
** help
*** installing help indices
converting help for package 'MMUPHin'
finding HTML links ... done
AST html
CRC_abd html
CRC_meta html
LOG html
Maaslin2_wrapper html
add_back_covariates html
adjust_EB html
adjust_batch html
aprior html
back_transform_abd html
bprior html
catchToList html
check_D html
check_batch html
check_covariates html
check_covariates_random html
check_exposure html
check_feature_abd html
check_metadata html
check_options html
check_options_continuous html
check_pseudo_count html
check_rank html
check_samples html
check_samples_D html
construct_design html
construct_ind html
continuous_discover html
create_table_maaslin html
diagnostic_adjust_batch html
diagnostic_continuous_discover html
diagnostic_discrete_discover html
discrete_discover html
fill_dimnames html
fit_EB html
fit_shrink html
fit_stand_feature html
it_sol html
lm_meta html
match_control html
normalize_features html
relocate_scale html
rename_maaslin html
rma_wrapper html
set_pseudo html
shorten_name html
standardize_feature html
transform_features html
tss html
vaginal_abd html
vaginal_meta html
visualize_continuous_discover html
*** copying figures
** building package indices
** installing vignettes
** testing if installed package can be loaded from temporary location
** testing if installed package can be loaded from final location
** testing if installed package keeps a record of temporary installation path
install for x64
* installing *source* package 'MMUPHin' ...
** testing if installed package can be loaded
* MD5 sums
packaged installation of 'MMUPHin' as MMUPHin_1.6.2.zip
* DONE (MMUPHin)