| Back to Multiple platform build/check report for BioC 3.13 |
|
This page was generated on 2021-10-15 15:05:45 -0400 (Fri, 15 Oct 2021).
|
To the developers/maintainers of the MMUPHin package: - Please allow up to 24 hours (and sometimes 48 hours) for your latest push to git@git.bioconductor.org:packages/MMUPHin.git to reflect on this report. See How and When does the builder pull? When will my changes propagate? here for more information. - Make sure to use the following settings in order to reproduce any error or warning you see on this page. |
| Package 1167/2041 | Hostname | OS / Arch | INSTALL | BUILD | CHECK | BUILD BIN | ||||||||
| MMUPHin 1.6.2 (landing page) Siyuan MA
| nebbiolo1 | Linux (Ubuntu 20.04.2 LTS) / x86_64 | OK | OK | OK | |||||||||
| tokay2 | Windows Server 2012 R2 Standard / x64 | OK | OK | OK | OK | |||||||||
| machv2 | macOS 10.14.6 Mojave / x86_64 | OK | ERROR | skipped | skipped | |||||||||
| Package: MMUPHin |
| Version: 1.6.2 |
| Command: /home/biocbuild/bbs-3.13-bioc/R/bin/R CMD check --install=check:MMUPHin.install-out.txt --library=/home/biocbuild/bbs-3.13-bioc/R/library --no-vignettes --timings MMUPHin_1.6.2.tar.gz |
| StartedAt: 2021-10-14 10:39:29 -0400 (Thu, 14 Oct 2021) |
| EndedAt: 2021-10-14 10:41:02 -0400 (Thu, 14 Oct 2021) |
| EllapsedTime: 92.7 seconds |
| RetCode: 0 |
| Status: OK |
| CheckDir: MMUPHin.Rcheck |
| Warnings: 0 |
##############################################################################
##############################################################################
###
### Running command:
###
### /home/biocbuild/bbs-3.13-bioc/R/bin/R CMD check --install=check:MMUPHin.install-out.txt --library=/home/biocbuild/bbs-3.13-bioc/R/library --no-vignettes --timings MMUPHin_1.6.2.tar.gz
###
##############################################################################
##############################################################################
* using log directory ‘/home/biocbuild/bbs-3.13-bioc/meat/MMUPHin.Rcheck’
* using R version 4.1.1 (2021-08-10)
* using platform: x86_64-pc-linux-gnu (64-bit)
* using session charset: UTF-8
* using option ‘--no-vignettes’
* checking for file ‘MMUPHin/DESCRIPTION’ ... OK
* checking extension type ... Package
* this is package ‘MMUPHin’ version ‘1.6.2’
* package encoding: UTF-8
* checking package namespace information ... OK
* checking package dependencies ... OK
* checking if this is a source package ... OK
* checking if there is a namespace ... OK
* checking for hidden files and directories ... OK
* checking for portable file names ... OK
* checking for sufficient/correct file permissions ... OK
* checking whether package ‘MMUPHin’ can be installed ... OK
* checking installed package size ... OK
* checking package directory ... OK
* checking ‘build’ directory ... OK
* checking DESCRIPTION meta-information ... OK
* checking top-level files ... OK
* checking for left-over files ... OK
* checking index information ... OK
* checking package subdirectories ... OK
* checking R files for non-ASCII characters ... OK
* checking R files for syntax errors ... OK
* checking whether the package can be loaded ... OK
* checking whether the package can be loaded with stated dependencies ... OK
* checking whether the package can be unloaded cleanly ... OK
* checking whether the namespace can be loaded with stated dependencies ... OK
* checking whether the namespace can be unloaded cleanly ... OK
* checking dependencies in R code ... OK
* checking S3 generic/method consistency ... OK
* checking replacement functions ... OK
* checking foreign function calls ... OK
* checking R code for possible problems ... NOTE
Maaslin2_wrapper: no visible binding for global variable
‘feature_rename’
Maaslin2_wrapper: no visible binding for global variable ‘name’
check_exposure: no visible binding for global variable ‘lvl_batch’
diagnostic_adjust_batch: no visible binding for global variable
‘Adjustment’
diagnostic_adjust_batch: no visible binding for global variable ‘batch’
diagnostic_adjust_batch: no visible binding for global variable
‘mean_overall’
diagnostic_adjust_batch: no visible binding for global variable
‘mean_batch’
diagnostic_adjust_batch: no visible binding for global variable
‘Feature’
diagnostic_continuous_discover: no visible binding for global variable
‘community’
diagnostic_continuous_discover: no visible binding for global variable
‘correlation’
diagnostic_continuous_discover: no visible binding for global variable
‘batch’
diagnostic_discrete_discover: no visible binding for global variable
‘k’
Undefined global functions or variables:
Adjustment Feature batch community correlation feature_rename k
lvl_batch mean_batch mean_overall name
* checking Rd files ... OK
* checking Rd metadata ... OK
* checking Rd cross-references ... OK
* checking for missing documentation entries ... OK
* checking for code/documentation mismatches ... OK
* checking Rd \usage sections ... OK
* checking Rd contents ... OK
* checking for unstated dependencies in examples ... OK
* checking contents of ‘data’ directory ... OK
* checking data for non-ASCII characters ... OK
* checking data for ASCII and uncompressed saves ... OK
* checking files in ‘vignettes’ ... OK
* checking examples ... OK
Examples with CPU (user + system) or elapsed time > 5s
user system elapsed
continuous_discover 24.934 2.548 27.483
lm_meta 11.504 0.188 11.693
discrete_discover 9.728 0.136 9.865
* checking for unstated dependencies in ‘tests’ ... OK
* checking tests ...
Running ‘testthat.R’
OK
* checking for unstated dependencies in vignettes ... OK
* checking package vignettes in ‘inst/doc’ ... OK
* checking running R code from vignettes ... SKIPPED
* checking re-building of vignette outputs ... SKIPPED
* checking PDF version of manual ... OK
* DONE
Status: 1 NOTE
See
‘/home/biocbuild/bbs-3.13-bioc/meat/MMUPHin.Rcheck/00check.log’
for details.
MMUPHin.Rcheck/00install.out
############################################################################## ############################################################################## ### ### Running command: ### ### /home/biocbuild/bbs-3.13-bioc/R/bin/R CMD INSTALL MMUPHin ### ############################################################################## ############################################################################## * installing to library ‘/home/biocbuild/bbs-3.13-bioc/R/library’ * installing *source* package ‘MMUPHin’ ... ** using staged installation ** R ** data ** byte-compile and prepare package for lazy loading ** help *** installing help indices *** copying figures ** building package indices ** installing vignettes ** testing if installed package can be loaded from temporary location ** testing if installed package can be loaded from final location ** testing if installed package keeps a record of temporary installation path * DONE (MMUPHin)
MMUPHin.Rcheck/tests/testthat.Rout
R version 4.1.1 (2021-08-10) -- "Kick Things"
Copyright (C) 2021 The R Foundation for Statistical Computing
Platform: x86_64-pc-linux-gnu (64-bit)
R is free software and comes with ABSOLUTELY NO WARRANTY.
You are welcome to redistribute it under certain conditions.
Type 'license()' or 'licence()' for distribution details.
R is a collaborative project with many contributors.
Type 'contributors()' for more information and
'citation()' on how to cite R or R packages in publications.
Type 'demo()' for some demos, 'help()' for on-line help, or
'help.start()' for an HTML browser interface to help.
Type 'q()' to quit R.
> library(testthat)
> library(MMUPHin)
>
> test_check("MMUPHin")
[ FAIL 0 | WARN 2 | SKIP 0 | PASS 41 ]
>
> proc.time()
user system elapsed
2.007 0.134 2.127
MMUPHin.Rcheck/MMUPHin-Ex.timings
| name | user | system | elapsed | |
| CRC_abd | 0.043 | 0.024 | 0.067 | |
| CRC_meta | 0.007 | 0.000 | 0.008 | |
| adjust_batch | 2.192 | 0.160 | 2.353 | |
| continuous_discover | 24.934 | 2.548 | 27.483 | |
| discrete_discover | 9.728 | 0.136 | 9.865 | |
| lm_meta | 11.504 | 0.188 | 11.693 | |
| vaginal_abd | 0.001 | 0.008 | 0.009 | |
| vaginal_meta | 0.003 | 0.000 | 0.002 | |