| Back to Multiple platform build/check report for BioC 3.13 |
|
This page was generated on 2021-10-15 15:05:44 -0400 (Fri, 15 Oct 2021).
|
To the developers/maintainers of the MAGeCKFlute package: - Please allow up to 24 hours (and sometimes 48 hours) for your latest push to git@git.bioconductor.org:packages/MAGeCKFlute.git to reflect on this report. See How and When does the builder pull? When will my changes propagate? here for more information. - Make sure to use the following settings in order to reproduce any error or warning you see on this page. |
| Package 1023/2041 | Hostname | OS / Arch | INSTALL | BUILD | CHECK | BUILD BIN | ||||||||
| MAGeCKFlute 1.12.0 (landing page) Wubing Zhang
| nebbiolo1 | Linux (Ubuntu 20.04.2 LTS) / x86_64 | OK | OK | OK | |||||||||
| tokay2 | Windows Server 2012 R2 Standard / x64 | OK | OK | OK | OK | |||||||||
| machv2 | macOS 10.14.6 Mojave / x86_64 | OK | OK | OK | OK | |||||||||
| Package: MAGeCKFlute |
| Version: 1.12.0 |
| Command: /home/biocbuild/bbs-3.13-bioc/R/bin/R CMD check --install=check:MAGeCKFlute.install-out.txt --library=/home/biocbuild/bbs-3.13-bioc/R/library --no-vignettes --timings MAGeCKFlute_1.12.0.tar.gz |
| StartedAt: 2021-10-14 10:25:27 -0400 (Thu, 14 Oct 2021) |
| EndedAt: 2021-10-14 10:28:17 -0400 (Thu, 14 Oct 2021) |
| EllapsedTime: 170.5 seconds |
| RetCode: 0 |
| Status: OK |
| CheckDir: MAGeCKFlute.Rcheck |
| Warnings: 0 |
##############################################################################
##############################################################################
###
### Running command:
###
### /home/biocbuild/bbs-3.13-bioc/R/bin/R CMD check --install=check:MAGeCKFlute.install-out.txt --library=/home/biocbuild/bbs-3.13-bioc/R/library --no-vignettes --timings MAGeCKFlute_1.12.0.tar.gz
###
##############################################################################
##############################################################################
* using log directory ‘/home/biocbuild/bbs-3.13-bioc/meat/MAGeCKFlute.Rcheck’
* using R version 4.1.1 (2021-08-10)
* using platform: x86_64-pc-linux-gnu (64-bit)
* using session charset: UTF-8
* using option ‘--no-vignettes’
* checking for file ‘MAGeCKFlute/DESCRIPTION’ ... OK
* checking extension type ... Package
* this is package ‘MAGeCKFlute’ version ‘1.12.0’
* package encoding: UTF-8
* checking package namespace information ... OK
* checking package dependencies ... OK
* checking if this is a source package ... OK
* checking if there is a namespace ... OK
* checking for hidden files and directories ... NOTE
Found the following hidden files and directories:
.travis.yml
These were most likely included in error. See section ‘Package
structure’ in the ‘Writing R Extensions’ manual.
* checking for portable file names ... OK
* checking for sufficient/correct file permissions ... OK
* checking whether package ‘MAGeCKFlute’ can be installed ... OK
* checking installed package size ... NOTE
installed size is 12.1Mb
sub-directories of 1Mb or more:
extdata 11.6Mb
* checking package directory ... OK
* checking ‘build’ directory ... OK
* checking DESCRIPTION meta-information ... OK
* checking top-level files ... OK
* checking for left-over files ... OK
* checking index information ... OK
* checking package subdirectories ... OK
* checking R files for non-ASCII characters ... OK
* checking R files for syntax errors ... OK
* checking whether the package can be loaded ... OK
* checking whether the package can be loaded with stated dependencies ... OK
* checking whether the package can be unloaded cleanly ... OK
* checking whether the namespace can be loaded with stated dependencies ... OK
* checking whether the namespace can be unloaded cleanly ... OK
* checking dependencies in R code ... NOTE
'library' or 'require' call to ‘pathview’ in package code.
Please use :: or requireNamespace() instead.
See section 'Suggested packages' in the 'Writing R Extensions' manual.
* checking S3 generic/method consistency ... OK
* checking replacement functions ... OK
* checking foreign function calls ... OK
* checking R code for possible problems ... NOTE
arrangePathview: no visible global function definition for ‘pathview’
Undefined global functions or variables:
pathview
* checking Rd files ... OK
* checking Rd metadata ... OK
* checking Rd cross-references ... OK
* checking for missing documentation entries ... OK
* checking for code/documentation mismatches ... OK
* checking Rd \usage sections ... OK
* checking Rd contents ... OK
* checking for unstated dependencies in examples ... OK
* checking files in ‘vignettes’ ... OK
* checking examples ... OK
Examples with CPU (user + system) or elapsed time > 5s
user system elapsed
TransGeneID 5.102 0.02 5.124
enrich.ORT 5.072 0.02 5.095
* checking for unstated dependencies in vignettes ... OK
* checking package vignettes in ‘inst/doc’ ... OK
* checking running R code from vignettes ... SKIPPED
* checking re-building of vignette outputs ... SKIPPED
* checking PDF version of manual ... OK
* DONE
Status: 4 NOTEs
See
‘/home/biocbuild/bbs-3.13-bioc/meat/MAGeCKFlute.Rcheck/00check.log’
for details.
MAGeCKFlute.Rcheck/00install.out
############################################################################## ############################################################################## ### ### Running command: ### ### /home/biocbuild/bbs-3.13-bioc/R/bin/R CMD INSTALL MAGeCKFlute ### ############################################################################## ############################################################################## * installing to library ‘/home/biocbuild/bbs-3.13-bioc/R/library’ * installing *source* package ‘MAGeCKFlute’ ... ** using staged installation ** R ** inst ** byte-compile and prepare package for lazy loading ** help *** installing help indices ** building package indices ** installing vignettes ** testing if installed package can be loaded from temporary location ** testing if installed package can be loaded from final location ** testing if installed package keeps a record of temporary installation path * DONE (MAGeCKFlute)
MAGeCKFlute.Rcheck/MAGeCKFlute-Ex.timings
| name | user | system | elapsed | |
| BarView | 0.141 | 0.008 | 0.150 | |
| BatchRemove | 2.095 | 0.101 | 2.192 | |
| ConsistencyView | 0.406 | 0.020 | 0.429 | |
| CutoffCalling | 0.004 | 0.000 | 0.004 | |
| DensityDiffView | 0.410 | 0.092 | 0.502 | |
| DensityView | 0.355 | 0.008 | 0.364 | |
| EnrichAnalyzer | 0.032 | 0.000 | 0.033 | |
| EnrichedFilter | 0.008 | 0.000 | 0.008 | |
| EnrichedGeneView | 0.004 | 0.004 | 0.007 | |
| EnrichedView | 0.008 | 0.000 | 0.008 | |
| FluteMLE | 0.001 | 0.000 | 0.001 | |
| FluteRRA | 0.001 | 0.001 | 0.002 | |
| HeatmapView | 0.110 | 0.011 | 0.120 | |
| IdentBarView | 0.109 | 0.004 | 0.113 | |
| IncorporateDepmap | 0.072 | 0.004 | 0.079 | |
| MAView | 2.287 | 0.044 | 2.331 | |
| MapRatesView | 0.280 | 0.000 | 0.281 | |
| NormalizeBeta | 0.270 | 0.004 | 0.275 | |
| OmitCommonEssential | 0.067 | 0.000 | 0.068 | |
| RankView | 0.407 | 0.012 | 0.418 | |
| ReadBeta | 0.070 | 0.000 | 0.069 | |
| ReadGMT | 2.941 | 0.055 | 3.793 | |
| ReadRRA | 0.080 | 0.002 | 0.081 | |
| ReadsgRRA | 1.253 | 0.093 | 1.350 | |
| ResembleDepmap | 0.07 | 0.00 | 0.07 | |
| ScatterView | 0.643 | 0.016 | 0.658 | |
| Selector | 0.243 | 0.008 | 0.252 | |
| SquareView | 0.683 | 0.004 | 0.688 | |
| TransGeneID | 5.102 | 0.020 | 5.124 | |
| ViolinView | 0.625 | 0.004 | 0.628 | |
| VolcanoView | 1.061 | 0.000 | 1.061 | |
| arrangePathview | 0.056 | 0.008 | 0.063 | |
| enrich.GSE | 0.009 | 0.000 | 0.010 | |
| enrich.HGT | 2.681 | 0.016 | 2.699 | |
| enrich.ORT | 5.072 | 0.020 | 5.095 | |
| getCols | 0.006 | 0.000 | 0.006 | |
| getGeneAnn | 0.001 | 0.000 | 0.001 | |
| getOrg | 0.001 | 0.000 | 0.001 | |
| getOrtAnn | 0.001 | 0.000 | 0.001 | |
| gsGetter | 0.310 | 0.008 | 0.320 | |
| hclustView | 0.259 | 0.007 | 0.267 | |
| normalize.loess | 0.297 | 0.000 | 0.296 | |
| sgRankView | 1.144 | 0.016 | 1.161 | |