| Back to Multiple platform build/check report for BioC 3.13 |
|
This page was generated on 2021-10-15 15:06:41 -0400 (Fri, 15 Oct 2021).
|
To the developers/maintainers of the MAGeCKFlute package: - Please allow up to 24 hours (and sometimes 48 hours) for your latest push to git@git.bioconductor.org:packages/MAGeCKFlute.git to reflect on this report. See How and When does the builder pull? When will my changes propagate? here for more information. - Make sure to use the following settings in order to reproduce any error or warning you see on this page. |
| Package 1023/2041 | Hostname | OS / Arch | INSTALL | BUILD | CHECK | BUILD BIN | ||||||||
| MAGeCKFlute 1.12.0 (landing page) Wubing Zhang
| nebbiolo1 | Linux (Ubuntu 20.04.2 LTS) / x86_64 | OK | OK | OK | |||||||||
| tokay2 | Windows Server 2012 R2 Standard / x64 | OK | OK | OK | OK | |||||||||
| machv2 | macOS 10.14.6 Mojave / x86_64 | OK | OK | OK | OK | |||||||||
| Package: MAGeCKFlute |
| Version: 1.12.0 |
| Command: /Library/Frameworks/R.framework/Versions/Current/Resources/bin/R CMD check --install=check:MAGeCKFlute.install-out.txt --library=/Library/Frameworks/R.framework/Versions/Current/Resources/library --no-vignettes --timings MAGeCKFlute_1.12.0.tar.gz |
| StartedAt: 2021-10-14 20:37:08 -0400 (Thu, 14 Oct 2021) |
| EndedAt: 2021-10-14 20:41:14 -0400 (Thu, 14 Oct 2021) |
| EllapsedTime: 246.4 seconds |
| RetCode: 0 |
| Status: OK |
| CheckDir: MAGeCKFlute.Rcheck |
| Warnings: 0 |
##############################################################################
##############################################################################
###
### Running command:
###
### /Library/Frameworks/R.framework/Versions/Current/Resources/bin/R CMD check --install=check:MAGeCKFlute.install-out.txt --library=/Library/Frameworks/R.framework/Versions/Current/Resources/library --no-vignettes --timings MAGeCKFlute_1.12.0.tar.gz
###
##############################################################################
##############################################################################
* using log directory ‘/Users/biocbuild/bbs-3.13-bioc/meat/MAGeCKFlute.Rcheck’
* using R version 4.1.1 (2021-08-10)
* using platform: x86_64-apple-darwin17.0 (64-bit)
* using session charset: UTF-8
* using option ‘--no-vignettes’
* checking for file ‘MAGeCKFlute/DESCRIPTION’ ... OK
* checking extension type ... Package
* this is package ‘MAGeCKFlute’ version ‘1.12.0’
* package encoding: UTF-8
* checking package namespace information ... OK
* checking package dependencies ... OK
* checking if this is a source package ... OK
* checking if there is a namespace ... OK
* checking for hidden files and directories ... NOTE
Found the following hidden files and directories:
.git_fetch_output.txt
.git_merge_output.txt
.travis.yml
These were most likely included in error. See section ‘Package
structure’ in the ‘Writing R Extensions’ manual.
* checking for portable file names ... OK
* checking for sufficient/correct file permissions ... OK
* checking whether package ‘MAGeCKFlute’ can be installed ... OK
* checking installed package size ... NOTE
installed size is 13.9Mb
sub-directories of 1Mb or more:
extdata 13.5Mb
* checking package directory ... OK
* checking ‘build’ directory ... OK
* checking DESCRIPTION meta-information ... OK
* checking top-level files ... OK
* checking for left-over files ... OK
* checking index information ... OK
* checking package subdirectories ... OK
* checking R files for non-ASCII characters ... OK
* checking R files for syntax errors ... OK
* checking whether the package can be loaded ... OK
* checking whether the package can be loaded with stated dependencies ... OK
* checking whether the package can be unloaded cleanly ... OK
* checking whether the namespace can be loaded with stated dependencies ... OK
* checking whether the namespace can be unloaded cleanly ... OK
* checking dependencies in R code ... NOTE
'library' or 'require' call to ‘pathview’ in package code.
Please use :: or requireNamespace() instead.
See section 'Suggested packages' in the 'Writing R Extensions' manual.
* checking S3 generic/method consistency ... OK
* checking replacement functions ... OK
* checking foreign function calls ... OK
* checking R code for possible problems ... NOTE
arrangePathview: no visible global function definition for ‘pathview’
Undefined global functions or variables:
pathview
* checking Rd files ... OK
* checking Rd metadata ... OK
* checking Rd cross-references ... OK
* checking for missing documentation entries ... OK
* checking for code/documentation mismatches ... OK
* checking Rd \usage sections ... OK
* checking Rd contents ... OK
* checking for unstated dependencies in examples ... OK
* checking files in ‘vignettes’ ... OK
* checking examples ... OK
Examples with CPU (user + system) or elapsed time > 5s
user system elapsed
enrich.ORT 7.468 0.162 7.635
TransGeneID 6.039 0.069 6.113
ReadGMT 3.883 0.086 5.495
* checking for unstated dependencies in vignettes ... OK
* checking package vignettes in ‘inst/doc’ ... OK
* checking running R code from vignettes ... SKIPPED
* checking re-building of vignette outputs ... SKIPPED
* checking PDF version of manual ... OK
* DONE
Status: 4 NOTEs
See
‘/Users/biocbuild/bbs-3.13-bioc/meat/MAGeCKFlute.Rcheck/00check.log’
for details.
MAGeCKFlute.Rcheck/00install.out
############################################################################## ############################################################################## ### ### Running command: ### ### /Library/Frameworks/R.framework/Versions/Current/Resources/bin/R CMD INSTALL MAGeCKFlute ### ############################################################################## ############################################################################## * installing to library ‘/Library/Frameworks/R.framework/Versions/4.1/Resources/library’ * installing *source* package ‘MAGeCKFlute’ ... ** using staged installation ** R ** inst ** byte-compile and prepare package for lazy loading ** help *** installing help indices ** building package indices ** installing vignettes ** testing if installed package can be loaded from temporary location ** testing if installed package can be loaded from final location ** testing if installed package keeps a record of temporary installation path * DONE (MAGeCKFlute)
MAGeCKFlute.Rcheck/MAGeCKFlute-Ex.timings
| name | user | system | elapsed | |
| BarView | 0.738 | 0.007 | 0.745 | |
| BatchRemove | 2.381 | 0.072 | 2.457 | |
| ConsistencyView | 0.516 | 0.027 | 0.544 | |
| CutoffCalling | 0.005 | 0.001 | 0.007 | |
| DensityDiffView | 0.642 | 0.041 | 0.685 | |
| DensityView | 0.588 | 0.016 | 0.606 | |
| EnrichAnalyzer | 0.028 | 0.000 | 0.028 | |
| EnrichedFilter | 0.012 | 0.001 | 0.013 | |
| EnrichedGeneView | 0.013 | 0.001 | 0.013 | |
| EnrichedView | 0.011 | 0.001 | 0.011 | |
| FluteMLE | 0.001 | 0.001 | 0.001 | |
| FluteRRA | 0.002 | 0.001 | 0.002 | |
| HeatmapView | 0.168 | 0.005 | 0.174 | |
| IdentBarView | 0.162 | 0.002 | 0.164 | |
| IncorporateDepmap | 0.117 | 0.007 | 0.124 | |
| MAView | 4.196 | 0.056 | 4.253 | |
| MapRatesView | 0.460 | 0.004 | 0.465 | |
| NormalizeBeta | 0.313 | 0.004 | 0.317 | |
| OmitCommonEssential | 0.100 | 0.002 | 0.103 | |
| RankView | 0.576 | 0.024 | 0.601 | |
| ReadBeta | 0.103 | 0.003 | 0.106 | |
| ReadGMT | 3.883 | 0.086 | 5.495 | |
| ReadRRA | 0.114 | 0.003 | 0.117 | |
| ReadsgRRA | 1.258 | 0.027 | 1.287 | |
| ResembleDepmap | 0.109 | 0.002 | 0.110 | |
| ScatterView | 0.750 | 0.023 | 0.775 | |
| Selector | 0.398 | 0.004 | 0.404 | |
| SquareView | 1.597 | 0.017 | 1.615 | |
| TransGeneID | 6.039 | 0.069 | 6.113 | |
| ViolinView | 0.840 | 0.009 | 0.852 | |
| VolcanoView | 1.095 | 0.050 | 1.150 | |
| arrangePathview | 0.069 | 0.002 | 0.071 | |
| enrich.GSE | 0.014 | 0.001 | 0.015 | |
| enrich.HGT | 3.887 | 0.066 | 3.958 | |
| enrich.ORT | 7.468 | 0.162 | 7.635 | |
| getCols | 0.010 | 0.001 | 0.011 | |
| getGeneAnn | 0 | 0 | 0 | |
| getOrg | 0.001 | 0.001 | 0.001 | |
| getOrtAnn | 0.000 | 0.000 | 0.001 | |
| gsGetter | 0.388 | 0.021 | 0.411 | |
| hclustView | 0.345 | 0.008 | 0.354 | |
| normalize.loess | 0.302 | 0.003 | 0.304 | |
| sgRankView | 1.303 | 0.042 | 1.346 | |