| Back to Multiple platform build/check report for BioC 3.13 |
|
This page was generated on 2021-10-15 15:06:09 -0400 (Fri, 15 Oct 2021).
|
To the developers/maintainers of the Linnorm package: - Please allow up to 24 hours (and sometimes 48 hours) for your latest push to git@git.bioconductor.org:packages/Linnorm.git to reflect on this report. See How and When does the builder pull? When will my changes propagate? here for more information. - Make sure to use the following settings in order to reproduce any error or warning you see on this page. |
| Package 989/2041 | Hostname | OS / Arch | INSTALL | BUILD | CHECK | BUILD BIN | ||||||||
| Linnorm 2.16.0 (landing page) Ken Shun Hang Yip
| nebbiolo1 | Linux (Ubuntu 20.04.2 LTS) / x86_64 | OK | OK | OK | |||||||||
| tokay2 | Windows Server 2012 R2 Standard / x64 | OK | OK | OK | OK | |||||||||
| machv2 | macOS 10.14.6 Mojave / x86_64 | OK | OK | OK | OK | |||||||||
| Package: Linnorm |
| Version: 2.16.0 |
| Command: rm -rf Linnorm.buildbin-libdir && mkdir Linnorm.buildbin-libdir && C:\Users\biocbuild\bbs-3.13-bioc\R\bin\R.exe CMD INSTALL --merge-multiarch --build --library=Linnorm.buildbin-libdir Linnorm_2.16.0.tar.gz |
| StartedAt: 2021-10-15 10:05:11 -0400 (Fri, 15 Oct 2021) |
| EndedAt: 2021-10-15 10:06:33 -0400 (Fri, 15 Oct 2021) |
| EllapsedTime: 82.0 seconds |
| RetCode: 0 |
| Status: OK |
| PackageFile: Linnorm_2.16.0.zip |
| PackageFileSize: 4.971 MiB |
##############################################################################
##############################################################################
###
### Running command:
###
### rm -rf Linnorm.buildbin-libdir && mkdir Linnorm.buildbin-libdir && C:\Users\biocbuild\bbs-3.13-bioc\R\bin\R.exe CMD INSTALL --merge-multiarch --build --library=Linnorm.buildbin-libdir Linnorm_2.16.0.tar.gz
###
##############################################################################
##############################################################################
install for i386
* installing *source* package 'Linnorm' ...
** using staged installation
** libs
"C:/rtools40/mingw32/bin/"g++ -std=gnu++11 -I"C:/Users/BIOCBU~1/BBS-3~1.13-/R/include" -DNDEBUG -I'C:/Users/biocbuild/bbs-3.13-bioc/R/library/Rcpp/include' -I'C:/Users/biocbuild/bbs-3.13-bioc/R/library/RcppArmadillo/include' -I"c:/extsoft/include" -O2 -Wall -mfpmath=sse -msse2 -mstackrealign -c Misc.cpp -o Misc.o
C:/rtools40/mingw32/bin/g++ -std=gnu++11 -shared -s -static-libgcc -o Linnorm.dll tmp.def Misc.o -std=c++11 -LC:/Users/BIOCBU~1/BBS-3~1.13-/R/bin/i386 -lRlapack -LC:/Users/BIOCBU~1/BBS-3~1.13-/R/bin/i386 -lRblas -lgfortran -lm -lquadmath -DARMA_64BIT_WORD=1 -Lc:/extsoft/lib/i386 -Lc:/extsoft/lib -LC:/Users/BIOCBU~1/BBS-3~1.13-/R/bin/i386 -lR
installing to C:/Users/biocbuild/bbs-3.13-bioc/meat/Linnorm.buildbin-libdir/00LOCK-Linnorm/00new/Linnorm/libs/i386
** R
** data
** inst
** byte-compile and prepare package for lazy loading
** help
*** installing help indices
converting help for package 'Linnorm'
finding HTML links ... done
Islam2011 html
LIHC html
LinearRegression html
LinearRegressionFP html
Linnorm.Cor html
Linnorm.DataImput html
Linnorm.HClust html
Linnorm.HVar html
Linnorm.Norm html
Linnorm.PCA html
Linnorm html
Linnorm.SGenes html
Linnorm.limma html
Linnorm.tSNE html
RnaXSim html
SEQC html
** building package indices
** installing vignettes
** testing if installed package can be loaded from temporary location
** testing if installed package can be loaded from final location
** testing if installed package keeps a record of temporary installation path
install for x64
* installing *source* package 'Linnorm' ...
** libs
"C:/rtools40/mingw64/bin/"g++ -std=gnu++11 -I"C:/Users/BIOCBU~1/BBS-3~1.13-/R/include" -DNDEBUG -I'C:/Users/biocbuild/bbs-3.13-bioc/R/library/Rcpp/include' -I'C:/Users/biocbuild/bbs-3.13-bioc/R/library/RcppArmadillo/include' -I"C:/extsoft/include" -O2 -Wall -mfpmath=sse -msse2 -mstackrealign -c Misc.cpp -o Misc.o
C:/rtools40/mingw64/bin/g++ -std=gnu++11 -shared -s -static-libgcc -o Linnorm.dll tmp.def Misc.o -std=c++11 -LC:/Users/BIOCBU~1/BBS-3~1.13-/R/bin/x64 -lRlapack -LC:/Users/BIOCBU~1/BBS-3~1.13-/R/bin/x64 -lRblas -lgfortran -lm -lquadmath -DARMA_64BIT_WORD=1 -LC:/extsoft/lib/x64 -LC:/extsoft/lib -LC:/Users/BIOCBU~1/BBS-3~1.13-/R/bin/x64 -lR
installing to C:/Users/biocbuild/bbs-3.13-bioc/meat/Linnorm.buildbin-libdir/Linnorm/libs/x64
** testing if installed package can be loaded
* MD5 sums
packaged installation of 'Linnorm' as Linnorm_2.16.0.zip
* DONE (Linnorm)