| Back to Multiple platform build/check report for BioC 3.13 |
|
This page was generated on 2021-10-15 15:05:44 -0400 (Fri, 15 Oct 2021).
|
To the developers/maintainers of the Linnorm package: - Please allow up to 24 hours (and sometimes 48 hours) for your latest push to git@git.bioconductor.org:packages/Linnorm.git to reflect on this report. See How and When does the builder pull? When will my changes propagate? here for more information. - Make sure to use the following settings in order to reproduce any error or warning you see on this page. |
| Package 989/2041 | Hostname | OS / Arch | INSTALL | BUILD | CHECK | BUILD BIN | ||||||||
| Linnorm 2.16.0 (landing page) Ken Shun Hang Yip
| nebbiolo1 | Linux (Ubuntu 20.04.2 LTS) / x86_64 | OK | OK | OK | |||||||||
| tokay2 | Windows Server 2012 R2 Standard / x64 | OK | OK | OK | OK | |||||||||
| machv2 | macOS 10.14.6 Mojave / x86_64 | OK | OK | OK | OK | |||||||||
| Package: Linnorm |
| Version: 2.16.0 |
| Command: /home/biocbuild/bbs-3.13-bioc/R/bin/R CMD check --install=check:Linnorm.install-out.txt --library=/home/biocbuild/bbs-3.13-bioc/R/library --no-vignettes --timings Linnorm_2.16.0.tar.gz |
| StartedAt: 2021-10-14 10:23:02 -0400 (Thu, 14 Oct 2021) |
| EndedAt: 2021-10-14 10:28:01 -0400 (Thu, 14 Oct 2021) |
| EllapsedTime: 298.5 seconds |
| RetCode: 0 |
| Status: OK |
| CheckDir: Linnorm.Rcheck |
| Warnings: 0 |
##############################################################################
##############################################################################
###
### Running command:
###
### /home/biocbuild/bbs-3.13-bioc/R/bin/R CMD check --install=check:Linnorm.install-out.txt --library=/home/biocbuild/bbs-3.13-bioc/R/library --no-vignettes --timings Linnorm_2.16.0.tar.gz
###
##############################################################################
##############################################################################
* using log directory ‘/home/biocbuild/bbs-3.13-bioc/meat/Linnorm.Rcheck’
* using R version 4.1.1 (2021-08-10)
* using platform: x86_64-pc-linux-gnu (64-bit)
* using session charset: UTF-8
* using option ‘--no-vignettes’
* checking for file ‘Linnorm/DESCRIPTION’ ... OK
* checking extension type ... Package
* this is package ‘Linnorm’ version ‘2.16.0’
* checking package namespace information ... OK
* checking package dependencies ... OK
* checking if this is a source package ... OK
* checking if there is a namespace ... OK
* checking for hidden files and directories ... OK
* checking for portable file names ... OK
* checking for sufficient/correct file permissions ... OK
* checking whether package ‘Linnorm’ can be installed ... OK
* checking installed package size ... OK
* checking package directory ... OK
* checking ‘build’ directory ... OK
* checking DESCRIPTION meta-information ... OK
* checking top-level files ... OK
* checking for left-over files ... OK
* checking index information ... OK
* checking package subdirectories ... OK
* checking R files for non-ASCII characters ... OK
* checking R files for syntax errors ... OK
* checking whether the package can be loaded ... OK
* checking whether the package can be loaded with stated dependencies ... OK
* checking whether the package can be unloaded cleanly ... OK
* checking whether the namespace can be loaded with stated dependencies ... OK
* checking whether the namespace can be unloaded cleanly ... OK
* checking dependencies in R code ... OK
* checking S3 generic/method consistency ... OK
* checking replacement functions ... OK
* checking foreign function calls ... OK
* checking R code for possible problems ... NOTE
Linnorm.HClust: no visible binding for global variable ‘x’
Linnorm.HClust: no visible binding for global variable ‘y’
Linnorm.HClust: no visible binding for global variable ‘xend’
Linnorm.HClust: no visible binding for global variable ‘yend’
Linnorm.HClust: no visible binding for global variable ‘cluster’
Linnorm.HClust: no visible binding for global variable ‘X1’
Linnorm.HClust: no visible binding for global variable ‘X2’
Linnorm.HVar: no visible binding for global variable ‘SD’
Linnorm.HVar: no visible binding for global variable ‘group’
Undefined global functions or variables:
SD X1 X2 cluster group x xend y yend
* checking Rd files ... OK
* checking Rd metadata ... OK
* checking Rd cross-references ... OK
* checking for missing documentation entries ... OK
* checking for code/documentation mismatches ... OK
* checking Rd \usage sections ... OK
* checking Rd contents ... OK
* checking for unstated dependencies in examples ... OK
* checking contents of ‘data’ directory ... OK
* checking data for non-ASCII characters ... OK
* checking data for ASCII and uncompressed saves ... OK
* checking line endings in C/C++/Fortran sources/headers ... OK
* checking line endings in Makefiles ... OK
* checking compilation flags in Makevars ... OK
* checking for GNU extensions in Makefiles ... OK
* checking for portable use of $(BLAS_LIBS) and $(LAPACK_LIBS) ... OK
* checking use of PKG_*FLAGS in Makefiles ... OK
* checking compiled code ... NOTE
Note: information on .o files is not available
* checking files in ‘vignettes’ ... OK
* checking examples ... OK
Examples with CPU (user + system) or elapsed time > 5s
user system elapsed
RnaXSim 67.681 0.144 67.828
Linnorm.Cor 40.768 0.211 40.984
Linnorm.limma 27.212 0.088 27.301
Linnorm.Norm 26.674 0.044 26.719
Linnorm 26.655 0.056 26.711
* checking for unstated dependencies in ‘tests’ ... OK
* checking tests ...
Running ‘testthat.R’
OK
* checking for unstated dependencies in vignettes ... OK
* checking package vignettes in ‘inst/doc’ ... OK
* checking running R code from vignettes ... SKIPPED
* checking re-building of vignette outputs ... SKIPPED
* checking PDF version of manual ... OK
* DONE
Status: 2 NOTEs
See
‘/home/biocbuild/bbs-3.13-bioc/meat/Linnorm.Rcheck/00check.log’
for details.
Linnorm.Rcheck/00install.out
############################################################################## ############################################################################## ### ### Running command: ### ### /home/biocbuild/bbs-3.13-bioc/R/bin/R CMD INSTALL Linnorm ### ############################################################################## ############################################################################## * installing to library ‘/home/biocbuild/bbs-3.13-bioc/R/library’ * installing *source* package ‘Linnorm’ ... ** using staged installation ** libs g++ -std=gnu++14 -I"/home/biocbuild/bbs-3.13-bioc/R/include" -DNDEBUG -I'/home/biocbuild/bbs-3.13-bioc/R/library/Rcpp/include' -I'/home/biocbuild/bbs-3.13-bioc/R/library/RcppArmadillo/include' -I/usr/local/include -fpic -g -O2 -Wall -c Misc.cpp -o Misc.o g++ -std=gnu++14 -shared -L/home/biocbuild/bbs-3.13-bioc/R/lib -L/usr/local/lib -o Linnorm.so Misc.o -std=c++11 -L/home/biocbuild/bbs-3.13-bioc/R/lib -lRlapack -L/home/biocbuild/bbs-3.13-bioc/R/lib -lRblas -lgfortran -lm -lquadmath -DARMA_64BIT_WORD=1 -L/home/biocbuild/bbs-3.13-bioc/R/lib -lR installing to /home/biocbuild/bbs-3.13-bioc/R/library/00LOCK-Linnorm/00new/Linnorm/libs ** R ** data ** inst ** byte-compile and prepare package for lazy loading ** help *** installing help indices ** building package indices ** installing vignettes ** testing if installed package can be loaded from temporary location ** checking absolute paths in shared objects and dynamic libraries ** testing if installed package can be loaded from final location ** testing if installed package keeps a record of temporary installation path * DONE (Linnorm)
Linnorm.Rcheck/tests/testthat.Rout
R version 4.1.1 (2021-08-10) -- "Kick Things"
Copyright (C) 2021 The R Foundation for Statistical Computing
Platform: x86_64-pc-linux-gnu (64-bit)
R is free software and comes with ABSOLUTELY NO WARRANTY.
You are welcome to redistribute it under certain conditions.
Type 'license()' or 'licence()' for distribution details.
R is a collaborative project with many contributors.
Type 'contributors()' for more information and
'citation()' on how to cite R or R packages in publications.
Type 'demo()' for some demos, 'help()' for on-line help, or
'help.start()' for an HTML browser interface to help.
Type 'q()' to quit R.
> library(testthat)
> library(Linnorm)
>
> test_check("Linnorm")
[ FAIL 0 | WARN 0 | SKIP 0 | PASS 26 ]
>
> proc.time()
user system elapsed
19.507 0.743 20.238
Linnorm.Rcheck/Linnorm-Ex.timings
| name | user | system | elapsed | |
| LinearRegression | 0.001 | 0.000 | 0.002 | |
| LinearRegressionFP | 0 | 0 | 0 | |
| Linnorm.Cor | 40.768 | 0.211 | 40.984 | |
| Linnorm.DataImput | 1.644 | 0.056 | 1.694 | |
| Linnorm.HClust | 2.224 | 0.008 | 1.950 | |
| Linnorm.HVar | 0.771 | 0.004 | 0.775 | |
| Linnorm.Norm | 26.674 | 0.044 | 26.719 | |
| Linnorm.PCA | 3.266 | 0.068 | 3.329 | |
| Linnorm | 26.655 | 0.056 | 26.711 | |
| Linnorm.SGenes | 0.292 | 0.028 | 0.319 | |
| Linnorm.limma | 27.212 | 0.088 | 27.301 | |
| Linnorm.tSNE | 3.609 | 0.044 | 3.653 | |
| RnaXSim | 67.681 | 0.144 | 67.828 | |