| Back to Multiple platform build/check report for BioC 3.13 |
|
This page was generated on 2021-10-15 15:05:41 -0400 (Fri, 15 Oct 2021).
|
To the developers/maintainers of the GeneBreak package: - Please allow up to 24 hours (and sometimes 48 hours) for your latest push to git@git.bioconductor.org:packages/GeneBreak.git to reflect on this report. See How and When does the builder pull? When will my changes propagate? here for more information. - Make sure to use the following settings in order to reproduce any error or warning you see on this page. |
| Package 710/2041 | Hostname | OS / Arch | INSTALL | BUILD | CHECK | BUILD BIN | ||||||||
| GeneBreak 1.22.0 (landing page) Evert van den Broek
| nebbiolo1 | Linux (Ubuntu 20.04.2 LTS) / x86_64 | OK | OK | OK | |||||||||
| tokay2 | Windows Server 2012 R2 Standard / x64 | OK | OK | OK | OK | |||||||||
| machv2 | macOS 10.14.6 Mojave / x86_64 | OK | OK | OK | OK | |||||||||
| Package: GeneBreak |
| Version: 1.22.0 |
| Command: /home/biocbuild/bbs-3.13-bioc/R/bin/R CMD check --install=check:GeneBreak.install-out.txt --library=/home/biocbuild/bbs-3.13-bioc/R/library --no-vignettes --timings GeneBreak_1.22.0.tar.gz |
| StartedAt: 2021-10-14 09:56:03 -0400 (Thu, 14 Oct 2021) |
| EndedAt: 2021-10-14 09:58:35 -0400 (Thu, 14 Oct 2021) |
| EllapsedTime: 151.3 seconds |
| RetCode: 0 |
| Status: OK |
| CheckDir: GeneBreak.Rcheck |
| Warnings: 0 |
##############################################################################
##############################################################################
###
### Running command:
###
### /home/biocbuild/bbs-3.13-bioc/R/bin/R CMD check --install=check:GeneBreak.install-out.txt --library=/home/biocbuild/bbs-3.13-bioc/R/library --no-vignettes --timings GeneBreak_1.22.0.tar.gz
###
##############################################################################
##############################################################################
* using log directory ‘/home/biocbuild/bbs-3.13-bioc/meat/GeneBreak.Rcheck’
* using R version 4.1.1 (2021-08-10)
* using platform: x86_64-pc-linux-gnu (64-bit)
* using session charset: UTF-8
* using option ‘--no-vignettes’
* checking for file ‘GeneBreak/DESCRIPTION’ ... OK
* checking extension type ... Package
* this is package ‘GeneBreak’ version ‘1.22.0’
* checking package namespace information ... OK
* checking package dependencies ... OK
* checking if this is a source package ... OK
* checking if there is a namespace ... OK
* checking for hidden files and directories ... OK
* checking for portable file names ... OK
* checking for sufficient/correct file permissions ... OK
* checking whether package ‘GeneBreak’ can be installed ... OK
* checking installed package size ... OK
* checking package directory ... OK
* checking ‘build’ directory ... OK
* checking DESCRIPTION meta-information ... OK
* checking top-level files ... OK
* checking for left-over files ... OK
* checking index information ... OK
* checking package subdirectories ... OK
* checking R files for non-ASCII characters ... OK
* checking R files for syntax errors ... OK
* checking whether the package can be loaded ... OK
* checking whether the package can be loaded with stated dependencies ... OK
* checking whether the package can be unloaded cleanly ... OK
* checking whether the namespace can be loaded with stated dependencies ... OK
* checking whether the namespace can be unloaded cleanly ... OK
* checking dependencies in R code ... OK
* checking S3 generic/method consistency ... OK
* checking replacement functions ... OK
* checking foreign function calls ... OK
* checking R code for possible problems ... NOTE
.glmbreak: no visible global function definition for ‘glm’
.glmbreak: no visible global function definition for ‘predict’
addGeneAnnotation,CopyNumberBreakPoints: no visible global function
definition for ‘head’
bpStats,CopyNumberBreakPoints: no visible global function definition
for ‘sd’
bpStats,CopyNumberBreakPoints: no visible global function definition
for ‘p.adjust’
Undefined global functions or variables:
glm head p.adjust predict sd
Consider adding
importFrom("stats", "glm", "p.adjust", "predict", "sd")
importFrom("utils", "head")
to your NAMESPACE file.
* checking Rd files ... OK
* checking Rd metadata ... OK
* checking Rd cross-references ... OK
* checking for missing documentation entries ... OK
* checking for code/documentation mismatches ... OK
* checking Rd \usage sections ... OK
* checking Rd contents ... OK
* checking for unstated dependencies in examples ... OK
* checking contents of ‘data’ directory ... OK
* checking data for non-ASCII characters ... OK
* checking data for ASCII and uncompressed saves ... OK
* checking files in ‘vignettes’ ... OK
* checking examples ... OK
Examples with CPU (user + system) or elapsed time > 5s
user system elapsed
CopyNumberBreakPointGenes-class 5.525 0.168 5.694
bpPlot-CopyNumberBreakPoints-method 4.929 0.344 5.274
* checking for unstated dependencies in vignettes ... OK
* checking package vignettes in ‘inst/doc’ ... OK
* checking running R code from vignettes ... SKIPPED
* checking re-building of vignette outputs ... SKIPPED
* checking PDF version of manual ... OK
* DONE
Status: 1 NOTE
See
‘/home/biocbuild/bbs-3.13-bioc/meat/GeneBreak.Rcheck/00check.log’
for details.
GeneBreak.Rcheck/00install.out
############################################################################## ############################################################################## ### ### Running command: ### ### /home/biocbuild/bbs-3.13-bioc/R/bin/R CMD INSTALL GeneBreak ### ############################################################################## ############################################################################## * installing to library ‘/home/biocbuild/bbs-3.13-bioc/R/library’ * installing *source* package ‘GeneBreak’ ... ** using staged installation ** R ** data ** byte-compile and prepare package for lazy loading Creating a new generic function for ‘segmentData’ in package ‘GeneBreak’ ** help *** installing help indices ** building package indices ** installing vignettes ** testing if installed package can be loaded from temporary location ** testing if installed package can be loaded from final location ** testing if installed package keeps a record of temporary installation path * DONE (GeneBreak)
GeneBreak.Rcheck/GeneBreak-Ex.timings
| name | user | system | elapsed | |
| CopyNumberBreakPointGenes-class | 5.525 | 0.168 | 5.694 | |
| CopyNumberBreakPoints-class | 1.711 | 0.096 | 1.807 | |
| accessOptions-CopyNumberBreakPoints-method | 0.916 | 0.044 | 0.961 | |
| addGeneAnnotation-CopyNumberBreakPoints-method | 1.814 | 0.072 | 1.887 | |
| bpFilter-CopyNumberBreakPoints-method | 1.499 | 0.048 | 1.549 | |
| bpGenes-CopyNumberBreakPointGenes-method | 2.897 | 0.276 | 3.174 | |
| bpPlot-CopyNumberBreakPoints-method | 4.929 | 0.344 | 5.274 | |
| bpStats-CopyNumberBreakPoints-method | 4.150 | 0.072 | 4.223 | |
| breakpointData-CopyNumberBreakPoints-method | 0.711 | 0.764 | 1.475 | |
| breakpointsPerGene-CopyNumberBreakPointGenes-method | 1.838 | 0.724 | 2.562 | |
| callData-CopyNumberBreakPoints-method | 1.154 | 0.772 | 1.925 | |
| featureChromosomes-CopyNumberBreakPoints-method | 0.984 | 0.044 | 1.028 | |
| featureInfo-CopyNumberBreakPoints-method | 1.729 | 0.216 | 1.945 | |
| featuresPerGene-CopyNumberBreakPointGenes-method | 1.683 | 0.008 | 1.692 | |
| geneChromosomes-CopyNumberBreakPointGenes-method | 1.232 | 0.043 | 1.274 | |
| geneInfo-CopyNumberBreakPointGenes-method | 1.585 | 0.092 | 1.678 | |
| getBreakpoints | 1.299 | 0.060 | 1.360 | |
| namesFeatures-CopyNumberBreakPoints-method | 0.978 | 0.072 | 1.049 | |
| recurrentGenes-CopyNumberBreakPointGenes-method | 4.241 | 0.035 | 4.277 | |
| sampleNames-CopyNumberBreakPoints-method | 0.900 | 0.044 | 0.945 | |
| segmentData-CopyNumberBreakPoints-method | 1.143 | 0.756 | 1.898 | |