| Back to Multiple platform build/check report for BioC 3.13 |
|
This page was generated on 2021-10-15 15:06:36 -0400 (Fri, 15 Oct 2021).
|
To the developers/maintainers of the GeneBreak package: - Please allow up to 24 hours (and sometimes 48 hours) for your latest push to git@git.bioconductor.org:packages/GeneBreak.git to reflect on this report. See How and When does the builder pull? When will my changes propagate? here for more information. - Make sure to use the following settings in order to reproduce any error or warning you see on this page. |
| Package 710/2041 | Hostname | OS / Arch | INSTALL | BUILD | CHECK | BUILD BIN | ||||||||
| GeneBreak 1.22.0 (landing page) Evert van den Broek
| nebbiolo1 | Linux (Ubuntu 20.04.2 LTS) / x86_64 | OK | OK | OK | |||||||||
| tokay2 | Windows Server 2012 R2 Standard / x64 | OK | OK | OK | OK | |||||||||
| machv2 | macOS 10.14.6 Mojave / x86_64 | OK | OK | OK | OK | |||||||||
| Package: GeneBreak |
| Version: 1.22.0 |
| Command: /Library/Frameworks/R.framework/Versions/Current/Resources/bin/R CMD check --install=check:GeneBreak.install-out.txt --library=/Library/Frameworks/R.framework/Versions/Current/Resources/library --no-vignettes --timings GeneBreak_1.22.0.tar.gz |
| StartedAt: 2021-10-14 19:18:46 -0400 (Thu, 14 Oct 2021) |
| EndedAt: 2021-10-14 19:22:22 -0400 (Thu, 14 Oct 2021) |
| EllapsedTime: 216.2 seconds |
| RetCode: 0 |
| Status: OK |
| CheckDir: GeneBreak.Rcheck |
| Warnings: 0 |
##############################################################################
##############################################################################
###
### Running command:
###
### /Library/Frameworks/R.framework/Versions/Current/Resources/bin/R CMD check --install=check:GeneBreak.install-out.txt --library=/Library/Frameworks/R.framework/Versions/Current/Resources/library --no-vignettes --timings GeneBreak_1.22.0.tar.gz
###
##############################################################################
##############################################################################
* using log directory ‘/Users/biocbuild/bbs-3.13-bioc/meat/GeneBreak.Rcheck’
* using R version 4.1.1 (2021-08-10)
* using platform: x86_64-apple-darwin17.0 (64-bit)
* using session charset: UTF-8
* using option ‘--no-vignettes’
* checking for file ‘GeneBreak/DESCRIPTION’ ... OK
* checking extension type ... Package
* this is package ‘GeneBreak’ version ‘1.22.0’
* checking package namespace information ... OK
* checking package dependencies ... OK
* checking if this is a source package ... OK
* checking if there is a namespace ... OK
* checking for hidden files and directories ... NOTE
Found the following hidden files and directories:
.git_fetch_output.txt
.git_merge_output.txt
These were most likely included in error. See section ‘Package
structure’ in the ‘Writing R Extensions’ manual.
* checking for portable file names ... OK
* checking for sufficient/correct file permissions ... OK
* checking whether package ‘GeneBreak’ can be installed ... OK
* checking installed package size ... OK
* checking package directory ... OK
* checking ‘build’ directory ... OK
* checking DESCRIPTION meta-information ... OK
* checking top-level files ... OK
* checking for left-over files ... OK
* checking index information ... OK
* checking package subdirectories ... OK
* checking R files for non-ASCII characters ... OK
* checking R files for syntax errors ... OK
* checking whether the package can be loaded ... OK
* checking whether the package can be loaded with stated dependencies ... OK
* checking whether the package can be unloaded cleanly ... OK
* checking whether the namespace can be loaded with stated dependencies ... OK
* checking whether the namespace can be unloaded cleanly ... OK
* checking dependencies in R code ... OK
* checking S3 generic/method consistency ... OK
* checking replacement functions ... OK
* checking foreign function calls ... OK
* checking R code for possible problems ... NOTE
.glmbreak: no visible global function definition for ‘glm’
.glmbreak: no visible global function definition for ‘predict’
addGeneAnnotation,CopyNumberBreakPoints: no visible global function
definition for ‘head’
bpStats,CopyNumberBreakPoints: no visible global function definition
for ‘sd’
bpStats,CopyNumberBreakPoints: no visible global function definition
for ‘p.adjust’
Undefined global functions or variables:
glm head p.adjust predict sd
Consider adding
importFrom("stats", "glm", "p.adjust", "predict", "sd")
importFrom("utils", "head")
to your NAMESPACE file.
* checking Rd files ... OK
* checking Rd metadata ... OK
* checking Rd cross-references ... OK
* checking for missing documentation entries ... OK
* checking for code/documentation mismatches ... OK
* checking Rd \usage sections ... OK
* checking Rd contents ... OK
* checking for unstated dependencies in examples ... OK
* checking contents of ‘data’ directory ... OK
* checking data for non-ASCII characters ... OK
* checking data for ASCII and uncompressed saves ... OK
* checking sizes of PDF files under ‘inst/doc’ ... OK
* checking files in ‘vignettes’ ... OK
* checking examples ... OK
Examples with CPU (user + system) or elapsed time > 5s
user system elapsed
CopyNumberBreakPointGenes-class 8.018 0.670 8.695
bpPlot-CopyNumberBreakPoints-method 6.589 0.555 7.156
bpStats-CopyNumberBreakPoints-method 6.228 0.486 6.723
recurrentGenes-CopyNumberBreakPointGenes-method 6.089 0.528 6.623
* checking for unstated dependencies in vignettes ... OK
* checking package vignettes in ‘inst/doc’ ... OK
* checking running R code from vignettes ... SKIPPED
* checking re-building of vignette outputs ... SKIPPED
* checking PDF version of manual ... OK
* DONE
Status: 2 NOTEs
See
‘/Users/biocbuild/bbs-3.13-bioc/meat/GeneBreak.Rcheck/00check.log’
for details.
GeneBreak.Rcheck/00install.out
############################################################################## ############################################################################## ### ### Running command: ### ### /Library/Frameworks/R.framework/Versions/Current/Resources/bin/R CMD INSTALL GeneBreak ### ############################################################################## ############################################################################## * installing to library ‘/Library/Frameworks/R.framework/Versions/4.1/Resources/library’ * installing *source* package ‘GeneBreak’ ... ** using staged installation ** R ** data ** byte-compile and prepare package for lazy loading Creating a new generic function for ‘segmentData’ in package ‘GeneBreak’ ** help *** installing help indices ** building package indices ** installing vignettes ** testing if installed package can be loaded from temporary location ** testing if installed package can be loaded from final location ** testing if installed package keeps a record of temporary installation path * DONE (GeneBreak)
GeneBreak.Rcheck/GeneBreak-Ex.timings
| name | user | system | elapsed | |
| CopyNumberBreakPointGenes-class | 8.018 | 0.670 | 8.695 | |
| CopyNumberBreakPoints-class | 2.099 | 0.150 | 2.250 | |
| accessOptions-CopyNumberBreakPoints-method | 1.162 | 0.051 | 1.214 | |
| addGeneAnnotation-CopyNumberBreakPoints-method | 2.133 | 0.126 | 2.261 | |
| bpFilter-CopyNumberBreakPoints-method | 1.862 | 0.124 | 1.988 | |
| bpGenes-CopyNumberBreakPointGenes-method | 2.319 | 0.141 | 2.463 | |
| bpPlot-CopyNumberBreakPoints-method | 6.589 | 0.555 | 7.156 | |
| bpStats-CopyNumberBreakPoints-method | 6.228 | 0.486 | 6.723 | |
| breakpointData-CopyNumberBreakPoints-method | 1.569 | 0.895 | 2.505 | |
| breakpointsPerGene-CopyNumberBreakPointGenes-method | 2.565 | 0.892 | 3.488 | |
| callData-CopyNumberBreakPoints-method | 1.573 | 0.842 | 2.471 | |
| featureChromosomes-CopyNumberBreakPoints-method | 0.788 | 0.066 | 0.857 | |
| featureInfo-CopyNumberBreakPoints-method | 2.369 | 0.366 | 2.738 | |
| featuresPerGene-CopyNumberBreakPointGenes-method | 1.913 | 0.143 | 2.058 | |
| geneChromosomes-CopyNumberBreakPointGenes-method | 2.305 | 0.113 | 2.419 | |
| geneInfo-CopyNumberBreakPointGenes-method | 2.133 | 0.239 | 2.375 | |
| getBreakpoints | 1.627 | 0.109 | 1.740 | |
| namesFeatures-CopyNumberBreakPoints-method | 1.168 | 0.081 | 1.249 | |
| recurrentGenes-CopyNumberBreakPointGenes-method | 6.089 | 0.528 | 6.623 | |
| sampleNames-CopyNumberBreakPoints-method | 0.737 | 0.037 | 0.778 | |
| segmentData-CopyNumberBreakPoints-method | 1.024 | 0.778 | 1.863 | |