| Back to Multiple platform build/check report for BioC 3.13 |
|
This page was generated on 2021-10-15 15:06:36 -0400 (Fri, 15 Oct 2021).
|
To the developers/maintainers of the GeneAccord package: - Please allow up to 24 hours (and sometimes 48 hours) for your latest push to git@git.bioconductor.org:packages/GeneAccord.git to reflect on this report. See How and When does the builder pull? When will my changes propagate? here for more information. - Make sure to use the following settings in order to reproduce any error or warning you see on this page. |
| Package 707/2041 | Hostname | OS / Arch | INSTALL | BUILD | CHECK | BUILD BIN | ||||||||
| GeneAccord 1.10.0 (landing page) Ariane L. Moore
| nebbiolo1 | Linux (Ubuntu 20.04.2 LTS) / x86_64 | OK | OK | OK | |||||||||
| tokay2 | Windows Server 2012 R2 Standard / x64 | OK | OK | OK | OK | |||||||||
| machv2 | macOS 10.14.6 Mojave / x86_64 | OK | OK | OK | OK | |||||||||
| Package: GeneAccord |
| Version: 1.10.0 |
| Command: /Library/Frameworks/R.framework/Versions/Current/Resources/bin/R CMD check --install=check:GeneAccord.install-out.txt --library=/Library/Frameworks/R.framework/Versions/Current/Resources/library --no-vignettes --timings GeneAccord_1.10.0.tar.gz |
| StartedAt: 2021-10-14 19:18:01 -0400 (Thu, 14 Oct 2021) |
| EndedAt: 2021-10-14 19:21:22 -0400 (Thu, 14 Oct 2021) |
| EllapsedTime: 201.1 seconds |
| RetCode: 0 |
| Status: OK |
| CheckDir: GeneAccord.Rcheck |
| Warnings: 0 |
##############################################################################
##############################################################################
###
### Running command:
###
### /Library/Frameworks/R.framework/Versions/Current/Resources/bin/R CMD check --install=check:GeneAccord.install-out.txt --library=/Library/Frameworks/R.framework/Versions/Current/Resources/library --no-vignettes --timings GeneAccord_1.10.0.tar.gz
###
##############################################################################
##############################################################################
* using log directory ‘/Users/biocbuild/bbs-3.13-bioc/meat/GeneAccord.Rcheck’
* using R version 4.1.1 (2021-08-10)
* using platform: x86_64-apple-darwin17.0 (64-bit)
* using session charset: UTF-8
* using option ‘--no-vignettes’
* checking for file ‘GeneAccord/DESCRIPTION’ ... OK
* checking extension type ... Package
* this is package ‘GeneAccord’ version ‘1.10.0’
* package encoding: UTF-8
* checking package namespace information ... OK
* checking package dependencies ... OK
* checking if this is a source package ... OK
* checking if there is a namespace ... OK
* checking for hidden files and directories ... NOTE
Found the following hidden files and directories:
.git_fetch_output.txt
.git_merge_output.txt
These were most likely included in error. See section ‘Package
structure’ in the ‘Writing R Extensions’ manual.
* checking for portable file names ... OK
* checking for sufficient/correct file permissions ... OK
* checking whether package ‘GeneAccord’ can be installed ... OK
* checking installed package size ... NOTE
installed size is 9.9Mb
sub-directories of 1Mb or more:
data 3.0Mb
extdata 6.5Mb
* checking package directory ... OK
* checking ‘build’ directory ... OK
* checking DESCRIPTION meta-information ... OK
* checking top-level files ... OK
* checking for left-over files ... OK
* checking index information ... OK
* checking package subdirectories ... OK
* checking R files for non-ASCII characters ... OK
* checking R files for syntax errors ... OK
* checking whether the package can be loaded ... OK
* checking whether the package can be loaded with stated dependencies ... OK
* checking whether the package can be unloaded cleanly ... OK
* checking whether the namespace can be loaded with stated dependencies ... OK
* checking whether the namespace can be unloaded cleanly ... OK
* checking dependencies in R code ... OK
* checking S3 generic/method consistency ... OK
* checking replacement functions ... OK
* checking foreign function calls ... OK
* checking R code for possible problems ... OK
* checking Rd files ... OK
* checking Rd metadata ... OK
* checking Rd cross-references ... OK
* checking for missing documentation entries ... OK
* checking for code/documentation mismatches ... OK
* checking Rd \usage sections ... OK
* checking Rd contents ... OK
* checking for unstated dependencies in examples ... OK
* checking contents of ‘data’ directory ... OK
* checking data for non-ASCII characters ... OK
* checking LazyData ... OK
* checking data for ASCII and uncompressed saves ... OK
* checking files in ‘vignettes’ ... OK
* checking examples ... OK
* checking for unstated dependencies in ‘tests’ ... OK
* checking tests ...
Running ‘testthat.R’
OK
* checking for unstated dependencies in vignettes ... OK
* checking package vignettes in ‘inst/doc’ ... OK
* checking running R code from vignettes ... SKIPPED
* checking re-building of vignette outputs ... SKIPPED
* checking PDF version of manual ... OK
* DONE
Status: 2 NOTEs
See
‘/Users/biocbuild/bbs-3.13-bioc/meat/GeneAccord.Rcheck/00check.log’
for details.
GeneAccord.Rcheck/00install.out
############################################################################## ############################################################################## ### ### Running command: ### ### /Library/Frameworks/R.framework/Versions/Current/Resources/bin/R CMD INSTALL GeneAccord ### ############################################################################## ############################################################################## * installing to library ‘/Library/Frameworks/R.framework/Versions/4.1/Resources/library’ * installing *source* package ‘GeneAccord’ ... ** using staged installation ** R ** data *** moving datasets to lazyload DB ** inst ** byte-compile and prepare package for lazy loading ** help *** installing help indices ** building package indices ** installing vignettes ** testing if installed package can be loaded from temporary location ** testing if installed package can be loaded from final location ** testing if installed package keeps a record of temporary installation path * DONE (GeneAccord)
GeneAccord.Rcheck/tests/testthat.Rout
R version 4.1.1 (2021-08-10) -- "Kick Things"
Copyright (C) 2021 The R Foundation for Statistical Computing
Platform: x86_64-apple-darwin17.0 (64-bit)
R is free software and comes with ABSOLUTELY NO WARRANTY.
You are welcome to redistribute it under certain conditions.
Type 'license()' or 'licence()' for distribution details.
R is a collaborative project with many contributors.
Type 'contributors()' for more information and
'citation()' on how to cite R or R packages in publications.
Type 'demo()' for some demos, 'help()' for on-line help, or
'help.start()' for an HTML browser interface to help.
Type 'q()' to quit R.
> library("testthat")
> library("assertthat")
>
> library("GeneAccord")
> # "When R CMD check runs tests, it sets R_TESTS. When the tests
> # themeselves run R CMD xxxx, as is the case with the tests in
> # devtools, having R_TESTS set causes errors because it confuses
> # the R subprocesses. Unsetting it here avoids those problems.
> #"R_TESTS" = "" "
> Sys.setenv("R_TESTS" = "")
>
> test_check("GeneAccord")
══ Skipped tests ═══════════════════════════════════════════════════════════════
• empty test (15)
[ FAIL 0 | WARN 1 | SKIP 15 | PASS 27 ]
>
>
> proc.time()
user system elapsed
21.394 0.554 21.956
GeneAccord.Rcheck/GeneAccord-Ex.timings
| name | user | system | elapsed | |
| GeneAccord | 2.766 | 0.116 | 2.885 | |
| build_null_test_statistic | 2.506 | 0.012 | 2.520 | |
| compute_rates_clon_excl | 0.263 | 0.001 | 0.264 | |
| compute_test_stat_avg_rate | 0.047 | 0.001 | 0.048 | |
| convert_ensembl_to_reactome_pw_tbl | 0.514 | 0.008 | 0.522 | |
| create_ensembl_gene_tbl_hg | 0.000 | 0.001 | 0.001 | |
| create_tbl_ent_clones | 0.061 | 0.001 | 0.062 | |
| create_tbl_tree_collection | 0.475 | 0.007 | 0.485 | |
| ecdf_lr_test_clon_excl_avg_rate | 0.928 | 0.004 | 0.933 | |
| ensembl_to_hgnc | 0 | 0 | 0 | |
| ensembl_to_reactome | 0.021 | 0.002 | 0.023 | |
| extract_num_clones_tbl | 0.02 | 0.00 | 0.02 | |
| generate_ecdf_test_stat | 0.819 | 0.004 | 0.823 | |
| generate_test_stat_hist | 1.046 | 0.003 | 1.050 | |
| get_hist_clon_excl | 0.921 | 0.002 | 0.924 | |
| get_hist_clon_excl_this_pat_this_pair | 0.031 | 0.000 | 0.031 | |
| get_rate_diff_branch_ent_pair | 0.603 | 0.001 | 0.604 | |
| heatmap_clones_gene_pat | 0.802 | 0.010 | 0.812 | |
| hgnc_to_ensembl | 0 | 0 | 0 | |
| is_diff_branch_ent_pair | 0.016 | 0.000 | 0.018 | |
| map_pairs_to_hgnc_symbols | 0 | 0 | 0 | |
| merge_clones_identical_ents | 0.061 | 0.001 | 0.062 | |
| pairs_in_patients_hist | 0.070 | 0.001 | 0.070 | |
| plot_ecdf_test_stat | 0.315 | 0.002 | 0.318 | |
| plot_rates_clon_excl | 0.263 | 0.002 | 0.265 | |
| take_pairs_and_get_patients | 0.300 | 0.001 | 0.301 | |
| vis_pval_distr_num_pat | 0.039 | 0.002 | 0.040 | |
| write_res_pairs_to_disk | 0.024 | 0.001 | 0.025 | |