| Back to Multiple platform build/check report for BioC 3.13 |
|
This page was generated on 2021-10-15 15:06:07 -0400 (Fri, 15 Oct 2021).
|
To the developers/maintainers of the GSgalgoR package: - Please allow up to 24 hours (and sometimes 48 hours) for your latest push to git@git.bioconductor.org:packages/GSgalgoR.git to reflect on this report. See How and When does the builder pull? When will my changes propagate? here for more information. - Make sure to use the following settings in order to reproduce any error or warning you see on this page. |
| Package 824/2041 | Hostname | OS / Arch | INSTALL | BUILD | CHECK | BUILD BIN | ||||||||
| GSgalgoR 1.2.1 (landing page) Carlos Catania
| nebbiolo1 | Linux (Ubuntu 20.04.2 LTS) / x86_64 | OK | OK | OK | |||||||||
| tokay2 | Windows Server 2012 R2 Standard / x64 | OK | OK | OK | OK | |||||||||
| machv2 | macOS 10.14.6 Mojave / x86_64 | OK | OK | OK | OK | |||||||||
| Package: GSgalgoR |
| Version: 1.2.1 |
| Command: rm -rf GSgalgoR.buildbin-libdir && mkdir GSgalgoR.buildbin-libdir && C:\Users\biocbuild\bbs-3.13-bioc\R\bin\R.exe CMD INSTALL --merge-multiarch --build --library=GSgalgoR.buildbin-libdir GSgalgoR_1.2.1.tar.gz |
| StartedAt: 2021-10-15 09:43:34 -0400 (Fri, 15 Oct 2021) |
| EndedAt: 2021-10-15 09:44:56 -0400 (Fri, 15 Oct 2021) |
| EllapsedTime: 82.1 seconds |
| RetCode: 0 |
| Status: OK |
| PackageFile: GSgalgoR_1.2.1.zip |
| PackageFileSize: 2.172 MiB |
##############################################################################
##############################################################################
###
### Running command:
###
### rm -rf GSgalgoR.buildbin-libdir && mkdir GSgalgoR.buildbin-libdir && C:\Users\biocbuild\bbs-3.13-bioc\R\bin\R.exe CMD INSTALL --merge-multiarch --build --library=GSgalgoR.buildbin-libdir GSgalgoR_1.2.1.tar.gz
###
##############################################################################
##############################################################################
install for i386
* installing *source* package 'GSgalgoR' ...
** using staged installation
** R
** inst
** byte-compile and prepare package for lazy loading
** help
*** installing help indices
converting help for package 'GSgalgoR'
finding HTML links ... done
GSgalgoR-package html
calculate_distance html
callback_base_report html
callback_base_return_pop html
callback_default html
callback_no_report html
classify_multiple html
cluster_algorithm html
cluster_classify html
cosine_similarity html
create_centroids html
galgo.Obj-class html
galgo html
k_centroids html
non_dominated_summary html
plot_pareto html
surv_fitness html
to_dataframe html
to_list html
** building package indices
** installing vignettes
** testing if installed package can be loaded from temporary location
** testing if installed package can be loaded from final location
** testing if installed package keeps a record of temporary installation path
install for x64
* installing *source* package 'GSgalgoR' ...
** testing if installed package can be loaded
* MD5 sums
packaged installation of 'GSgalgoR' as GSgalgoR_1.2.1.zip
* DONE (GSgalgoR)