| Back to Multiple platform build/check report for BioC 3.13 |
|
This page was generated on 2021-10-15 15:05:42 -0400 (Fri, 15 Oct 2021).
|
To the developers/maintainers of the GSgalgoR package: - Please allow up to 24 hours (and sometimes 48 hours) for your latest push to git@git.bioconductor.org:packages/GSgalgoR.git to reflect on this report. See How and When does the builder pull? When will my changes propagate? here for more information. - Make sure to use the following settings in order to reproduce any error or warning you see on this page. |
| Package 824/2041 | Hostname | OS / Arch | INSTALL | BUILD | CHECK | BUILD BIN | ||||||||
| GSgalgoR 1.2.1 (landing page) Carlos Catania
| nebbiolo1 | Linux (Ubuntu 20.04.2 LTS) / x86_64 | OK | OK | OK | |||||||||
| tokay2 | Windows Server 2012 R2 Standard / x64 | OK | OK | OK | OK | |||||||||
| machv2 | macOS 10.14.6 Mojave / x86_64 | OK | OK | OK | OK | |||||||||
| Package: GSgalgoR |
| Version: 1.2.1 |
| Command: /home/biocbuild/bbs-3.13-bioc/R/bin/R CMD check --install=check:GSgalgoR.install-out.txt --library=/home/biocbuild/bbs-3.13-bioc/R/library --no-vignettes --timings GSgalgoR_1.2.1.tar.gz |
| StartedAt: 2021-10-14 10:06:44 -0400 (Thu, 14 Oct 2021) |
| EndedAt: 2021-10-14 10:09:46 -0400 (Thu, 14 Oct 2021) |
| EllapsedTime: 182.3 seconds |
| RetCode: 0 |
| Status: OK |
| CheckDir: GSgalgoR.Rcheck |
| Warnings: 0 |
##############################################################################
##############################################################################
###
### Running command:
###
### /home/biocbuild/bbs-3.13-bioc/R/bin/R CMD check --install=check:GSgalgoR.install-out.txt --library=/home/biocbuild/bbs-3.13-bioc/R/library --no-vignettes --timings GSgalgoR_1.2.1.tar.gz
###
##############################################################################
##############################################################################
* using log directory ‘/home/biocbuild/bbs-3.13-bioc/meat/GSgalgoR.Rcheck’
* using R version 4.1.1 (2021-08-10)
* using platform: x86_64-pc-linux-gnu (64-bit)
* using session charset: UTF-8
* using option ‘--no-vignettes’
* checking for file ‘GSgalgoR/DESCRIPTION’ ... OK
* checking extension type ... Package
* this is package ‘GSgalgoR’ version ‘1.2.1’
* package encoding: UTF-8
* checking package namespace information ... OK
* checking package dependencies ... OK
* checking if this is a source package ... OK
* checking if there is a namespace ... OK
* checking for hidden files and directories ... OK
* checking for portable file names ... OK
* checking for sufficient/correct file permissions ... OK
* checking whether package ‘GSgalgoR’ can be installed ... OK
* checking installed package size ... OK
* checking package directory ... OK
* checking ‘build’ directory ... OK
* checking DESCRIPTION meta-information ... OK
* checking top-level files ... OK
* checking for left-over files ... OK
* checking index information ... OK
* checking package subdirectories ... OK
* checking R files for non-ASCII characters ... OK
* checking R files for syntax errors ... OK
* checking whether the package can be loaded ... OK
* checking whether the package can be loaded with stated dependencies ... OK
* checking whether the package can be unloaded cleanly ... OK
* checking whether the namespace can be loaded with stated dependencies ... OK
* checking whether the namespace can be unloaded cleanly ... OK
* checking dependencies in R code ... OK
* checking S3 generic/method consistency ... OK
* checking replacement functions ... OK
* checking foreign function calls ... OK
* checking R code for possible problems ... OK
* checking Rd files ... OK
* checking Rd metadata ... OK
* checking Rd cross-references ... OK
* checking for missing documentation entries ... OK
* checking for code/documentation mismatches ... OK
* checking Rd \usage sections ... OK
* checking Rd contents ... OK
* checking for unstated dependencies in examples ... OK
* checking files in ‘vignettes’ ... OK
* checking examples ... OK
Examples with CPU (user + system) or elapsed time > 5s
user system elapsed
callback_base_report 2.672 0.438 8.501
classify_multiple 2.501 0.241 8.027
plot_pareto 2.409 0.062 5.302
callback_base_return_pop 2.008 0.156 7.403
callback_default 1.950 0.159 7.587
callback_no_report 1.916 0.140 7.414
* checking for unstated dependencies in ‘tests’ ... OK
* checking tests ...
Running ‘testthat.R’
OK
* checking for unstated dependencies in vignettes ... OK
* checking package vignettes in ‘inst/doc’ ... OK
* checking running R code from vignettes ... SKIPPED
* checking re-building of vignette outputs ... SKIPPED
* checking PDF version of manual ... OK
* DONE
Status: OK
GSgalgoR.Rcheck/00install.out
############################################################################## ############################################################################## ### ### Running command: ### ### /home/biocbuild/bbs-3.13-bioc/R/bin/R CMD INSTALL GSgalgoR ### ############################################################################## ############################################################################## * installing to library ‘/home/biocbuild/bbs-3.13-bioc/R/library’ * installing *source* package ‘GSgalgoR’ ... ** using staged installation ** R ** inst ** byte-compile and prepare package for lazy loading ** help *** installing help indices ** building package indices ** installing vignettes ** testing if installed package can be loaded from temporary location ** testing if installed package can be loaded from final location ** testing if installed package keeps a record of temporary installation path * DONE (GSgalgoR)
GSgalgoR.Rcheck/tests/testthat.Rout
R version 4.1.1 (2021-08-10) -- "Kick Things"
Copyright (C) 2021 The R Foundation for Statistical Computing
Platform: x86_64-pc-linux-gnu (64-bit)
R is free software and comes with ABSOLUTELY NO WARRANTY.
You are welcome to redistribute it under certain conditions.
Type 'license()' or 'licence()' for distribution details.
R is a collaborative project with many contributors.
Type 'contributors()' for more information and
'citation()' on how to cite R or R packages in publications.
Type 'demo()' for some demos, 'help()' for on-line help, or
'help.start()' for an HTML browser interface to help.
Type 'q()' to quit R.
> library(testthat)
> library(GSgalgoR)
>
> test_check("GSgalgoR")
.......... k rnkIndex CrowD
result.1 8 0.02212350 201.10126 1 Inf
result.3 9 0.02402496 160.41638 1 1.37352
result.4 8 0.03651880 48.37265 1 Inf
k rnkIndex CrowD
result.1 8 0.02212350 201.10126 1 Inf
result.3 2 0.11803624 30.01863 1 Inf
result.4 4 0.04509859 173.43985 1 1.798893
......[ FAIL 0 | WARN 0 | SKIP 0 | PASS 13 ]
>
> proc.time()
user system elapsed
20.989 2.622 89.867
GSgalgoR.Rcheck/GSgalgoR-Ex.timings
| name | user | system | elapsed | |
| calculate_distance | 2.272 | 0.057 | 2.328 | |
| callback_base_report | 2.672 | 0.438 | 8.501 | |
| callback_base_return_pop | 2.008 | 0.156 | 7.403 | |
| callback_default | 1.950 | 0.159 | 7.587 | |
| callback_no_report | 1.916 | 0.140 | 7.414 | |
| classify_multiple | 2.501 | 0.241 | 8.027 | |
| cluster_algorithm | 1.220 | 0.012 | 1.232 | |
| cluster_classify | 0.563 | 0.016 | 0.578 | |
| cosine_similarity | 0 | 0 | 0 | |
| create_centroids | 1.964 | 0.025 | 4.718 | |
| galgo | 1.547 | 0.042 | 4.260 | |
| k_centroids | 1.172 | 0.036 | 1.208 | |
| non_dominated_summary | 1.771 | 0.055 | 4.698 | |
| plot_pareto | 2.409 | 0.062 | 5.302 | |
| surv_fitness | 0.598 | 0.028 | 0.626 | |
| to_dataframe | 1.891 | 0.044 | 4.773 | |
| to_list | 1.829 | 0.069 | 4.790 | |