| Back to Multiple platform build/check report for BioC 3.13 |
|
This page was generated on 2021-10-15 15:06:04 -0400 (Fri, 15 Oct 2021).
|
To the developers/maintainers of the ENVISIONQuery package: - Please allow up to 24 hours (and sometimes 48 hours) for your latest push to git@git.bioconductor.org:packages/ENVISIONQuery.git to reflect on this report. See How and When does the builder pull? When will my changes propagate? here for more information. - Make sure to use the following settings in order to reproduce any error or warning you see on this page. |
| Package 578/2041 | Hostname | OS / Arch | INSTALL | BUILD | CHECK | BUILD BIN | ||||||||
| ENVISIONQuery 1.40.0 (landing page) Alex Lisovich
| nebbiolo1 | Linux (Ubuntu 20.04.2 LTS) / x86_64 | OK | ERROR | skipped | |||||||||
| tokay2 | Windows Server 2012 R2 Standard / x64 | OK | OK | OK | OK | |||||||||
| machv2 | macOS 10.14.6 Mojave / x86_64 | OK | ERROR | skipped | skipped | |||||||||
| Package: ENVISIONQuery |
| Version: 1.40.0 |
| Command: rm -rf ENVISIONQuery.buildbin-libdir && mkdir ENVISIONQuery.buildbin-libdir && C:\Users\biocbuild\bbs-3.13-bioc\R\bin\R.exe --arch x64 CMD INSTALL --no-multiarch --build --library=ENVISIONQuery.buildbin-libdir ENVISIONQuery_1.40.0.tar.gz |
| StartedAt: 2021-10-15 09:09:52 -0400 (Fri, 15 Oct 2021) |
| EndedAt: 2021-10-15 09:11:16 -0400 (Fri, 15 Oct 2021) |
| EllapsedTime: 83.6 seconds |
| RetCode: 0 |
| Status: OK |
| PackageFile: ENVISIONQuery_1.40.0.zip |
| PackageFileSize: 832.4 KiB |
##############################################################################
##############################################################################
###
### Running command:
###
### rm -rf ENVISIONQuery.buildbin-libdir && mkdir ENVISIONQuery.buildbin-libdir && C:\Users\biocbuild\bbs-3.13-bioc\R\bin\R.exe --arch x64 CMD INSTALL --no-multiarch --build --library=ENVISIONQuery.buildbin-libdir ENVISIONQuery_1.40.0.tar.gz
###
##############################################################################
##############################################################################
* installing *source* package 'ENVISIONQuery' ...
** using staged installation
** R
** inst
** byte-compile and prepare package for lazy loading
** help
*** installing help indices
converting help for package 'ENVISIONQuery'
finding HTML links ... done
ENVISIONQuery-package html
ENVISIONQuery html
ENVISIONQuery.chunk html
ENVISIONQuery.loop html
ENVISIONServices html
formatIdMap html
formatIntact html
formatPicr html
formatReactome html
getFormatter html
getIdEntries html
getIdMatchInfo html
getInputIdEntries html
getInputTypes html
getIntactMatchInfo html
getMerger html
getPicrMatchInfo html
getPositiveResultSetIDs html
getReactomeMatchInfo html
getService html
getServiceClient html
getServiceNames html
getServiceOptions html
getServices html
getTool html
getToolNames html
jgetOptions html
mergeFrameList html
mergeMatchRows html
progressMsg html
registerServices html
toChunks html
** building package indices
** installing vignettes
** testing if installed package can be loaded from temporary location
This is ENVISIONQuery 1.40.0 2020-09-01
** testing if installed package can be loaded from final location
This is ENVISIONQuery 1.40.0 2020-09-01
** testing if installed package keeps a record of temporary installation path
* MD5 sums
packaged installation of 'ENVISIONQuery' as ENVISIONQuery_1.40.0.zip
* DONE (ENVISIONQuery)