| Back to Multiple platform build/check report for BioC 3.13 |
|
This page was generated on 2021-10-15 15:06:03 -0400 (Fri, 15 Oct 2021).
|
To the developers/maintainers of the DrugVsDisease package: - Please allow up to 24 hours (and sometimes 48 hours) for your latest push to git@git.bioconductor.org:packages/DrugVsDisease.git to reflect on this report. See How and When does the builder pull? When will my changes propagate? here for more information. - Make sure to use the following settings in order to reproduce any error or warning you see on this page. |
| Package 536/2041 | Hostname | OS / Arch | INSTALL | BUILD | CHECK | BUILD BIN | ||||||||
| DrugVsDisease 2.34.0 (landing page) j. Saez-Rodriguez
| nebbiolo1 | Linux (Ubuntu 20.04.2 LTS) / x86_64 | OK | OK | OK | |||||||||
| tokay2 | Windows Server 2012 R2 Standard / x64 | OK | OK | OK | OK | |||||||||
| machv2 | macOS 10.14.6 Mojave / x86_64 | OK | OK | OK | OK | |||||||||
| Package: DrugVsDisease |
| Version: 2.34.0 |
| Command: rm -rf DrugVsDisease.buildbin-libdir && mkdir DrugVsDisease.buildbin-libdir && C:\Users\biocbuild\bbs-3.13-bioc\R\bin\R.exe CMD INSTALL --merge-multiarch --build --library=DrugVsDisease.buildbin-libdir DrugVsDisease_2.34.0.tar.gz |
| StartedAt: 2021-10-15 09:04:19 -0400 (Fri, 15 Oct 2021) |
| EndedAt: 2021-10-15 09:05:32 -0400 (Fri, 15 Oct 2021) |
| EllapsedTime: 72.3 seconds |
| RetCode: 0 |
| Status: OK |
| PackageFile: DrugVsDisease_2.34.0.zip |
| PackageFileSize: 2.694 MiB |
##############################################################################
##############################################################################
###
### Running command:
###
### rm -rf DrugVsDisease.buildbin-libdir && mkdir DrugVsDisease.buildbin-libdir && C:\Users\biocbuild\bbs-3.13-bioc\R\bin\R.exe CMD INSTALL --merge-multiarch --build --library=DrugVsDisease.buildbin-libdir DrugVsDisease_2.34.0.tar.gz
###
##############################################################################
##############################################################################
install for i386
* installing *source* package 'DrugVsDisease' ...
** using staged installation
** R
** data
*** moving datasets to lazyload DB
** inst
** byte-compile and prepare package for lazy loading
** help
*** installing help indices
converting help for package 'DrugVsDisease'
finding HTML links ... done
DrugVsDisease-package html
classifyprofile html
combineProfiles html
customClust html
customdb html
customedge html
customsif html
generateprofiles html
profiles html
selectrankedlists html
selprofile html
** building package indices
** installing vignettes
** testing if installed package can be loaded from temporary location
** testing if installed package can be loaded from final location
** testing if installed package keeps a record of temporary installation path
install for x64
* installing *source* package 'DrugVsDisease' ...
** testing if installed package can be loaded
* MD5 sums
packaged installation of 'DrugVsDisease' as DrugVsDisease_2.34.0.zip
* DONE (DrugVsDisease)