| Back to Multiple platform build/check report for BioC 3.13 |
|
This page was generated on 2021-10-15 15:05:39 -0400 (Fri, 15 Oct 2021).
|
To the developers/maintainers of the DrugVsDisease package: - Please allow up to 24 hours (and sometimes 48 hours) for your latest push to git@git.bioconductor.org:packages/DrugVsDisease.git to reflect on this report. See How and When does the builder pull? When will my changes propagate? here for more information. - Make sure to use the following settings in order to reproduce any error or warning you see on this page. |
| Package 536/2041 | Hostname | OS / Arch | INSTALL | BUILD | CHECK | BUILD BIN | ||||||||
| DrugVsDisease 2.34.0 (landing page) j. Saez-Rodriguez
| nebbiolo1 | Linux (Ubuntu 20.04.2 LTS) / x86_64 | OK | OK | OK | |||||||||
| tokay2 | Windows Server 2012 R2 Standard / x64 | OK | OK | OK | OK | |||||||||
| machv2 | macOS 10.14.6 Mojave / x86_64 | OK | OK | OK | OK | |||||||||
| Package: DrugVsDisease |
| Version: 2.34.0 |
| Command: /home/biocbuild/bbs-3.13-bioc/R/bin/R CMD check --install=check:DrugVsDisease.install-out.txt --library=/home/biocbuild/bbs-3.13-bioc/R/library --no-vignettes --timings DrugVsDisease_2.34.0.tar.gz |
| StartedAt: 2021-10-14 09:40:29 -0400 (Thu, 14 Oct 2021) |
| EndedAt: 2021-10-14 09:43:37 -0400 (Thu, 14 Oct 2021) |
| EllapsedTime: 187.5 seconds |
| RetCode: 0 |
| Status: OK |
| CheckDir: DrugVsDisease.Rcheck |
| Warnings: 0 |
##############################################################################
##############################################################################
###
### Running command:
###
### /home/biocbuild/bbs-3.13-bioc/R/bin/R CMD check --install=check:DrugVsDisease.install-out.txt --library=/home/biocbuild/bbs-3.13-bioc/R/library --no-vignettes --timings DrugVsDisease_2.34.0.tar.gz
###
##############################################################################
##############################################################################
* using log directory ‘/home/biocbuild/bbs-3.13-bioc/meat/DrugVsDisease.Rcheck’
* using R version 4.1.1 (2021-08-10)
* using platform: x86_64-pc-linux-gnu (64-bit)
* using session charset: UTF-8
* using option ‘--no-vignettes’
* checking for file ‘DrugVsDisease/DESCRIPTION’ ... OK
* checking extension type ... Package
* this is package ‘DrugVsDisease’ version ‘2.34.0’
* checking package namespace information ... OK
* checking package dependencies ... NOTE
Depends: includes the non-default packages:
'affy', 'limma', 'biomaRt', 'ArrayExpress', 'GEOquery',
'DrugVsDiseasedata', 'cMap2data', 'qvalue'
Adding so many packages to the search path is excessive and importing
selectively is preferable.
* checking if this is a source package ... OK
* checking if there is a namespace ... OK
* checking for hidden files and directories ... OK
* checking for portable file names ... OK
* checking for sufficient/correct file permissions ... OK
* checking whether package ‘DrugVsDisease’ can be installed ... OK
* checking installed package size ... OK
* checking package directory ... OK
* checking ‘build’ directory ... OK
* checking DESCRIPTION meta-information ... OK
* checking top-level files ... OK
* checking for left-over files ... OK
* checking index information ... OK
* checking package subdirectories ... OK
* checking R files for non-ASCII characters ... OK
* checking R files for syntax errors ... OK
* checking whether the package can be loaded ... OK
* checking whether the package can be loaded with stated dependencies ... OK
* checking whether the package can be unloaded cleanly ... OK
* checking whether the namespace can be loaded with stated dependencies ... OK
* checking whether the namespace can be unloaded cleanly ... OK
* checking dependencies in R code ... NOTE
'library' or 'require' calls to packages already attached by Depends:
‘ArrayExpress’ ‘DrugVsDiseasedata’ ‘GEOquery’ ‘affy’ ‘biomaRt’
‘limma’ ‘qvalue’
Please remove these calls from your code.
Namespaces in Imports field not imported from:
‘BiocGenerics’ ‘RUnit’ ‘annotate’ ‘hgu133a.db’ ‘hgu133a2.db’
‘hgu133plus2.db’ ‘xtable’
All declared Imports should be used.
Packages in Depends field not imported from:
‘ArrayExpress’ ‘DrugVsDiseasedata’ ‘GEOquery’ ‘affy’ ‘biomaRt’
‘cMap2data’ ‘limma’ ‘qvalue’
These packages need to be imported from (in the NAMESPACE file)
for when this namespace is loaded but not attached.
* checking S3 generic/method consistency ... OK
* checking replacement functions ... OK
* checking foreign function calls ... OK
* checking R code for possible problems ... NOTE
.averagecluster: no visible binding for global variable ‘drugClusters’
.averagecluster: no visible binding for global variable
‘diseaseClusters’
.calculateES: no visible binding for global variable ‘drugRL’
.calculateES: no visible binding for global variable ‘diseaseRL’
.calculateES : <anonymous>: no visible global function definition for
‘qvalue’
.convertEnsembl: no visible binding for global variable
‘annotationlist’
.convertEnsembl: no visible global function definition for ‘useMart’
.convertEnsembl: no visible global function definition for ‘getBM’
.datafromAE: no visible global function definition for ‘ArrayExpress’
.datafromAE: no visible global function definition for ‘annotation’
.datafromAE: no visible global function definition for ‘pData’
.datafromGEO: no visible global function definition for ‘getGEO’
.datafromGEO: no visible global function definition for ‘GDS2eSet’
.datafromGEO: no visible global function definition for ‘pData’
.datafromGEO: no visible global function definition for ‘annotation’
.datafromGEO: no visible binding for global variable ‘GEOfactorvalues’
.datafromGEO: no visible global function definition for ‘exprs’
.findCluster: no visible binding for global variable ‘drugClusters’
.findCluster: no visible binding for global variable ‘diseaseClusters’
.findSignifCompounds: no visible global function definition for
‘qvalue’
.fitlms: no visible global function definition for ‘lmFit’
.multcontrast: no visible global function definition for
‘contrasts.fit’
.multcontrast: no visible global function definition for ‘eBayes’
.normalisedata: no visible global function definition for ‘rma’
.normalisedata: no visible global function definition for ‘mas5’
.readlocalAE: no visible global function definition for ‘ReadAffy’
.readlocalCEL: no visible global function definition for ‘ReadAffy’
.singlecontrast: no visible global function definition for ‘lmFit’
.singlecontrast: no visible global function definition for
‘contrasts.fit’
.singlecontrast: no visible global function definition for ‘eBayes’
.treatmentonlyfit: no visible global function definition for ‘lmFit’
.writecytoscape: no visible binding for global variable ‘drugClusters’
.writecytoscape: no visible binding for global variable ‘cytodrug’
.writecytoscape: no visible binding for global variable ‘druglabels’
.writecytoscape: no visible binding for global variable
‘diseaseClusters’
.writecytoscape: no visible binding for global variable ‘cytodisease’
.writecytoscape: no visible binding for global variable ‘diseaselabels’
generateprofiles: no visible binding for global variable ‘genelist’
generateprofiles: no visible global function definition for ‘exprs’
Undefined global functions or variables:
ArrayExpress GDS2eSet GEOfactorvalues ReadAffy annotation
annotationlist contrasts.fit cytodisease cytodrug diseaseClusters
diseaseRL diseaselabels drugClusters drugRL druglabels eBayes exprs
genelist getBM getGEO lmFit mas5 pData qvalue rma useMart
* checking Rd files ... OK
* checking Rd metadata ... OK
* checking Rd cross-references ... OK
* checking for missing documentation entries ... OK
* checking for code/documentation mismatches ... OK
* checking Rd \usage sections ... OK
* checking Rd contents ... OK
* checking for unstated dependencies in examples ... OK
* checking contents of ‘data’ directory ... OK
* checking data for non-ASCII characters ... OK
* checking LazyData ... OK
* checking data for ASCII and uncompressed saves ... OK
* checking files in ‘vignettes’ ... OK
* checking examples ... OK
Examples with CPU (user + system) or elapsed time > 5s
user system elapsed
classifyprofile 16.518 2.916 19.443
selectrankedlists 11.867 1.892 13.759
* checking for unstated dependencies in ‘tests’ ... OK
* checking tests ...
Running ‘runTests.R’
OK
* checking for unstated dependencies in vignettes ... OK
* checking package vignettes in ‘inst/doc’ ... OK
* checking running R code from vignettes ... SKIPPED
* checking re-building of vignette outputs ... SKIPPED
* checking PDF version of manual ... OK
* DONE
Status: 3 NOTEs
See
‘/home/biocbuild/bbs-3.13-bioc/meat/DrugVsDisease.Rcheck/00check.log’
for details.
DrugVsDisease.Rcheck/00install.out
############################################################################## ############################################################################## ### ### Running command: ### ### /home/biocbuild/bbs-3.13-bioc/R/bin/R CMD INSTALL DrugVsDisease ### ############################################################################## ############################################################################## * installing to library ‘/home/biocbuild/bbs-3.13-bioc/R/library’ * installing *source* package ‘DrugVsDisease’ ... ** using staged installation ** R ** data *** moving datasets to lazyload DB ** inst ** byte-compile and prepare package for lazy loading ** help *** installing help indices ** building package indices ** installing vignettes ** testing if installed package can be loaded from temporary location ** testing if installed package can be loaded from final location ** testing if installed package keeps a record of temporary installation path * DONE (DrugVsDisease)
DrugVsDisease.Rcheck/tests/runTests.Rout
R version 4.1.1 (2021-08-10) -- "Kick Things"
Copyright (C) 2021 The R Foundation for Statistical Computing
Platform: x86_64-pc-linux-gnu (64-bit)
R is free software and comes with ABSOLUTELY NO WARRANTY.
You are welcome to redistribute it under certain conditions.
Type 'license()' or 'licence()' for distribution details.
R is a collaborative project with many contributors.
Type 'contributors()' for more information and
'citation()' on how to cite R or R packages in publications.
Type 'demo()' for some demos, 'help()' for on-line help, or
'help.start()' for an HTML browser interface to help.
Type 'q()' to quit R.
> require("DrugVsDisease")||stop("unable to load DrugVsDisease")
Loading required package: DrugVsDisease
Loading required package: affy
Loading required package: BiocGenerics
Loading required package: parallel
Attaching package: 'BiocGenerics'
The following objects are masked from 'package:parallel':
clusterApply, clusterApplyLB, clusterCall, clusterEvalQ,
clusterExport, clusterMap, parApply, parCapply, parLapply,
parLapplyLB, parRapply, parSapply, parSapplyLB
The following objects are masked from 'package:stats':
IQR, mad, sd, var, xtabs
The following objects are masked from 'package:base':
Filter, Find, Map, Position, Reduce, anyDuplicated, append,
as.data.frame, basename, cbind, colnames, dirname, do.call,
duplicated, eval, evalq, get, grep, grepl, intersect, is.unsorted,
lapply, mapply, match, mget, order, paste, pmax, pmax.int, pmin,
pmin.int, rank, rbind, rownames, sapply, setdiff, sort, table,
tapply, union, unique, unsplit, which.max, which.min
Loading required package: Biobase
Welcome to Bioconductor
Vignettes contain introductory material; view with
'browseVignettes()'. To cite Bioconductor, see
'citation("Biobase")', and for packages 'citation("pkgname")'.
Loading required package: limma
Attaching package: 'limma'
The following object is masked from 'package:BiocGenerics':
plotMA
Loading required package: biomaRt
Loading required package: ArrayExpress
Loading required package: GEOquery
Setting options('download.file.method.GEOquery'='auto')
Setting options('GEOquery.inmemory.gpl'=FALSE)
Loading required package: DrugVsDiseasedata
Loading required package: cMap2data
Attaching package: 'cMap2data'
The following object is masked from 'package:DrugVsDiseasedata':
genelist
Loading required package: qvalue
[1] TRUE
> library(BiocGenerics)
> library(RUnit)
> BiocGenerics:::testPackage("DrugVsDisease")
RUNIT TEST PROTOCOL -- Thu Oct 14 09:43:33 2021
***********************************************
Number of test functions: 2
Number of errors: 0
Number of failures: 0
1 Test Suite :
DrugVsDisease RUnit Tests - 2 test functions, 0 errors, 0 failures
Number of test functions: 2
Number of errors: 0
Number of failures: 0
>
> proc.time()
user system elapsed
11.211 0.452 11.649
DrugVsDisease.Rcheck/DrugVsDisease-Ex.timings
| name | user | system | elapsed | |
| DrugVsDisease-package | 0.001 | 0.001 | 0.001 | |
| classifyprofile | 16.518 | 2.916 | 19.443 | |
| customClust | 0.000 | 0.001 | 0.002 | |
| customdb | 0.000 | 0.001 | 0.001 | |
| customedge | 0.001 | 0.001 | 0.001 | |
| customsif | 0.001 | 0.000 | 0.001 | |
| generateprofiles | 0 | 0 | 0 | |
| profiles | 0.001 | 0.000 | 0.001 | |
| selectrankedlists | 11.867 | 1.892 | 13.759 | |
| selprofile | 0.000 | 0.001 | 0.001 | |