| Back to Multiple platform build/check report for BioC 3.13 |
|
This page was generated on 2021-10-15 15:06:03 -0400 (Fri, 15 Oct 2021).
|
To the developers/maintainers of the DiffLogo package: - Please allow up to 24 hours (and sometimes 48 hours) for your latest push to git@git.bioconductor.org:packages/DiffLogo.git to reflect on this report. See How and When does the builder pull? When will my changes propagate? here for more information. - Make sure to use the following settings in order to reproduce any error or warning you see on this page. |
| Package 500/2041 | Hostname | OS / Arch | INSTALL | BUILD | CHECK | BUILD BIN | ||||||||
| DiffLogo 2.16.0 (landing page) Hendrik Treutler
| nebbiolo1 | Linux (Ubuntu 20.04.2 LTS) / x86_64 | OK | OK | WARNINGS | |||||||||
| tokay2 | Windows Server 2012 R2 Standard / x64 | OK | OK | WARNINGS | OK | |||||||||
| machv2 | macOS 10.14.6 Mojave / x86_64 | OK | OK | WARNINGS | OK | |||||||||
| Package: DiffLogo |
| Version: 2.16.0 |
| Command: rm -rf DiffLogo.buildbin-libdir && mkdir DiffLogo.buildbin-libdir && C:\Users\biocbuild\bbs-3.13-bioc\R\bin\R.exe CMD INSTALL --merge-multiarch --build --library=DiffLogo.buildbin-libdir DiffLogo_2.16.0.tar.gz |
| StartedAt: 2021-10-15 08:59:18 -0400 (Fri, 15 Oct 2021) |
| EndedAt: 2021-10-15 09:00:25 -0400 (Fri, 15 Oct 2021) |
| EllapsedTime: 66.8 seconds |
| RetCode: 0 |
| Status: OK |
| PackageFile: DiffLogo_2.16.0.zip |
| PackageFileSize: 1.055 MiB |
##############################################################################
##############################################################################
###
### Running command:
###
### rm -rf DiffLogo.buildbin-libdir && mkdir DiffLogo.buildbin-libdir && C:\Users\biocbuild\bbs-3.13-bioc\R\bin\R.exe CMD INSTALL --merge-multiarch --build --library=DiffLogo.buildbin-libdir DiffLogo_2.16.0.tar.gz
###
##############################################################################
##############################################################################
install for i386
* installing *source* package 'DiffLogo' ...
** using staged installation
** R
** inst
** byte-compile and prepare package for lazy loading
** help
*** installing help indices
converting help for package 'DiffLogo'
finding HTML links ... done
ASN html
Alphabet html
DNA html
FULL_ALPHABET html
RNA html
alignPwmSets html
baseDistributionPwm html
calculatePvalue html
createDiffLogoObject html
diffLogo html
diffLogoFromPwm html
diffLogoTable html
diffLogoTableConfiguration html
differenceOfICs html
drawDiffLogoTable html
enrichDiffLogoObjectWithPvalues html
enrichDiffLogoTableWithPvalues html
extendPwmsFromAlignmentVector html
getAlphabetFromCharacters html
getAlphabetFromSequences html
getPwmFromAlignment html
getPwmFromAlignmentFile html
getPwmFromFastaFile html
getPwmFromFile html
getPwmFromHomerFile html
getPwmFromPfmOrJasparFile html
getPwmFromPwmFile html
getSequencesFromAlignmentFile html
getSequencesFromFastaFile html
informationContent html
localPwmAlignment html
lossOfAbsICDifferences html
multipleLocalPwmsAlignment html
normalizePWM html
normalizedDifferenceOfProbabilities html
prepareDiffLogoTable html
probabilities html
pwmDivergence html
pwmsDistanceMatrix html
reverseAlignmentVector html
seqLogo html
shannonDivergence html
sumOfAbsICDifferences html
sumOfAbsProbabilityDifferences html
sumProbabilities html
switchDirection html
twoSetsAveragePwmDivergenceFromAlignmentVector
html
** building package indices
** installing vignettes
** testing if installed package can be loaded from temporary location
** testing if installed package can be loaded from final location
** testing if installed package keeps a record of temporary installation path
install for x64
* installing *source* package 'DiffLogo' ...
** testing if installed package can be loaded
* MD5 sums
packaged installation of 'DiffLogo' as DiffLogo_2.16.0.zip
* DONE (DiffLogo)