| Back to Multiple platform build/check report for BioC 3.13 |
|
This page was generated on 2021-10-15 15:06:01 -0400 (Fri, 15 Oct 2021).
|
To the developers/maintainers of the ComPrAn package: - Please allow up to 24 hours (and sometimes 48 hours) for your latest push to git@git.bioconductor.org:packages/ComPrAn.git to reflect on this report. See How and When does the builder pull? When will my changes propagate? here for more information. - Make sure to use the following settings in order to reproduce any error or warning you see on this page. |
| Package 373/2041 | Hostname | OS / Arch | INSTALL | BUILD | CHECK | BUILD BIN | ||||||||
| ComPrAn 1.0.0 (landing page) Petra Palenikova
| nebbiolo1 | Linux (Ubuntu 20.04.2 LTS) / x86_64 | OK | OK | OK | |||||||||
| tokay2 | Windows Server 2012 R2 Standard / x64 | OK | OK | OK | OK | |||||||||
| machv2 | macOS 10.14.6 Mojave / x86_64 | OK | OK | OK | OK | |||||||||
| Package: ComPrAn |
| Version: 1.0.0 |
| Command: C:\cygwin\bin\curl.exe -O http://155.52.207.165/BBS/3.13/bioc/src/contrib/ComPrAn_1.0.0.tar.gz && rm -rf ComPrAn.buildbin-libdir && mkdir ComPrAn.buildbin-libdir && C:\Users\biocbuild\bbs-3.13-bioc\R\bin\R.exe CMD INSTALL --merge-multiarch --build --library=ComPrAn.buildbin-libdir ComPrAn_1.0.0.tar.gz && C:\Users\biocbuild\bbs-3.13-bioc\R\bin\R.exe CMD INSTALL ComPrAn_1.0.0.zip && rm ComPrAn_1.0.0.tar.gz ComPrAn_1.0.0.zip |
| StartedAt: 2021-10-14 09:50:49 -0400 (Thu, 14 Oct 2021) |
| EndedAt: 2021-10-14 09:51:30 -0400 (Thu, 14 Oct 2021) |
| EllapsedTime: 41.3 seconds |
| RetCode: 0 |
| Status: OK |
##############################################################################
##############################################################################
###
### Running command:
###
### C:\cygwin\bin\curl.exe -O http://155.52.207.165/BBS/3.13/bioc/src/contrib/ComPrAn_1.0.0.tar.gz && rm -rf ComPrAn.buildbin-libdir && mkdir ComPrAn.buildbin-libdir && C:\Users\biocbuild\bbs-3.13-bioc\R\bin\R.exe CMD INSTALL --merge-multiarch --build --library=ComPrAn.buildbin-libdir ComPrAn_1.0.0.tar.gz && C:\Users\biocbuild\bbs-3.13-bioc\R\bin\R.exe CMD INSTALL ComPrAn_1.0.0.zip && rm ComPrAn_1.0.0.tar.gz ComPrAn_1.0.0.zip
###
##############################################################################
##############################################################################
% Total % Received % Xferd Average Speed Time Time Time Current
Dload Upload Total Spent Left Speed
0 0 0 0 0 0 0 0 --:--:-- --:--:-- --:--:-- 0
57 2094k 57 1199k 0 0 2407k 0 --:--:-- --:--:-- --:--:-- 2408k
100 2094k 100 2094k 0 0 3027k 0 --:--:-- --:--:-- --:--:-- 3026k
install for i386
* installing *source* package 'ComPrAn' ...
** using staged installation
** R
** inst
** byte-compile and prepare package for lazy loading
** help
*** installing help indices
converting help for package 'ComPrAn'
finding HTML links ... done
allPeptidesPlot html
assignClusters html
cleanData html
clusterComp html
compranApp html
exportClusterAssignments html
extractRepPeps html
getNormTable html
groupHeatMap html
makeBarPlotClusterSummary html
makeDist html
normTableForExport html
normTableWideToLong html
normalizeTable html
oneGroupTwoLabelsCoMigration html
onlyInOneLabelState html
peptideImport html
pickPeptide html
protImportForAnalysis html
proteinPlot html
simplifyProteins html
splitModLab html
toFilter html
twoGroupsWithinLabelCoMigration html
uncenteredCor html
** building package indices
** installing vignettes
** testing if installed package can be loaded from temporary location
** testing if installed package can be loaded from final location
** testing if installed package keeps a record of temporary installation path
install for x64
* installing *source* package 'ComPrAn' ...
** testing if installed package can be loaded
* MD5 sums
packaged installation of 'ComPrAn' as ComPrAn_1.0.0.zip
* DONE (ComPrAn)
* installing to library 'C:/Users/biocbuild/bbs-3.13-bioc/R/library'
package 'ComPrAn' successfully unpacked and MD5 sums checked