| Back to Multiple platform build/check report for BioC 3.13 |
|
This page was generated on 2021-10-15 15:06:32 -0400 (Fri, 15 Oct 2021).
|
To the developers/maintainers of the ComPrAn package: - Please allow up to 24 hours (and sometimes 48 hours) for your latest push to git@git.bioconductor.org:packages/ComPrAn.git to reflect on this report. See How and When does the builder pull? When will my changes propagate? here for more information. - Make sure to use the following settings in order to reproduce any error or warning you see on this page. |
| Package 373/2041 | Hostname | OS / Arch | INSTALL | BUILD | CHECK | BUILD BIN | ||||||||
| ComPrAn 1.0.0 (landing page) Petra Palenikova
| nebbiolo1 | Linux (Ubuntu 20.04.2 LTS) / x86_64 | OK | OK | OK | |||||||||
| tokay2 | Windows Server 2012 R2 Standard / x64 | OK | OK | OK | OK | |||||||||
| machv2 | macOS 10.14.6 Mojave / x86_64 | OK | OK | OK | OK | |||||||||
| Package: ComPrAn |
| Version: 1.0.0 |
| Command: /Library/Frameworks/R.framework/Versions/Current/Resources/bin/R CMD check --install=check:ComPrAn.install-out.txt --library=/Library/Frameworks/R.framework/Versions/Current/Resources/library --no-vignettes --timings ComPrAn_1.0.0.tar.gz |
| StartedAt: 2021-10-14 17:43:10 -0400 (Thu, 14 Oct 2021) |
| EndedAt: 2021-10-14 17:44:38 -0400 (Thu, 14 Oct 2021) |
| EllapsedTime: 88.2 seconds |
| RetCode: 0 |
| Status: OK |
| CheckDir: ComPrAn.Rcheck |
| Warnings: 0 |
##############################################################################
##############################################################################
###
### Running command:
###
### /Library/Frameworks/R.framework/Versions/Current/Resources/bin/R CMD check --install=check:ComPrAn.install-out.txt --library=/Library/Frameworks/R.framework/Versions/Current/Resources/library --no-vignettes --timings ComPrAn_1.0.0.tar.gz
###
##############################################################################
##############################################################################
* using log directory ‘/Users/biocbuild/bbs-3.13-bioc/meat/ComPrAn.Rcheck’
* using R version 4.1.1 (2021-08-10)
* using platform: x86_64-apple-darwin17.0 (64-bit)
* using session charset: UTF-8
* using option ‘--no-vignettes’
* checking for file ‘ComPrAn/DESCRIPTION’ ... OK
* checking extension type ... Package
* this is package ‘ComPrAn’ version ‘1.0.0’
* package encoding: UTF-8
* checking package namespace information ... OK
* checking package dependencies ... OK
* checking if this is a source package ... OK
* checking if there is a namespace ... OK
* checking for hidden files and directories ... OK
* checking for portable file names ... OK
* checking for sufficient/correct file permissions ... OK
* checking whether package ‘ComPrAn’ can be installed ... OK
* checking installed package size ... NOTE
installed size is 5.1Mb
sub-directories of 1Mb or more:
extData 4.8Mb
* checking package directory ... OK
* checking ‘build’ directory ... OK
* checking DESCRIPTION meta-information ... OK
* checking top-level files ... OK
* checking for left-over files ... OK
* checking index information ... OK
* checking package subdirectories ... OK
* checking R files for non-ASCII characters ... OK
* checking R files for syntax errors ... OK
* checking whether the package can be loaded ... OK
* checking whether the package can be loaded with stated dependencies ... OK
* checking whether the package can be unloaded cleanly ... OK
* checking whether the namespace can be loaded with stated dependencies ... OK
* checking whether the namespace can be unloaded cleanly ... OK
* checking dependencies in R code ... OK
* checking S3 generic/method consistency ... OK
* checking replacement functions ... OK
* checking foreign function calls ... OK
* checking R code for possible problems ... OK
* checking Rd files ... OK
* checking Rd metadata ... OK
* checking Rd cross-references ... OK
* checking for missing documentation entries ... OK
* checking for code/documentation mismatches ... OK
* checking Rd \usage sections ... OK
* checking Rd contents ... OK
* checking for unstated dependencies in examples ... OK
* checking files in ‘vignettes’ ... OK
* checking examples ... OK
Examples with CPU (user + system) or elapsed time > 5s
user system elapsed
getNormTable 8.182 0.068 8.254
allPeptidesPlot 4.870 0.127 5.010
* checking for unstated dependencies in ‘tests’ ... OK
* checking tests ...
Running ‘testthat.R’
OK
* checking for unstated dependencies in vignettes ... OK
* checking package vignettes in ‘inst/doc’ ... OK
* checking running R code from vignettes ... SKIPPED
* checking re-building of vignette outputs ... SKIPPED
* checking PDF version of manual ... OK
* DONE
Status: 1 NOTE
See
‘/Users/biocbuild/bbs-3.13-bioc/meat/ComPrAn.Rcheck/00check.log’
for details.
ComPrAn.Rcheck/00install.out
############################################################################## ############################################################################## ### ### Running command: ### ### /Library/Frameworks/R.framework/Versions/Current/Resources/bin/R CMD INSTALL ComPrAn ### ############################################################################## ############################################################################## * installing to library ‘/Library/Frameworks/R.framework/Versions/4.1/Resources/library’ * installing *source* package ‘ComPrAn’ ... ** using staged installation ** R ** inst ** byte-compile and prepare package for lazy loading ** help *** installing help indices ** building package indices ** installing vignettes ** testing if installed package can be loaded from temporary location ** testing if installed package can be loaded from final location ** testing if installed package keeps a record of temporary installation path * DONE (ComPrAn)
ComPrAn.Rcheck/tests/testthat.Rout
R version 4.1.1 (2021-08-10) -- "Kick Things"
Copyright (C) 2021 The R Foundation for Statistical Computing
Platform: x86_64-apple-darwin17.0 (64-bit)
R is free software and comes with ABSOLUTELY NO WARRANTY.
You are welcome to redistribute it under certain conditions.
Type 'license()' or 'licence()' for distribution details.
R is a collaborative project with many contributors.
Type 'contributors()' for more information and
'citation()' on how to cite R or R packages in publications.
Type 'demo()' for some demos, 'help()' for on-line help, or
'help.start()' for an HTML browser interface to help.
Type 'q()' to quit R.
> library(testthat)
> library(ComPrAn)
>
> test_check("ComPrAn")
[ FAIL 0 | WARN 0 | SKIP 0 | PASS 1 ]
>
> proc.time()
user system elapsed
1.931 0.180 2.090
ComPrAn.Rcheck/ComPrAn-Ex.timings
| name | user | system | elapsed | |
| allPeptidesPlot | 4.870 | 0.127 | 5.010 | |
| assignClusters | 0.076 | 0.007 | 0.085 | |
| cleanData | 0.10 | 0.01 | 0.11 | |
| clusterComp | 0.076 | 0.008 | 0.084 | |
| compranApp | 0.000 | 0.001 | 0.000 | |
| exportClusterAssignments | 0.092 | 0.006 | 0.098 | |
| getNormTable | 8.182 | 0.068 | 8.254 | |
| groupHeatMap | 0.419 | 0.011 | 0.432 | |
| makeBarPlotClusterSummary | 0.511 | 0.008 | 0.520 | |
| oneGroupTwoLabelsCoMigration | 0.290 | 0.006 | 0.297 | |
| onlyInOneLabelState | 2.573 | 0.020 | 2.595 | |
| peptideImport | 0.044 | 0.002 | 0.046 | |
| pickPeptide | 2.395 | 0.020 | 2.420 | |
| protImportForAnalysis | 0.042 | 0.004 | 0.047 | |
| proteinPlot | 0.311 | 0.004 | 0.317 | |
| simplifyProteins | 2.446 | 0.017 | 2.465 | |
| splitModLab | 1.578 | 0.020 | 1.602 | |
| toFilter | 0.085 | 0.008 | 0.093 | |
| twoGroupsWithinLabelCoMigration | 0.391 | 0.010 | 0.403 | |