| Back to Multiple platform build/check report for BioC 3.13 |
|
This page was generated on 2021-10-15 15:05:59 -0400 (Fri, 15 Oct 2021).
|
To the developers/maintainers of the BioQC package: - Please allow up to 24 hours (and sometimes 48 hours) for your latest push to git@git.bioconductor.org:packages/BioQC.git to reflect on this report. See How and When does the builder pull? When will my changes propagate? here for more information. - Make sure to use the following settings in order to reproduce any error or warning you see on this page. |
| Package 188/2041 | Hostname | OS / Arch | INSTALL | BUILD | CHECK | BUILD BIN | ||||||||
| BioQC 1.20.0 (landing page) Jitao David Zhang
| nebbiolo1 | Linux (Ubuntu 20.04.2 LTS) / x86_64 | OK | OK | OK | |||||||||
| tokay2 | Windows Server 2012 R2 Standard / x64 | OK | OK | OK | OK | |||||||||
| machv2 | macOS 10.14.6 Mojave / x86_64 | OK | OK | OK | OK | |||||||||
| Package: BioQC |
| Version: 1.20.0 |
| Command: rm -rf BioQC.buildbin-libdir && mkdir BioQC.buildbin-libdir && C:\Users\biocbuild\bbs-3.13-bioc\R\bin\R.exe CMD INSTALL --merge-multiarch --build --library=BioQC.buildbin-libdir BioQC_1.20.0.tar.gz |
| StartedAt: 2021-10-15 08:17:24 -0400 (Fri, 15 Oct 2021) |
| EndedAt: 2021-10-15 08:18:58 -0400 (Fri, 15 Oct 2021) |
| EllapsedTime: 94.4 seconds |
| RetCode: 0 |
| Status: OK |
| PackageFile: BioQC_1.20.0.zip |
| PackageFileSize: 4.701 MiB |
##############################################################################
##############################################################################
###
### Running command:
###
### rm -rf BioQC.buildbin-libdir && mkdir BioQC.buildbin-libdir && C:\Users\biocbuild\bbs-3.13-bioc\R\bin\R.exe CMD INSTALL --merge-multiarch --build --library=BioQC.buildbin-libdir BioQC_1.20.0.tar.gz
###
##############################################################################
##############################################################################
install for i386
* installing *source* package 'BioQC' ...
** using staged installation
** libs
"C:/rtools40/mingw32/bin/"gcc -I"C:/Users/BIOCBU~1/BBS-3~1.13-/R/include" -DNDEBUG `C:/Users/BIOCBU~1/BBS-3~1.13-/R/bin/Rscript -e 'Rcpp:::CxxFlags()'` -I'C:/Users/biocbuild/bbs-3.13-bioc/R/library/Rcpp/include' -I"c:/extsoft/include" -O2 -Wall -std=gnu99 -mfpmath=sse -msse2 -mstackrealign -c gini.c -o gini.o
"C:/rtools40/mingw32/bin/"gcc -I"C:/Users/BIOCBU~1/BBS-3~1.13-/R/include" -DNDEBUG `C:/Users/BIOCBU~1/BBS-3~1.13-/R/bin/Rscript -e 'Rcpp:::CxxFlags()'` -I'C:/Users/biocbuild/bbs-3.13-bioc/R/library/Rcpp/include' -I"c:/extsoft/include" -O2 -Wall -std=gnu99 -mfpmath=sse -msse2 -mstackrealign -c init.c -o init.o
"C:/rtools40/mingw32/bin/"g++ -std=gnu++11 -I"C:/Users/BIOCBU~1/BBS-3~1.13-/R/include" -DNDEBUG `C:/Users/BIOCBU~1/BBS-3~1.13-/R/bin/Rscript -e 'Rcpp:::CxxFlags()'` -I'C:/Users/biocbuild/bbs-3.13-bioc/R/library/Rcpp/include' -I"c:/extsoft/include" -O2 -Wall -mfpmath=sse -msse2 -mstackrealign -c read_gmt.cpp -o read_gmt.o
"C:/rtools40/mingw32/bin/"gcc -I"C:/Users/BIOCBU~1/BBS-3~1.13-/R/include" -DNDEBUG `C:/Users/BIOCBU~1/BBS-3~1.13-/R/bin/Rscript -e 'Rcpp:::CxxFlags()'` -I'C:/Users/biocbuild/bbs-3.13-bioc/R/library/Rcpp/include' -I"c:/extsoft/include" -O2 -Wall -std=gnu99 -mfpmath=sse -msse2 -mstackrealign -c stat_rank.c -o stat_rank.o
"C:/rtools40/mingw32/bin/"gcc -I"C:/Users/BIOCBU~1/BBS-3~1.13-/R/include" -DNDEBUG `C:/Users/BIOCBU~1/BBS-3~1.13-/R/bin/Rscript -e 'Rcpp:::CxxFlags()'` -I'C:/Users/biocbuild/bbs-3.13-bioc/R/library/Rcpp/include' -I"c:/extsoft/include" -O2 -Wall -std=gnu99 -mfpmath=sse -msse2 -mstackrealign -c wmw_test.c -o wmw_test.o
wmw_test.c: In function 'wmw_test_list':
wmw_test.c:118: warning: ignoring #pragma omp parallel [-Wunknown-pragmas]
#pragma omp parallel for
wmw_test.c: In function 'wmw_test':
wmw_test.c:168: warning: ignoring #pragma omp parallel [-Wunknown-pragmas]
#pragma omp parallel for
wmw_test.c: In function 'signed_wmw_test_list':
wmw_test.c:201: warning: ignoring #pragma omp parallel [-Wunknown-pragmas]
#pragma omp parallel for
wmw_test.c: In function 'signed_wmw_test':
wmw_test.c:270: warning: ignoring #pragma omp parallel [-Wunknown-pragmas]
#pragma omp parallel for
C:/rtools40/mingw32/bin/g++ -std=gnu++11 -shared -s -static-libgcc -o BioQC.dll tmp.def gini.o init.o read_gmt.o stat_rank.o wmw_test.o -Lc:/extsoft/lib/i386 -Lc:/extsoft/lib -LC:/Users/BIOCBU~1/BBS-3~1.13-/R/bin/i386 -lR
installing to C:/Users/biocbuild/bbs-3.13-bioc/meat/BioQC.buildbin-libdir/00LOCK-BioQC/00new/BioQC/libs/i386
** R
** inst
** byte-compile and prepare package for lazy loading
** help
*** installing help indices
converting help for package 'BioQC'
finding HTML links ... done
BaseIndexList-class html
GmtList-class html
GmtList html
IndexList-class html
IndexList html
SignedGenesets-class html
SignedGenesets html
SignedIndexList-class html
SignedIndexList html
absLog10p html
appendGmtList html
as.GmtList html
entropy html
entropyDiversity html
entropySpecificity html
filterBySize html
filterPmat html
gini html
gmtlist2signedGenesets html
gsDesc html
gsGeneCount html
gsGenes html
gsName html
gsNamespace html
hasNamespace html
isValidBaseIndexList html
isValidGmtList html
isValidIndexList html
isValidSignedGenesets html
isValidSignedIndexList html
matchGenes html
offset-set html
offset html
readGmt html
readSignedGmt html
sampleSpecialization html
setDescAsNamespace html
setGsNamespace html
setNamespace html
show-GmtList-method html
show-IndexList-method html
show-SignedGenesets-method html
show-SignedIndexList-method html
simplifyMatrix html
sub-.GmtList html
sub-sub-.GmtList html
uniqGenesetsByNamespace html
valTypes html
wmwTest html
wmwTestInR html
*** copying figures
** building package indices
** installing vignettes
** testing if installed package can be loaded from temporary location
** testing if installed package can be loaded from final location
** testing if installed package keeps a record of temporary installation path
install for x64
* installing *source* package 'BioQC' ...
** libs
"C:/rtools40/mingw64/bin/"gcc -I"C:/Users/BIOCBU~1/BBS-3~1.13-/R/include" -DNDEBUG `C:/Users/BIOCBU~1/BBS-3~1.13-/R/bin/Rscript -e 'Rcpp:::CxxFlags()'` -I'C:/Users/biocbuild/bbs-3.13-bioc/R/library/Rcpp/include' -I"C:/extsoft/include" -O2 -Wall -std=gnu99 -mfpmath=sse -msse2 -mstackrealign -c gini.c -o gini.o
"C:/rtools40/mingw64/bin/"gcc -I"C:/Users/BIOCBU~1/BBS-3~1.13-/R/include" -DNDEBUG `C:/Users/BIOCBU~1/BBS-3~1.13-/R/bin/Rscript -e 'Rcpp:::CxxFlags()'` -I'C:/Users/biocbuild/bbs-3.13-bioc/R/library/Rcpp/include' -I"C:/extsoft/include" -O2 -Wall -std=gnu99 -mfpmath=sse -msse2 -mstackrealign -c init.c -o init.o
"C:/rtools40/mingw64/bin/"g++ -std=gnu++11 -I"C:/Users/BIOCBU~1/BBS-3~1.13-/R/include" -DNDEBUG `C:/Users/BIOCBU~1/BBS-3~1.13-/R/bin/Rscript -e 'Rcpp:::CxxFlags()'` -I'C:/Users/biocbuild/bbs-3.13-bioc/R/library/Rcpp/include' -I"C:/extsoft/include" -O2 -Wall -mfpmath=sse -msse2 -mstackrealign -c read_gmt.cpp -o read_gmt.o
"C:/rtools40/mingw64/bin/"gcc -I"C:/Users/BIOCBU~1/BBS-3~1.13-/R/include" -DNDEBUG `C:/Users/BIOCBU~1/BBS-3~1.13-/R/bin/Rscript -e 'Rcpp:::CxxFlags()'` -I'C:/Users/biocbuild/bbs-3.13-bioc/R/library/Rcpp/include' -I"C:/extsoft/include" -O2 -Wall -std=gnu99 -mfpmath=sse -msse2 -mstackrealign -c stat_rank.c -o stat_rank.o
"C:/rtools40/mingw64/bin/"gcc -I"C:/Users/BIOCBU~1/BBS-3~1.13-/R/include" -DNDEBUG `C:/Users/BIOCBU~1/BBS-3~1.13-/R/bin/Rscript -e 'Rcpp:::CxxFlags()'` -I'C:/Users/biocbuild/bbs-3.13-bioc/R/library/Rcpp/include' -I"C:/extsoft/include" -O2 -Wall -std=gnu99 -mfpmath=sse -msse2 -mstackrealign -c wmw_test.c -o wmw_test.o
wmw_test.c: In function 'wmw_test_list':
wmw_test.c:118: warning: ignoring #pragma omp parallel [-Wunknown-pragmas]
#pragma omp parallel for
wmw_test.c: In function 'wmw_test':
wmw_test.c:168: warning: ignoring #pragma omp parallel [-Wunknown-pragmas]
#pragma omp parallel for
wmw_test.c: In function 'signed_wmw_test_list':
wmw_test.c:201: warning: ignoring #pragma omp parallel [-Wunknown-pragmas]
#pragma omp parallel for
wmw_test.c: In function 'signed_wmw_test':
wmw_test.c:270: warning: ignoring #pragma omp parallel [-Wunknown-pragmas]
#pragma omp parallel for
C:/rtools40/mingw64/bin/g++ -std=gnu++11 -shared -s -static-libgcc -o BioQC.dll tmp.def gini.o init.o read_gmt.o stat_rank.o wmw_test.o -LC:/extsoft/lib/x64 -LC:/extsoft/lib -LC:/Users/BIOCBU~1/BBS-3~1.13-/R/bin/x64 -lR
installing to C:/Users/biocbuild/bbs-3.13-bioc/meat/BioQC.buildbin-libdir/BioQC/libs/x64
** testing if installed package can be loaded
* MD5 sums
packaged installation of 'BioQC' as BioQC_1.20.0.zip
* DONE (BioQC)