| Back to Multiple platform build/check report for BioC 3.13 |
|
This page was generated on 2021-10-15 15:05:36 -0400 (Fri, 15 Oct 2021).
|
To the developers/maintainers of the BioQC package: - Please allow up to 24 hours (and sometimes 48 hours) for your latest push to git@git.bioconductor.org:packages/BioQC.git to reflect on this report. See How and When does the builder pull? When will my changes propagate? here for more information. - Make sure to use the following settings in order to reproduce any error or warning you see on this page. |
| Package 188/2041 | Hostname | OS / Arch | INSTALL | BUILD | CHECK | BUILD BIN | ||||||||
| BioQC 1.20.0 (landing page) Jitao David Zhang
| nebbiolo1 | Linux (Ubuntu 20.04.2 LTS) / x86_64 | OK | OK | OK | |||||||||
| tokay2 | Windows Server 2012 R2 Standard / x64 | OK | OK | OK | OK | |||||||||
| machv2 | macOS 10.14.6 Mojave / x86_64 | OK | OK | OK | OK | |||||||||
| Package: BioQC |
| Version: 1.20.0 |
| Command: /home/biocbuild/bbs-3.13-bioc/R/bin/R CMD check --install=check:BioQC.install-out.txt --library=/home/biocbuild/bbs-3.13-bioc/R/library --no-vignettes --timings BioQC_1.20.0.tar.gz |
| StartedAt: 2021-10-14 09:03:17 -0400 (Thu, 14 Oct 2021) |
| EndedAt: 2021-10-14 09:04:02 -0400 (Thu, 14 Oct 2021) |
| EllapsedTime: 44.5 seconds |
| RetCode: 0 |
| Status: OK |
| CheckDir: BioQC.Rcheck |
| Warnings: 0 |
############################################################################## ############################################################################## ### ### Running command: ### ### /home/biocbuild/bbs-3.13-bioc/R/bin/R CMD check --install=check:BioQC.install-out.txt --library=/home/biocbuild/bbs-3.13-bioc/R/library --no-vignettes --timings BioQC_1.20.0.tar.gz ### ############################################################################## ############################################################################## * using log directory ‘/home/biocbuild/bbs-3.13-bioc/meat/BioQC.Rcheck’ * using R version 4.1.1 (2021-08-10) * using platform: x86_64-pc-linux-gnu (64-bit) * using session charset: UTF-8 * using option ‘--no-vignettes’ * checking for file ‘BioQC/DESCRIPTION’ ... OK * checking extension type ... Package * this is package ‘BioQC’ version ‘1.20.0’ * package encoding: UTF-8 * checking package namespace information ... OK * checking package dependencies ... OK * checking if this is a source package ... OK * checking if there is a namespace ... OK * checking for hidden files and directories ... OK * checking for portable file names ... OK * checking for sufficient/correct file permissions ... OK * checking whether package ‘BioQC’ can be installed ... OK * checking installed package size ... OK * checking package directory ... OK * checking ‘build’ directory ... OK * checking DESCRIPTION meta-information ... OK * checking top-level files ... OK * checking for left-over files ... OK * checking index information ... OK * checking package subdirectories ... OK * checking R files for non-ASCII characters ... OK * checking R files for syntax errors ... OK * checking whether the package can be loaded ... OK * checking whether the package can be loaded with stated dependencies ... OK * checking whether the package can be unloaded cleanly ... OK * checking whether the namespace can be loaded with stated dependencies ... OK * checking whether the namespace can be unloaded cleanly ... OK * checking dependencies in R code ... OK * checking S3 generic/method consistency ... OK * checking replacement functions ... OK * checking foreign function calls ... OK * checking R code for possible problems ... OK * checking Rd files ... OK * checking Rd metadata ... OK * checking Rd cross-references ... OK * checking for missing documentation entries ... OK * checking for code/documentation mismatches ... OK * checking Rd \usage sections ... OK * checking Rd contents ... OK * checking for unstated dependencies in examples ... OK * checking line endings in C/C++/Fortran sources/headers ... OK * checking line endings in Makefiles ... OK * checking compilation flags in Makevars ... OK * checking for GNU extensions in Makefiles ... OK * checking for portable use of $(BLAS_LIBS) and $(LAPACK_LIBS) ... OK * checking use of PKG_*FLAGS in Makefiles ... OK * checking compiled code ... NOTE Note: information on .o files is not available * checking files in ‘vignettes’ ... OK * checking examples ... OK * checking for unstated dependencies in ‘tests’ ... OK * checking tests ... Running ‘testthat.R’ OK * checking for unstated dependencies in vignettes ... OK * checking package vignettes in ‘inst/doc’ ... OK * checking running R code from vignettes ... SKIPPED * checking re-building of vignette outputs ... SKIPPED * checking PDF version of manual ... OK * DONE Status: 1 NOTE See ‘/home/biocbuild/bbs-3.13-bioc/meat/BioQC.Rcheck/00check.log’ for details.
BioQC.Rcheck/00install.out
##############################################################################
##############################################################################
###
### Running command:
###
### /home/biocbuild/bbs-3.13-bioc/R/bin/R CMD INSTALL BioQC
###
##############################################################################
##############################################################################
* installing to library ‘/home/biocbuild/bbs-3.13-bioc/R/library’
* installing *source* package ‘BioQC’ ...
** using staged installation
** libs
gcc -I"/home/biocbuild/bbs-3.13-bioc/R/include" -DNDEBUG `/home/biocbuild/bbs-3.13-bioc/R/bin/Rscript -e 'Rcpp:::CxxFlags()'` -I'/home/biocbuild/bbs-3.13-bioc/R/library/Rcpp/include' -I/usr/local/include -fpic -g -O2 -Wall -c gini.c -o gini.o
gcc -I"/home/biocbuild/bbs-3.13-bioc/R/include" -DNDEBUG `/home/biocbuild/bbs-3.13-bioc/R/bin/Rscript -e 'Rcpp:::CxxFlags()'` -I'/home/biocbuild/bbs-3.13-bioc/R/library/Rcpp/include' -I/usr/local/include -fpic -g -O2 -Wall -c init.c -o init.o
g++ -std=gnu++14 -I"/home/biocbuild/bbs-3.13-bioc/R/include" -DNDEBUG `/home/biocbuild/bbs-3.13-bioc/R/bin/Rscript -e 'Rcpp:::CxxFlags()'` -I'/home/biocbuild/bbs-3.13-bioc/R/library/Rcpp/include' -I/usr/local/include -fpic -g -O2 -Wall -c read_gmt.cpp -o read_gmt.o
gcc -I"/home/biocbuild/bbs-3.13-bioc/R/include" -DNDEBUG `/home/biocbuild/bbs-3.13-bioc/R/bin/Rscript -e 'Rcpp:::CxxFlags()'` -I'/home/biocbuild/bbs-3.13-bioc/R/library/Rcpp/include' -I/usr/local/include -fpic -g -O2 -Wall -c stat_rank.c -o stat_rank.o
gcc -I"/home/biocbuild/bbs-3.13-bioc/R/include" -DNDEBUG `/home/biocbuild/bbs-3.13-bioc/R/bin/Rscript -e 'Rcpp:::CxxFlags()'` -I'/home/biocbuild/bbs-3.13-bioc/R/library/Rcpp/include' -I/usr/local/include -fpic -g -O2 -Wall -c wmw_test.c -o wmw_test.o
wmw_test.c: In function ‘wmw_test_list’:
wmw_test.c:118: warning: ignoring #pragma omp parallel [-Wunknown-pragmas]
118 | #pragma omp parallel for
|
wmw_test.c: In function ‘wmw_test’:
wmw_test.c:168: warning: ignoring #pragma omp parallel [-Wunknown-pragmas]
168 | #pragma omp parallel for
|
wmw_test.c: In function ‘signed_wmw_test_list’:
wmw_test.c:201: warning: ignoring #pragma omp parallel [-Wunknown-pragmas]
201 | #pragma omp parallel for
|
wmw_test.c: In function ‘signed_wmw_test’:
wmw_test.c:270: warning: ignoring #pragma omp parallel [-Wunknown-pragmas]
270 | #pragma omp parallel for
|
g++ -std=gnu++14 -shared -L/home/biocbuild/bbs-3.13-bioc/R/lib -L/usr/local/lib -o BioQC.so gini.o init.o read_gmt.o stat_rank.o wmw_test.o -L/home/biocbuild/bbs-3.13-bioc/R/lib -lR
installing to /home/biocbuild/bbs-3.13-bioc/R/library/00LOCK-BioQC/00new/BioQC/libs
** R
** inst
** byte-compile and prepare package for lazy loading
** help
*** installing help indices
*** copying figures
** building package indices
** installing vignettes
** testing if installed package can be loaded from temporary location
** checking absolute paths in shared objects and dynamic libraries
** testing if installed package can be loaded from final location
** testing if installed package keeps a record of temporary installation path
* DONE (BioQC)
BioQC.Rcheck/tests/testthat.Rout
R version 4.1.1 (2021-08-10) -- "Kick Things"
Copyright (C) 2021 The R Foundation for Statistical Computing
Platform: x86_64-pc-linux-gnu (64-bit)
R is free software and comes with ABSOLUTELY NO WARRANTY.
You are welcome to redistribute it under certain conditions.
Type 'license()' or 'licence()' for distribution details.
R is a collaborative project with many contributors.
Type 'contributors()' for more information and
'citation()' on how to cite R or R packages in publications.
Type 'demo()' for some demos, 'help()' for on-line help, or
'help.start()' for an HTML browser interface to help.
Type 'q()' to quit R.
> library(testthat)
> library(BioQC)
Loading required package: Biobase
Loading required package: BiocGenerics
Loading required package: parallel
Attaching package: 'BiocGenerics'
The following objects are masked from 'package:parallel':
clusterApply, clusterApplyLB, clusterCall, clusterEvalQ,
clusterExport, clusterMap, parApply, parCapply, parLapply,
parLapplyLB, parRapply, parSapply, parSapplyLB
The following objects are masked from 'package:stats':
IQR, mad, sd, var, xtabs
The following objects are masked from 'package:base':
Filter, Find, Map, Position, Reduce, anyDuplicated, append,
as.data.frame, basename, cbind, colnames, dirname, do.call,
duplicated, eval, evalq, get, grep, grepl, intersect, is.unsorted,
lapply, mapply, match, mget, order, paste, pmax, pmax.int, pmin,
pmin.int, rank, rbind, rownames, sapply, setdiff, sort, table,
tapply, union, unique, unsplit, which.max, which.min
Welcome to Bioconductor
Vignettes contain introductory material; view with
'browseVignettes()'. To cite Bioconductor, see
'citation("Biobase")', and for packages 'citation("pkgname")'.
>
> test_check("BioQC")
[ FAIL 0 | WARN 0 | SKIP 0 | PASS 109 ]
>
> proc.time()
user system elapsed
8.861 0.266 9.157
BioQC.Rcheck/BioQC-Ex.timings
| name | user | system | elapsed | |
| GmtList | 0.002 | 0.001 | 0.002 | |
| IndexList | 0.003 | 0.000 | 0.003 | |
| SignedGenesets | 0.001 | 0.000 | 0.001 | |
| SignedIndexList | 0.003 | 0.000 | 0.003 | |
| absLog10p | 0.001 | 0.000 | 0.001 | |
| appendGmtList | 0.003 | 0.000 | 0.004 | |
| as.GmtList | 0.001 | 0.000 | 0.001 | |
| entropy | 0.001 | 0.000 | 0.002 | |
| entropyDiversity | 0.003 | 0.000 | 0.003 | |
| entropySpecificity | 0.002 | 0.003 | 0.004 | |
| filterPmat | 0.002 | 0.001 | 0.002 | |
| gini | 0 | 0 | 0 | |
| gmtlist2signedGenesets | 0.003 | 0.000 | 0.003 | |
| matchGenes | 0.082 | 0.000 | 0.082 | |
| offset-set | 0.001 | 0.000 | 0.001 | |
| offset | 0.001 | 0.000 | 0.001 | |
| readGmt | 0.073 | 0.003 | 0.077 | |
| readSignedGmt | 0.007 | 0.000 | 0.006 | |
| sampleSpecialization | 0.002 | 0.004 | 0.004 | |
| setNamespace | 0.006 | 0.001 | 0.007 | |
| simplifyMatrix | 0.001 | 0.000 | 0.001 | |
| sub-.GmtList | 0.003 | 0.000 | 0.002 | |
| sub-sub-.GmtList | 0.001 | 0.000 | 0.001 | |
| uniqGenesetsByNamespace | 0.003 | 0.003 | 0.007 | |
| wmwTest | 0.222 | 0.019 | 0.243 | |
| wmwTestInR | 0.004 | 0.000 | 0.004 | |