| Back to Workflows build report for BioC 3.12 |
This page was generated on 2021-05-07 15:45:15 -0400 (Fri, 07 May 2021).
|
To the developers/maintainers of the liftOver package: Please make sure to use the following settings in order to reproduce any error or warning you see on this page. |
| Package 15/28 | Hostname | OS / Arch | INSTALL | BUILD | ||||||||
| liftOver 1.14.0 (landing page) Bioconductor Package Maintainer
| malbec1 | Linux (Ubuntu 18.04.5 LTS) / x86_64 | OK | OK | ||||||||
| Package: liftOver |
| Version: 1.14.0 |
| Command: /home/biocbuild/bbs-3.12-bioc/R/bin/R CMD build --keep-empty-dirs --no-resave-data liftOver |
| StartedAt: 2021-05-07 09:21:49 -0400 (Fri, 07 May 2021) |
| EndedAt: 2021-05-07 09:22:49 -0400 (Fri, 07 May 2021) |
| EllapsedTime: 59.6 seconds |
| RetCode: 0 |
| Status: OK |
| PackageFile: liftOver_1.14.0.tar.gz |
| PackageFileSize: 4.376 MiB |
############################################################################## ############################################################################## ### ### Running command: ### ### /home/biocbuild/bbs-3.12-bioc/R/bin/R CMD build --keep-empty-dirs --no-resave-data liftOver ### ############################################################################## ############################################################################## * checking for file ‘liftOver/DESCRIPTION’ ... OK * preparing ‘liftOver’: * checking DESCRIPTION meta-information ... OK * installing the package to build vignettes * creating vignettes ... OK * checking for LF line-endings in source and make files and shell scripts * checking for empty or unneeded directories * creating default NAMESPACE file * building ‘liftOver_1.14.0.tar.gz’