This page was generated on 2021-05-07 15:45:15 -0400 (Fri, 07 May 2021).
|
| Hostname | OS | Arch (*) | Platform label (**) | R version | Installed pkgs |
|---|---|---|---|---|---|
| malbec1 | Linux (Ubuntu 18.04.5 LTS) | x86_64 | x86_64-linux-gnu | 4.0.5 (2021-03-31) -- "Shake and Throw" | 4017 |
| Click on any hostname to see more info about the system (e.g. compilers) (*) as reported by 'uname -p', except on Windows and Mac OS X (**) as reported by 'gcc -v' | |||||
A | |||||||||
| QUICK STATS | OS / Arch | INSTALL | BUILD | ||||||||||
| malbec1 | Linux (Ubuntu 18.04.5 LTS) / x86_64 |
|
| ||||||||||
| Package | Maintainer | INSTALL | BUILD | ||||||||||
| 1/28 | annotation 1.14.0 (landing page) | Bioconductor Package Maintainer | OK | OK | |||||||||
| 2/28 | arrays 1.16.0 (landing page) | Bioconductor Package Maintainer | OK | OK | |||||||||
| 3/28 | BiocMetaWorkflow 1.12.0 (landing page) | Mike Smith | OK | OK | |||||||||
| 4/28 | BP4RNAseq 1.0.0 (landing page) | Shanwen Sun | OK | OK | |||||||||
| 5/28 | CAGEWorkflow 1.6.0 (landing page) | Malte Thodberg | OK | OK | |||||||||
| 6/28 | chipseqDB 1.14.0 (landing page) | Aaron Lun | OK | OK | |||||||||
| 7/28 | csawUsersGuide 1.6.0 (landing page) | Aaron Lun | OK | OK | |||||||||
| 8/28 | cytofWorkflow 1.14.0 (landing page) | Mark D. Robinson | OK | OK | |||||||||
| 9/28 | EGSEA123 1.14.1 (landing page) | Matthew Ritchie | OK | OK | |||||||||
| 10/28 | eQTL 1.14.0 (landing page) | Vincent Carey | OK | OK | |||||||||
| 11/28 | ExpressionNormalizationWorkflow 1.16.0 (landing page) | Karthikeyan Murugesan | OK | OK | |||||||||
| 12/28 | fluentGenomics 1.2.0 (landing page) | Stuart Lee | OK | OK | |||||||||
| 13/28 | generegulation 1.14.0 (landing page) | Bioconductor Package Maintainer | OK | OK | |||||||||
| 14/28 | highthroughputassays 1.14.0 (landing page) | Bioconductor Package Maintainer | OK | OK | |||||||||
| 15/28 | liftOver 1.14.0 (landing page) | Bioconductor Package Maintainer | OK | OK | |||||||||
| 16/28 | maEndToEnd 2.10.1 (landing page) | Stefanie Reisenauer | OK | OK | |||||||||
| 17/28 | methylationArrayAnalysis 1.14.0 (landing page) | Jovana Maksimovic | OK | OK | |||||||||
| 18/28 | proteomics 1.14.0 (landing page) | Laurent Gatto | OK | OK | |||||||||
| 19/28 | recountWorkflow 1.14.1 (landing page) | Leonardo Collado-Torres | OK | OK | |||||||||
| 20/28 | RNAseq123 1.14.2 (landing page) | Matthew Ritchie | OK | OK | |||||||||
| 21/28 | rnaseqDTU 1.10.0 (landing page) | Michael Love | OK | OK | |||||||||
| 22/28 | rnaseqGene 1.14.0 (landing page) | Michael Love | OK | OK | |||||||||
| 23/28 | RnaSeqGeneEdgeRQL 1.14.0 (landing page) | Yunshun Chen | OK | OK | |||||||||
| 24/28 | sequencing 1.14.0 (landing page) | Bioconductor Package Maintainer | OK | OK | |||||||||
| 25/28 | simpleSingleCell 1.14.0 (landing page) | Aaron Lun | OK | OK | |||||||||
| 26/28 | SingscoreAMLMutations 1.6.0 (landing page) | Dharmesh D. Bhuva | OK | OK | |||||||||
| 27/28 | TCGAWorkflow 1.14.1 (landing page) | Tiago Chedraoui Silva | OK | OK | |||||||||
| 28/28 | variants 1.14.0 (landing page) | Bioconductor Package Maintainer | OK | ERROR | |||||||||