| Back to Workflows build report for BioC 3.12 |
This page was generated on 2021-05-07 15:45:15 -0400 (Fri, 07 May 2021).
|
To the developers/maintainers of the cytofWorkflow package: Please make sure to use the following settings in order to reproduce any error or warning you see on this page. |
| Package 8/28 | Hostname | OS / Arch | INSTALL | BUILD | ||||||||
| cytofWorkflow 1.14.0 (landing page) Mark D. Robinson
| malbec1 | Linux (Ubuntu 18.04.5 LTS) / x86_64 | OK | OK | ||||||||
| Package: cytofWorkflow |
| Version: 1.14.0 |
| Command: /home/biocbuild/bbs-3.12-bioc/R/bin/R CMD build --keep-empty-dirs --no-resave-data cytofWorkflow |
| StartedAt: 2021-05-07 09:10:21 -0400 (Fri, 07 May 2021) |
| EndedAt: 2021-05-07 09:17:03 -0400 (Fri, 07 May 2021) |
| EllapsedTime: 402.4 seconds |
| RetCode: 0 |
| Status: OK |
| PackageFile: cytofWorkflow_1.14.0.tar.gz |
| PackageFileSize: 5.873 MiB |
############################################################################## ############################################################################## ### ### Running command: ### ### /home/biocbuild/bbs-3.12-bioc/R/bin/R CMD build --keep-empty-dirs --no-resave-data cytofWorkflow ### ############################################################################## ############################################################################## * checking for file ‘cytofWorkflow/DESCRIPTION’ ... OK * preparing ‘cytofWorkflow’: * checking DESCRIPTION meta-information ... OK * installing the package to build vignettes * creating vignettes ... OK * checking for LF line-endings in source and make files and shell scripts * checking for empty or unneeded directories * building ‘cytofWorkflow_1.14.0.tar.gz’