| Back to Multiple platform build/check report for BioC 3.12 |
|
This page was generated on 2021-05-06 12:34:12 -0400 (Thu, 06 May 2021).
|
To the developers/maintainers of the wpm package: Please make sure to use the following settings in order to reproduce any error or warning you see on this page. |
| Package 1956/1974 | Hostname | OS / Arch | INSTALL | BUILD | CHECK | BUILD BIN | ||||||||
| wpm 1.0.0 (landing page) Helene Borges
| malbec1 | Linux (Ubuntu 18.04.5 LTS) / x86_64 | OK | OK | OK | |||||||||
| tokay1 | Windows Server 2012 R2 Standard / x64 | OK | OK | OK | OK | |||||||||
| merida1 | macOS 10.14.6 Mojave / x86_64 | OK | OK | OK | OK | |||||||||
| Package: wpm |
| Version: 1.0.0 |
| Command: rm -rf wpm.buildbin-libdir && mkdir wpm.buildbin-libdir && C:\Users\biocbuild\bbs-3.12-bioc\R\bin\R.exe CMD INSTALL --merge-multiarch --build --library=wpm.buildbin-libdir wpm_1.0.0.tar.gz |
| StartedAt: 2021-05-06 10:21:39 -0400 (Thu, 06 May 2021) |
| EndedAt: 2021-05-06 10:22:01 -0400 (Thu, 06 May 2021) |
| EllapsedTime: 21.4 seconds |
| RetCode: 0 |
| Status: OK |
| PackageFile: wpm_1.0.0.zip |
| PackageFileSize: 1.734 MiB |
##############################################################################
##############################################################################
###
### Running command:
###
### rm -rf wpm.buildbin-libdir && mkdir wpm.buildbin-libdir && C:\Users\biocbuild\bbs-3.12-bioc\R\bin\R.exe CMD INSTALL --merge-multiarch --build --library=wpm.buildbin-libdir wpm_1.0.0.tar.gz
###
##############################################################################
##############################################################################
install for i386
* installing *source* package 'wpm' ...
** using staged installation
** R
** inst
** byte-compile and prepare package for lazy loading
** help
*** installing help indices
converting help for package 'wpm'
finding HTML links ... done
backtracking html
balancedGrpDistrib html
checkConstraints html
checkWpmInputs html
convertCSV html
convertESet html
convertSE html
convertVector2Df html
defineBufferCoords html
drawMap html
findNEWSneighbors html
findNSneighbors html
findWEneighbors html
generateMap html
joinDataframes html
randomWalk html
resample html
solveCell html
wpm html
wrapperWPM html
** building package indices
** installing vignettes
** testing if installed package can be loaded from temporary location
-- This is the Well-Plate Maker package. ---------------------------------------
If you want to use the shiny application, then simply run: `wpm()`.If you want
to see the Tutorial vignette and use WPM in command line, run:
`browseVignettes('wpm')`.
** testing if installed package can be loaded from final location
-- This is the Well-Plate Maker package. ---------------------------------------
If you want to use the shiny application, then simply run: `wpm()`.If you want
to see the Tutorial vignette and use WPM in command line, run:
`browseVignettes('wpm')`.
** testing if installed package keeps a record of temporary installation path
install for x64
* installing *source* package 'wpm' ...
** testing if installed package can be loaded
-- This is the Well-Plate Maker package. ---------------------------------------
If you want to use the shiny application, then simply run: `wpm()`.If you want
to see the Tutorial vignette and use WPM in command line, run:
`browseVignettes('wpm')`.
* MD5 sums
packaged installation of 'wpm' as wpm_1.0.0.zip
* DONE (wpm)