| Back to Multiple platform build/check report for BioC 3.12 |
|
This page was generated on 2021-05-06 12:29:40 -0400 (Thu, 06 May 2021).
|
To the developers/maintainers of the wpm package: Please make sure to use the following settings in order to reproduce any error or warning you see on this page. |
| Package 1956/1974 | Hostname | OS / Arch | INSTALL | BUILD | CHECK | BUILD BIN | ||||||||
| wpm 1.0.0 (landing page) Helene Borges
| malbec1 | Linux (Ubuntu 18.04.5 LTS) / x86_64 | OK | OK | OK | |||||||||
| tokay1 | Windows Server 2012 R2 Standard / x64 | OK | OK | OK | OK | |||||||||
| merida1 | macOS 10.14.6 Mojave / x86_64 | OK | OK | OK | OK | |||||||||
| Package: wpm |
| Version: 1.0.0 |
| Command: /home/biocbuild/bbs-3.12-bioc/R/bin/R CMD INSTALL wpm |
| StartedAt: 2021-05-05 16:59:52 -0400 (Wed, 05 May 2021) |
| EndedAt: 2021-05-05 16:59:56 -0400 (Wed, 05 May 2021) |
| EllapsedTime: 4.0 seconds |
| RetCode: 0 |
| Status: OK |
##############################################################################
##############################################################################
###
### Running command:
###
### /home/biocbuild/bbs-3.12-bioc/R/bin/R CMD INSTALL wpm
###
##############################################################################
##############################################################################
* installing to library ‘/home/biocbuild/bbs-3.12-bioc/R/library’
* installing *source* package ‘wpm’ ...
** using staged installation
** R
** inst
** byte-compile and prepare package for lazy loading
** help
*** installing help indices
** building package indices
** installing vignettes
** testing if installed package can be loaded from temporary location
── This is the Well-Plate Maker package. ───────────────────────────────────────
If you want to use the shiny application, then simply run: `wpm()`.If you want
to see the Tutorial vignette and use WPM in command line, run:
`browseVignettes('wpm')`.
** testing if installed package can be loaded from final location
── This is the Well-Plate Maker package. ───────────────────────────────────────
If you want to use the shiny application, then simply run: `wpm()`.If you want
to see the Tutorial vignette and use WPM in command line, run:
`browseVignettes('wpm')`.
** testing if installed package keeps a record of temporary installation path
* DONE (wpm)