| Back to Multiple platform build/check report for BioC 3.12 |
|
This page was generated on 2021-05-06 12:34:11 -0400 (Thu, 06 May 2021).
|
To the developers/maintainers of the wateRmelon package: Please make sure to use the following settings in order to reproduce any error or warning you see on this page. |
| Package 1949/1974 | Hostname | OS / Arch | INSTALL | BUILD | CHECK | BUILD BIN | ||||||||
| wateRmelon 1.34.0 (landing page) Leo
| malbec1 | Linux (Ubuntu 18.04.5 LTS) / x86_64 | OK | OK | OK | |||||||||
| tokay1 | Windows Server 2012 R2 Standard / x64 | OK | OK | OK | OK | |||||||||
| merida1 | macOS 10.14.6 Mojave / x86_64 | OK | OK | OK | OK | |||||||||
| Package: wateRmelon |
| Version: 1.34.0 |
| Command: rm -rf wateRmelon.buildbin-libdir && mkdir wateRmelon.buildbin-libdir && C:\Users\biocbuild\bbs-3.12-bioc\R\bin\R.exe CMD INSTALL --merge-multiarch --build --library=wateRmelon.buildbin-libdir wateRmelon_1.34.0.tar.gz |
| StartedAt: 2021-05-06 10:21:14 -0400 (Thu, 06 May 2021) |
| EndedAt: 2021-05-06 10:22:44 -0400 (Thu, 06 May 2021) |
| EllapsedTime: 89.6 seconds |
| RetCode: 0 |
| Status: OK |
| PackageFile: wateRmelon_1.34.0.zip |
| PackageFileSize: 1.417 MiB |
##############################################################################
##############################################################################
###
### Running command:
###
### rm -rf wateRmelon.buildbin-libdir && mkdir wateRmelon.buildbin-libdir && C:\Users\biocbuild\bbs-3.12-bioc\R\bin\R.exe CMD INSTALL --merge-multiarch --build --library=wateRmelon.buildbin-libdir wateRmelon_1.34.0.tar.gz
###
##############################################################################
##############################################################################
install for i386
* installing *source* package 'wateRmelon' ...
** using staged installation
** R
** data
** inst
** byte-compile and prepare package for lazy loading
No methods found in package 'RSQLite' for request: 'dbListFields' when loading 'lumi'
Creating a generic function from function 'as.methylumi' in package 'wateRmelon'
** help
*** installing help indices
converting help for package 'wateRmelon'
finding HTML links ... done
BMIQ html
Beta2M html
adaptRefQuantiles html
agep html
as.methylumi-methods html
beadc html
beadcount html
bscon html
colnames-methods html
combo html
dasen-MethyLumiSet html
dasen-MethySet html
dasen-exprmethy450 html
dasen html
db1 html
dmrse-methods html
dmrse html
estimateCellCounts.wmln html
genki-methods html
genki html
genkme html
got html
iDMR html
melon html
metrics html
outlyx-methods html
outlyx html
pfilter html
predictSex html
pwod-methods html
pwod html
qual html
readEPIC html
seabi-methods html
seabi html
seabird html
sextest html
wateRmelon-package html
wm_internal html
** building package indices
** installing vignettes
** testing if installed package can be loaded from temporary location
No methods found in package 'RSQLite' for request: 'dbListFields' when loading 'lumi'
** testing if installed package can be loaded from final location
No methods found in package 'RSQLite' for request: 'dbListFields' when loading 'lumi'
** testing if installed package keeps a record of temporary installation path
install for x64
* installing *source* package 'wateRmelon' ...
** testing if installed package can be loaded
No methods found in package 'RSQLite' for request: 'dbListFields' when loading 'lumi'
* MD5 sums
packaged installation of 'wateRmelon' as wateRmelon_1.34.0.zip
* DONE (wateRmelon)