| Back to Multiple platform build/check report for BioC 3.12 |
|
This page was generated on 2021-05-06 12:37:20 -0400 (Thu, 06 May 2021).
|
To the developers/maintainers of the wateRmelon package: Please make sure to use the following settings in order to reproduce any error or warning you see on this page. |
| Package 1949/1974 | Hostname | OS / Arch | INSTALL | BUILD | CHECK | BUILD BIN | ||||||||
| wateRmelon 1.34.0 (landing page) Leo
| malbec1 | Linux (Ubuntu 18.04.5 LTS) / x86_64 | OK | OK | OK | |||||||||
| tokay1 | Windows Server 2012 R2 Standard / x64 | OK | OK | OK | OK | |||||||||
| merida1 | macOS 10.14.6 Mojave / x86_64 | OK | OK | OK | OK | |||||||||
| Package: wateRmelon |
| Version: 1.34.0 |
| Command: /Library/Frameworks/R.framework/Versions/Current/Resources/bin/R CMD build --keep-empty-dirs --no-resave-data wateRmelon |
| StartedAt: 2021-05-05 22:49:10 -0400 (Wed, 05 May 2021) |
| EndedAt: 2021-05-05 22:51:22 -0400 (Wed, 05 May 2021) |
| EllapsedTime: 132.1 seconds |
| RetCode: 0 |
| Status: OK |
| PackageFile: wateRmelon_1.34.0.tar.gz |
| PackageFileSize: 1.065 MiB |
##############################################################################
##############################################################################
###
### Running command:
###
### /Library/Frameworks/R.framework/Versions/Current/Resources/bin/R CMD build --keep-empty-dirs --no-resave-data wateRmelon
###
##############################################################################
##############################################################################
* checking for file ‘wateRmelon/DESCRIPTION’ ... OK
* preparing ‘wateRmelon’:
* checking DESCRIPTION meta-information ... OK
* installing the package to build vignettes
* creating vignettes ... OK
Warning: ‘inst/doc’ file
‘wateRmelon.pdf’
ignored as vignettes have been rebuilt.
Run R CMD build with --no-build-vignettes to prevent rebuilding.
* checking for LF line-endings in source and make files and shell scripts
* checking for empty or unneeded directories
* looking to see if a ‘data/datalist’ file should be added
* building ‘wateRmelon_1.34.0.tar.gz’