| Back to Multiple platform build/check report for BioC 3.12 |
|
This page was generated on 2021-05-06 12:34:00 -0400 (Thu, 06 May 2021).
|
To the developers/maintainers of the tomoda package: Please make sure to use the following settings in order to reproduce any error or warning you see on this page. |
| Package 1875/1974 | Hostname | OS / Arch | INSTALL | BUILD | CHECK | BUILD BIN | ||||||||
| tomoda 1.0.0 (landing page) Wendao Liu
| malbec1 | Linux (Ubuntu 18.04.5 LTS) / x86_64 | OK | OK | OK | |||||||||
| tokay1 | Windows Server 2012 R2 Standard / x64 | OK | OK | OK | OK | |||||||||
| merida1 | macOS 10.14.6 Mojave / x86_64 | OK | OK | OK | OK | |||||||||
| Package: tomoda |
| Version: 1.0.0 |
| Command: chmod a+r tomoda -R && C:\Users\biocbuild\bbs-3.12-bioc\R\bin\R.exe CMD build --keep-empty-dirs --no-resave-data tomoda |
| StartedAt: 2021-05-05 23:53:31 -0400 (Wed, 05 May 2021) |
| EndedAt: 2021-05-05 23:54:58 -0400 (Wed, 05 May 2021) |
| EllapsedTime: 86.8 seconds |
| RetCode: 0 |
| Status: OK |
| PackageFile: tomoda_1.0.0.tar.gz |
| PackageFileSize: 1.899 MiB |
############################################################################## ############################################################################## ### ### Running command: ### ### chmod a+r tomoda -R && C:\Users\biocbuild\bbs-3.12-bioc\R\bin\R.exe CMD build --keep-empty-dirs --no-resave-data tomoda ### ############################################################################## ############################################################################## * checking for file 'tomoda/DESCRIPTION' ... OK * preparing 'tomoda': * checking DESCRIPTION meta-information ... OK * installing the package to build vignettes * creating vignettes ... OK * checking for LF line-endings in source and make files and shell scripts * checking for empty or unneeded directories * looking to see if a 'data/datalist' file should be added * building 'tomoda_1.0.0.tar.gz'